{"text_format":"1","workbook":"xlsx","n_sheets":10,"sheets":["Basisgeg.","Boekingslijst","Factuur invoer","Debiteuren","Maandoverzicht","Jaaroverzicht","Factuur","Afdruk boekingen","Factuurlijst","Buffer"],"not_rendered":{"charts":0,"images":1,"macros":1,"external_links":0,"defined_names":19,"comments":5,"pivot_tables":0},"unopened":[],"bounds":{"document_bytes":16777216,"sheet_cells":100000,"rows_first":2000,"rows_last":500,"rows_between":2000,"halvings":0,"cell_chars":16384,"cell_head_chars":4096},"cells_cut":0,"cells_raw":0,"read":"whole","date_system":"1900"}

{"sheet":"Basisgeg.","index":0,"n_rows":42,"n_cols":13,"rows_kept":42,"cut":false,"hidden":false,"merged":[[41,10,41,12],[5,1,5,2],[5,3,5,4],[23,1,32,1],[12,1,21,1],[34,1,34,2]]}
[]
[]
[]
[]
[]
[null,"Uitgangsgegevens",null,"Contactgegevens"]
[null,"Naam onderneming",null,null,"Adres"]
[null,"Jaar boekhouding",null,null,"Postcode"]
[null,"Rekeningnummer",null,null,"Plaats"]
[null,"Tenaamstelling",null,null,"Tel."]
[null,"Fiscaal nummer op factuur",null,null,"Website"]
[]
[null,"Soorten inkomsten (Max. 10)",null,null,null,"Voeg hier de Uitgangsgegevens in:"]
[null,null,null,null,null,">Naam"]
[null,null,null,null,null,">Boekjaar"]
[null,null,null,null,null,">Inkomstencategorieën"]
[null,null,null,null,null,">Kostencategorieën"]
[null,null,null,null,null,">Btw tarieven"]
[null,null,null,null,null,">Inkomstenbelastingschijven voor het boekjaar (te vinden op www.belastingdienst.nl)"]
[null,null,null,null,null,"Alleen de witte velden wijzigen!"]
[]
[null,null,null,null,null,"Maak regelmatig een backup vanuit de boekingslijst via de knop BACK UP."]
[null,null,null,null,null,"De backup versie wordt opgeslagen in het bestand boekbackup.XLS in de werkdirectory."]
[null,"Soorten uitgaven (Max. 10)"]
[]
[]
[]
[]
[]
[]
[]
[]
[]
[]
[null,"BTW"]
[null,"BTW hoog",0.21]
[null,"BTW laag",0.06]
[null,"BTW nul",0]
[]
[null,"Tariefgroepen IB","Van","Tot","Tarief"]
[null,"Schijf 1",0,73032,0.36930000000000002,null,null,null,null,null,null,null,"Voor meer informatie over boekhouden, zie:"]
[null,"Schijf 2",{"$f":"D41","v":73032},null,0.495,null,null,null,null,null,"www.ondernemeneninternet.nl"]

{"sheet":"Boekingslijst","index":1,"n_rows":27100,"n_cols":43,"rows_kept":4500,"cut":true,"hidden":false,"merged":[[0,1,1,4]],"bounds":{"rows_first":2000,"rows_last":500,"rows_between":2000,"halvings":0}}
[null,{"$f":"IF(Basisgeg.!C7=\"\",\"\",Basisgeg.!C7)","v":""}]
[]
[null,null,"===>","JAAR",{"$f":"IF(Basisgeg.!C8=\"\",\"\",Basisgeg.!C8)","v":""}]
[null,"Nr.","Datum","Omschrijving","Soort ink.","Soort uitg.","BTW %","Inkomsten","Uitgaven","Valid","Omzetbel.","Voorhef.","Ink. netto","Uitg. netto","Mnd",null,"Soorten inkomsten",null,"Soorten uitgaven",null,null,null,null,null,null,null,"Maand","Inkomsten","Ink soort","BTW hg","BTW lg","Uitgaven","Uit soort","BTW",null,"Maand","Inkomsten","Ink soort","BTW hg","BTW lg","Uitgaven","Uit soort","BTW"]
[null,{"$f":"IF(C5=\"\",\"\",IF(B4=\"Nr.\",1,B4+1))","v":""},null,null,null,null,null,null,null,{"$f":"IF(B5=\"\",\"\",IF(AND(H5=\"\",I5=\"\"),\"\",IF(AND(E5<>\"\",F5<>\"\"),\"FOUT\",IF(AND(E5=\"\",H5<>\"\"),\"FOUT\",IF(AND(F5=\"\",I5<>\"\"),\"FOUT\",IF(G5=\"\",\"BTW ?\",\"OK\"))))))","v":""},{"$f":"IF(H5=\"\",\"\",(H5/((1+$G5)*100))*($G5*100))","v":""},{"$f":"IF(I5=\"\",\"\",(I5/((1+$G5)*100))*($G5*100))","v":""},{"$f":"IF(H5=\"\",\"\",+H5-K5)","v":""},{"$f":"IF(I5=\"\",\"\",+I5-L5)","v":""},{"$f":"IF(C5=\"\",\"\",MONTH(C5))","v":""},null,{"$f":"IF(Basisgeg.!C13=\"\",\"\",Basisgeg.!C13)","v":""},null,{"$f":"IF(Basisgeg.!C24=\"\",\"\",Basisgeg.!C24)","v":""},null,null,null,null,null,null,null,{"$f":"IF(C5<>\"\",MONTH(C5),\"\")","v":""},{"$f":"+H5","v":0},{"$f":"E5","v":0},{"$f":"IF(G5=Basisgeg.!$C$36,AB5-AB5/(1+Basisgeg.!$C$36),\"\")","v":""},{"$f":"IF(G5=Basisgeg.!$C$37,AB5-AB5/(1+Basisgeg.!$C$37),\"\")","v":""},{"$f":"I5","v":0},{"$f":"F5","v":0},{"$f":"L5","v":""},null,{"$f":"Maandoverzicht!D14","v":6},{"$f":"IF($AA5=$AJ$5,AB5,\"\")","v":""},"","","","","",""]
[null,"",null,null,null,null,null,null,null,{"$f":"IF(B6=\"\",\"\",IF(AND(H6=\"\",I6=\"\"),\"\",IF(AND(E6<>\"\",F6<>\"\"),\"FOUT\",IF(AND(E6=\"\",H6<>\"\"),\"FOUT\",IF(AND(F6=\"\",I6<>\"\"),\"FOUT\",IF(G6=\"\",\"BTW ?\",\"OK\"))))))","v":""},{"$f":"IF(H6=\"\",\"\",(H6/((1+$G6)*100))*($G6*100))","v":""},{"$f":"IF(I6=\"\",\"\",(I6/((1+$G6)*100))*($G6*100))","v":""},{"$f":"IF(H6=\"\",\"\",+H6-K6)","v":""},{"$f":"IF(I6=\"\",\"\",+I6-L6)","v":""},{"$f":"IF(C6=\"\",\"\",MONTH(C6))","v":""},null,{"$f":"IF(Basisgeg.!C14=\"\",\"\",Basisgeg.!C14)","v":""},null,{"$f":"IF(Basisgeg.!C25=\"\",\"\",Basisgeg.!C25)","v":""},null,null,null,null,null,null,null,"",0,0,{"$f":"IF(G6=Basisgeg.!$C$36,AB6-AB6/(1+Basisgeg.!$C$36),\"\")","v":""},{"$f":"IF(G6=Basisgeg.!$C$37,AB6-AB6/(1+Basisgeg.!$C$37),\"\")","v":""},0,0,"",null,null,{"$f":"IF($AA6=$AJ$5,AB6,\"\")","v":""},{"$f":"IF($AA6=$AJ$5,AC6,\"\")","v":""},{"$f":"IF($AA6=$AJ$5,AD6,\"\")","v":""},{"$f":"IF($AA6=$AJ$5,AE6,\"\")","v":""},{"$f":"IF($AA6=$AJ$5,AF6,\"\")","v":""},{"$f":"IF($AA6=$AJ$5,AG6,\"\")","v":""},{"$f":"IF($AA6=$AJ$5,AH6,\"\")","v":""}]
[null,"",null,null,null,null,null,null,null,"","","","","","",null,{"$f":"IF(Basisgeg.!C15=\"\",\"\",Basisgeg.!C15)","v":""},null,{"$f":"IF(Basisgeg.!C26=\"\",\"\",Basisgeg.!C26)","v":""},null,null,null,null,null,null,null,"",0,0,{"$f":"IF(G7=Basisgeg.!$C$36,AB7-AB7/(1+Basisgeg.!$C$36),\"\")","v":""},{"$f":"IF(G7=Basisgeg.!$C$37,AB7-AB7/(1+Basisgeg.!$C$37),\"\")","v":""},0,0,"",null,null,"","","","","","",""]
[null,"",null,null,null,null,null,null,null,"","","","","","",null,{"$f":"IF(Basisgeg.!C16=\"\",\"\",Basisgeg.!C16)","v":""},null,{"$f":"IF(Basisgeg.!C27=\"\",\"\",Basisgeg.!C27)","v":""},null,null,null,null,null,null,null,"",0,0,{"$f":"IF(G8=Basisgeg.!$C$36,AB8-AB8/(1+Basisgeg.!$C$36),\"\")","v":""},{"$f":"IF(G8=Basisgeg.!$C$37,AB8-AB8/(1+Basisgeg.!$C$37),\"\")","v":""},0,0,"",null,null,"","","","","","",""]
[null,"",null,null,null,null,null,null,null,"","","","","","",null,{"$f":"IF(Basisgeg.!C17=\"\",\"\",Basisgeg.!C17)","v":""},null,{"$f":"IF(Basisgeg.!C28=\"\",\"\",Basisgeg.!C28)","v":""},null,null,null,null,null,null,null,"",0,0,{"$f":"IF(G9=Basisgeg.!$C$36,AB9-AB9/(1+Basisgeg.!$C$36),\"\")","v":""},{"$f":"IF(G9=Basisgeg.!$C$37,AB9-AB9/(1+Basisgeg.!$C$37),\"\")","v":""},0,0,"",null,null,"","","","","","",""]
[null,"",null,null,null,null,null,null,null,"","","","","","",null,{"$f":"IF(Basisgeg.!C18=\"\",\"\",Basisgeg.!C18)","v":""},null,{"$f":"IF(Basisgeg.!C29=\"\",\"\",Basisgeg.!C29)","v":""},null,null,null,null,null,null,null,"",0,0,{"$f":"IF(G10=Basisgeg.!$C$36,AB10-AB10/(1+Basisgeg.!$C$36),\"\")","v":""},{"$f":"IF(G10=Basisgeg.!$C$37,AB10-AB10/(1+Basisgeg.!$C$37),\"\")","v":""},0,0,"",null,null,"","","","","","",""]
[null,"",null,null,null,null,null,null,null,"","","","","","",null,{"$f":"IF(Basisgeg.!C19=\"\",\"\",Basisgeg.!C19)","v":""},null,{"$f":"IF(Basisgeg.!C30=\"\",\"\",Basisgeg.!C30)","v":""},null,null,null,null,null,null,null,"",0,0,{"$f":"IF(G11=Basisgeg.!$C$36,AB11-AB11/(1+Basisgeg.!$C$36),\"\")","v":""},{"$f":"IF(G11=Basisgeg.!$C$37,AB11-AB11/(1+Basisgeg.!$C$37),\"\")","v":""},0,0,"",null,null,"","","","","","",""]
[null,"",null,null,null,null,null,null,null,"","","","","","",null,{"$f":"IF(Basisgeg.!C20=\"\",\"\",Basisgeg.!C20)","v":""},null,{"$f":"IF(Basisgeg.!C31=\"\",\"\",Basisgeg.!C31)","v":""},null,null,null,null,null,null,null,"",0,0,{"$f":"IF(G12=Basisgeg.!$C$36,AB12-AB12/(1+Basisgeg.!$C$36),\"\")","v":""},{"$f":"IF(G12=Basisgeg.!$C$37,AB12-AB12/(1+Basisgeg.!$C$37),\"\")","v":""},0,0,"",null,null,"","","","","","",""]
[null,"",null,null,null,null,null,null,null,"","","","","","",null,{"$f":"IF(Basisgeg.!C21=\"\",\"\",Basisgeg.!C21)","v":""},null,{"$f":"IF(Basisgeg.!C32=\"\",\"\",Basisgeg.!C32)","v":""},null,null,null,null,null,null,null,"",0,0,{"$f":"IF(G13=Basisgeg.!$C$36,AB13-AB13/(1+Basisgeg.!$C$36),\"\")","v":""},{"$f":"IF(G13=Basisgeg.!$C$37,AB13-AB13/(1+Basisgeg.!$C$37),\"\")","v":""},0,0,"",null,null,"","","","","","",""]
[null,"",null,null,null,null,null,null,null,"","","","","","",null,{"$f":"IF(Basisgeg.!C22=\"\",\"\",Basisgeg.!C22)","v":""},null,{"$f":"IF(Basisgeg.!C33=\"\",\"\",Basisgeg.!C33)","v":""},null,null,null,null,null,null,null,"",0,0,{"$f":"IF(G14=Basisgeg.!$C$36,AB14-AB14/(1+Basisgeg.!$C$36),\"\")","v":""},{"$f":"IF(G14=Basisgeg.!$C$37,AB14-AB14/(1+Basisgeg.!$C$37),\"\")","v":""},0,0,"",null,null,"","","","","","",""]
[null,"",null,null,null,null,null,null,null,"","","","","","",null,null,null,null,null,null,null,null,null,null,null,"",0,0,{"$f":"IF(G15=Basisgeg.!$C$36,AB15-AB15/(1+Basisgeg.!$C$36),\"\")","v":""},{"$f":"IF(G15=Basisgeg.!$C$37,AB15-AB15/(1+Basisgeg.!$C$37),\"\")","v":""},0,0,"",null,null,"","","","","","",""]
[null,"",null,null,null,null,null,null,null,"","","","","","",null,null,null,null,null,null,null,null,null,null,null,"",0,0,{"$f":"IF(G16=Basisgeg.!$C$36,AB16-AB16/(1+Basisgeg.!$C$36),\"\")","v":""},{"$f":"IF(G16=Basisgeg.!$C$37,AB16-AB16/(1+Basisgeg.!$C$37),\"\")","v":""},0,0,"",null,null,"","","","","","",""]
[null,"",null,null,null,null,null,null,null,"","","","","","",null,null,null,null,null,null,null,null,null,null,null,"",0,0,{"$f":"IF(G17=Basisgeg.!$C$36,AB17-AB17/(1+Basisgeg.!$C$36),\"\")","v":""},{"$f":"IF(G17=Basisgeg.!$C$37,AB17-AB17/(1+Basisgeg.!$C$37),\"\")","v":""},0,0,"",null,null,"","","","","","",""]
[null,"",null,null,null,null,null,null,null,"","","","","","",null,null,null,null,null,null,null,null,null,null,null,"",0,0,{"$f":"IF(G18=Basisgeg.!$C$36,AB18-AB18/(1+Basisgeg.!$C$36),\"\")","v":""},{"$f":"IF(G18=Basisgeg.!$C$37,AB18-AB18/(1+Basisgeg.!$C$37),\"\")","v":""},0,0,"",null,null,"","","","","","",""]
[null,"",null,null,null,null,null,null,null,"","","","","","",null,null,null,null,null,null,null,null,null,null,null,"",0,0,{"$f":"IF(G19=Basisgeg.!$C$36,AB19-AB19/(1+Basisgeg.!$C$36),\"\")","v":""},{"$f":"IF(G19=Basisgeg.!$C$37,AB19-AB19/(1+Basisgeg.!$C$37),\"\")","v":""},0,0,"",null,null,"","","","","","",""]
[null,"",null,null,null,null,null,null,null,"","","","","","",null,null,null,null,null,null,null,null,null,null,null,"",0,0,{"$f":"IF(G20=Basisgeg.!$C$36,AB20-AB20/(1+Basisgeg.!$C$36),\"\")","v":""},{"$f":"IF(G20=Basisgeg.!$C$37,AB20-AB20/(1+Basisgeg.!$C$37),\"\")","v":""},0,0,"",null,null,"","","","","","",""]
[null,"",null,null,null,null,null,null,null,"","","","","","",null,null,null,null,null,null,null,null,null,null,null,"",0,0,{"$f":"IF(G21=Basisgeg.!$C$36,AB21-AB21/(1+Basisgeg.!$C$36),\"\")","v":""},{"$f":"IF(G21=Basisgeg.!$C$37,AB21-AB21/(1+Basisgeg.!$C$37),\"\")","v":""},0,0,"",null,null,"","","","","","",""]
[null,"",null,null,null,null,null,null,null,"","","","","","",null,null,null,null,null,null,null,null,null,null,null,"",0,0,{"$f":"IF(G22=Basisgeg.!$C$36,AB22-AB22/(1+Basisgeg.!$C$36),\"\")","v":""},{"$f":"IF(G22=Basisgeg.!$C$37,AB22-AB22/(1+Basisgeg.!$C$37),\"\")","v":""},0,0,"",null,null,"","","","","","",""]
[null,"",null,null,null,null,null,null,null,"","","","","","",null,null,null,null,null,null,null,null,null,null,null,"",0,0,{"$f":"IF(G23=Basisgeg.!$C$36,AB23-AB23/(1+Basisgeg.!$C$36),\"\")","v":""},{"$f":"IF(G23=Basisgeg.!$C$37,AB23-AB23/(1+Basisgeg.!$C$37),\"\")","v":""},0,0,"",null,null,"","","","","","",""]
[null,"",null,null,null,null,null,null,null,"","","","","","",null,null,null,null,null,null,null,null,null,null,null,"",0,0,{"$f":"IF(G24=Basisgeg.!$C$36,AB24-AB24/(1+Basisgeg.!$C$36),\"\")","v":""},{"$f":"IF(G24=Basisgeg.!$C$37,AB24-AB24/(1+Basisgeg.!$C$37),\"\")","v":""},0,0,"",null,null,"","","","","","",""]
[null,"",null,null,null,null,null,null,null,"","","","","","",null,null,null,null,null,null,null,null,null,null,null,"",0,0,{"$f":"IF(G25=Basisgeg.!$C$36,AB25-AB25/(1+Basisgeg.!$C$36),\"\")","v":""},{"$f":"IF(G25=Basisgeg.!$C$37,AB25-AB25/(1+Basisgeg.!$C$37),\"\")","v":""},0,0,"",null,null,"","","","","","",""]
[null,"",null,null,null,null,null,null,null,"","","","","","",null,null,null,null,null,null,null,null,null,null,null,"",0,0,{"$f":"IF(G26=Basisgeg.!$C$36,AB26-AB26/(1+Basisgeg.!$C$36),\"\")","v":""},{"$f":"IF(G26=Basisgeg.!$C$37,AB26-AB26/(1+Basisgeg.!$C$37),\"\")","v":""},0,0,"",null,null,"","","","","","",""]
[null,"",null,null,null,null,null,null,null,"","","","","","",null,null,null,null,null,null,null,null,null,null,null,"",0,0,{"$f":"IF(G27=Basisgeg.!$C$36,AB27-AB27/(1+Basisgeg.!$C$36),\"\")","v":""},{"$f":"IF(G27=Basisgeg.!$C$37,AB27-AB27/(1+Basisgeg.!$C$37),\"\")","v":""},0,0,"",null,null,"","","","","","",""]
[null,"",null,null,null,null,null,null,null,"","","","","","",null,null,null,null,null,null,null,null,null,null,null,"",0,0,{"$f":"IF(G28=Basisgeg.!$C$36,AB28-AB28/(1+Basisgeg.!$C$36),\"\")","v":""},{"$f":"IF(G28=Basisgeg.!$C$37,AB28-AB28/(1+Basisgeg.!$C$37),\"\")","v":""},0,0,"",null,null,"","","","","","",""]
[null,"",null,null,null,null,null,null,null,"","","","","","",null,null,null,null,null,null,null,null,null,null,null,"",0,0,{"$f":"IF(G29=Basisgeg.!$C$36,AB29-AB29/(1+Basisgeg.!$C$36),\"\")","v":""},{"$f":"IF(G29=Basisgeg.!$C$37,AB29-AB29/(1+Basisgeg.!$C$37),\"\")","v":""},0,0,"",null,null,"","","","","","",""]
[null,"",null,null,null,null,null,null,null,"","","","","","",null,null,null,null,null,null,null,null,null,null,null,"",0,0,{"$f":"IF(G30=Basisgeg.!$C$36,AB30-AB30/(1+Basisgeg.!$C$36),\"\")","v":""},{"$f":"IF(G30=Basisgeg.!$C$37,AB30-AB30/(1+Basisgeg.!$C$37),\"\")","v":""},0,0,"",null,null,"","","","","","",""]
[null,"",null,null,null,null,null,null,null,"","","","","","",null,null,null,null,null,null,null,null,null,null,null,"",0,0,{"$f":"IF(G31=Basisgeg.!$C$36,AB31-AB31/(1+Basisgeg.!$C$36),\"\")","v":""},{"$f":"IF(G31=Basisgeg.!$C$37,AB31-AB31/(1+Basisgeg.!$C$37),\"\")","v":""},0,0,"",null,null,"","","","","","",""]
[null,"",null,null,null,null,null,null,null,"","","","","","",null,null,null,null,null,null,null,null,null,null,null,"",0,0,{"$f":"IF(G32=Basisgeg.!$C$36,AB32-AB32/(1+Basisgeg.!$C$36),\"\")","v":""},{"$f":"IF(G32=Basisgeg.!$C$37,AB32-AB32/(1+Basisgeg.!$C$37),\"\")","v":""},0,0,"",null,null,"","","","","","",""]
[null,"",null,null,null,null,null,null,null,"","","","","","",null,null,null,null,null,null,null,null,null,null,null,"",0,0,{"$f":"IF(G33=Basisgeg.!$C$36,AB33-AB33/(1+Basisgeg.!$C$36),\"\")","v":""},{"$f":"IF(G33=Basisgeg.!$C$37,AB33-AB33/(1+Basisgeg.!$C$37),\"\")","v":""},0,0,"",null,null,"","","","","","",""]
[null,"",null,null,null,null,null,null,null,"","","","","","",null,null,null,null,null,null,null,null,null,null,null,"",0,0,{"$f":"IF(G34=Basisgeg.!$C$36,AB34-AB34/(1+Basisgeg.!$C$36),\"\")","v":""},{"$f":"IF(G34=Basisgeg.!$C$37,AB34-AB34/(1+Basisgeg.!$C$37),\"\")","v":""},0,0,"",null,null,"","","","","","",""]
[null,"",null,null,null,null,null,null,null,"","","","","","",null,null,null,null,null,null,null,null,null,null,null,"",0,0,{"$f":"IF(G35=Basisgeg.!$C$36,AB35-AB35/(1+Basisgeg.!$C$36),\"\")","v":""},{"$f":"IF(G35=Basisgeg.!$C$37,AB35-AB35/(1+Basisgeg.!$C$37),\"\")","v":""},0,0,"",null,null,"","","","","","",""]
[null,"",null,null,null,null,null,null,null,"","","","","","",null,null,null,null,null,null,null,null,null,null,null,"",0,0,{"$f":"IF(G36=Basisgeg.!$C$36,AB36-AB36/(1+Basisgeg.!$C$36),\"\")","v":""},{"$f":"IF(G36=Basisgeg.!$C$37,AB36-AB36/(1+Basisgeg.!$C$37),\"\")","v":""},0,0,"",null,null,"","","","","","",""]
[null,"",null,null,null,null,null,null,null,"","","","","","",null,null,null,null,null,null,null,null,null,null,null,"",0,0,{"$f":"IF(G37=Basisgeg.!$C$36,AB37-AB37/(1+Basisgeg.!$C$36),\"\")","v":""},{"$f":"IF(G37=Basisgeg.!$C$37,AB37-AB37/(1+Basisgeg.!$C$37),\"\")","v":""},0,0,"",null,null,"","","","","","",""]
[null,"",null,null,null,null,null,null,null,"","","","","","",null,null,null,null,null,null,null,null,null,null,null,"",0,0,{"$f":"IF(G38=Basisgeg.!$C$36,AB38-AB38/(1+Basisgeg.!$C$36),\"\")","v":""},{"$f":"IF(G38=Basisgeg.!$C$37,AB38-AB38/(1+Basisgeg.!$C$37),\"\")","v":""},0,0,"",null,null,"","","","","","",""]
[null,"",null,null,null,null,null,null,null,"","","","","","",null,null,null,null,null,null,null,null,null,null,null,"",0,0,{"$f":"IF(G39=Basisgeg.!$C$36,AB39-AB39/(1+Basisgeg.!$C$36),\"\")","v":""},{"$f":"IF(G39=Basisgeg.!$C$37,AB39-AB39/(1+Basisgeg.!$C$37),\"\")","v":""},0,0,"",null,null,"","","","","","",""]
[null,"",null,null,null,null,null,null,null,"","","","","","",null,null,null,null,null,null,null,null,null,null,null,"",0,0,{"$f":"IF(G40=Basisgeg.!$C$36,AB40-AB40/(1+Basisgeg.!$C$36),\"\")","v":""},{"$f":"IF(G40=Basisgeg.!$C$37,AB40-AB40/(1+Basisgeg.!$C$37),\"\")","v":""},0,0,"",null,null,"","","","","","",""]
[null,"",null,null,null,null,null,null,null,"","","","","","",null,null,null,null,null,null,null,null,null,null,null,"",0,0,{"$f":"IF(G41=Basisgeg.!$C$36,AB41-AB41/(1+Basisgeg.!$C$36),\"\")","v":""},{"$f":"IF(G41=Basisgeg.!$C$37,AB41-AB41/(1+Basisgeg.!$C$37),\"\")","v":""},0,0,"",null,null,"","","","","","",""]
[null,"",null,null,null,null,null,null,null,"","","","","","",null,null,null,null,null,null,null,null,null,null,null,"",0,0,{"$f":"IF(G42=Basisgeg.!$C$36,AB42-AB42/(1+Basisgeg.!$C$36),\"\")","v":""},{"$f":"IF(G42=Basisgeg.!$C$37,AB42-AB42/(1+Basisgeg.!$C$37),\"\")","v":""},0,0,"",null,null,"","","","","","",""]
[null,"",null,null,null,null,null,null,null,"","","","","","",null,null,null,null,null,null,null,null,null,null,null,"",0,0,{"$f":"IF(G43=Basisgeg.!$C$36,AB43-AB43/(1+Basisgeg.!$C$36),\"\")","v":""},{"$f":"IF(G43=Basisgeg.!$C$37,AB43-AB43/(1+Basisgeg.!$C$37),\"\")","v":""},0,0,"",null,null,"","","","","","",""]
[null,"",null,null,null,null,null,null,null,"","","","","","",null,null,null,null,null,null,null,null,null,null,null,"",0,0,{"$f":"IF(G44=Basisgeg.!$C$36,AB44-AB44/(1+Basisgeg.!$C$36),\"\")","v":""},{"$f":"IF(G44=Basisgeg.!$C$37,AB44-AB44/(1+Basisgeg.!$C$37),\"\")","v":""},0,0,"",null,null,"","","","","","",""]
[null,"",null,null,null,null,null,null,null,"","","","","","",null,null,null,null,null,null,null,null,null,null,null,"",0,0,{"$f":"IF(G45=Basisgeg.!$C$36,AB45-AB45/(1+Basisgeg.!$C$36),\"\")","v":""},{"$f":"IF(G45=Basisgeg.!$C$37,AB45-AB45/(1+Basisgeg.!$C$37),\"\")","v":""},0,0,"",null,null,"","","","","","",""]
[null,"",null,null,null,null,null,null,null,"","","","","","",null,null,null,null,null,null,null,null,null,null,null,"",0,0,{"$f":"IF(G46=Basisgeg.!$C$36,AB46-AB46/(1+Basisgeg.!$C$36),\"\")","v":""},{"$f":"IF(G46=Basisgeg.!$C$37,AB46-AB46/(1+Basisgeg.!$C$37),\"\")","v":""},0,0,"",null,null,"","","","","","",""]
[null,"",null,null,null,null,null,null,null,"","","","","","",null,null,null,null,null,null,null,null,null,null,null,"",0,0,{"$f":"IF(G47=Basisgeg.!$C$36,AB47-AB47/(1+Basisgeg.!$C$36),\"\")","v":""},{"$f":"IF(G47=Basisgeg.!$C$37,AB47-AB47/(1+Basisgeg.!$C$37),\"\")","v":""},0,0,"",null,null,"","","","","","",""]
[null,"",null,null,null,null,null,null,null,"","","","","","",null,null,null,null,null,null,null,null,null,null,null,"",0,0,{"$f":"IF(G48=Basisgeg.!$C$36,AB48-AB48/(1+Basisgeg.!$C$36),\"\")","v":""},{"$f":"IF(G48=Basisgeg.!$C$37,AB48-AB48/(1+Basisgeg.!$C$37),\"\")","v":""},0,0,"",null,null,"","","","","","",""]
[null,"",null,null,null,null,null,null,null,"","","","","","",null,null,null,null,null,null,null,null,null,null,null,"",0,0,{"$f":"IF(G49=Basisgeg.!$C$36,AB49-AB49/(1+Basisgeg.!$C$36),\"\")","v":""},{"$f":"IF(G49=Basisgeg.!$C$37,AB49-AB49/(1+Basisgeg.!$C$37),\"\")","v":""},0,0,"",null,null,"","","","","","",""]
[null,"",null,null,null,null,null,null,null,"","","","","","",null,null,null,null,null,null,null,null,null,null,null,"",0,0,{"$f":"IF(G50=Basisgeg.!$C$36,AB50-AB50/(1+Basisgeg.!$C$36),\"\")","v":""},{"$f":"IF(G50=Basisgeg.!$C$37,AB50-AB50/(1+Basisgeg.!$C$37),\"\")","v":""},0,0,"",null,null,"","","","","","",""]
[null,"",null,null,null,null,null,null,null,"","","","","","",null,null,null,null,null,null,null,null,null,null,null,"",0,0,{"$f":"IF(G51=Basisgeg.!$C$36,AB51-AB51/(1+Basisgeg.!$C$36),\"\")","v":""},{"$f":"IF(G51=Basisgeg.!$C$37,AB51-AB51/(1+Basisgeg.!$C$37),\"\")","v":""},0,0,"",null,null,"","","","","","",""]
[null,"",null,null,null,null,null,null,null,"","","","","","",null,null,null,null,null,null,null,null,null,null,null,"",0,0,{"$f":"IF(G52=Basisgeg.!$C$36,AB52-AB52/(1+Basisgeg.!$C$36),\"\")","v":""},{"$f":"IF(G52=Basisgeg.!$C$37,AB52-AB52/(1+Basisgeg.!$C$37),\"\")","v":""},0,0,"",null,null,"","","","","","",""]
[null,"",null,null,null,null,null,null,null,"","","","","","",null,null,null,null,null,null,null,null,null,null,null,"",0,0,{"$f":"IF(G53=Basisgeg.!$C$36,AB53-AB53/(1+Basisgeg.!$C$36),\"\")","v":""},{"$f":"IF(G53=Basisgeg.!$C$37,AB53-AB53/(1+Basisgeg.!$C$37),\"\")","v":""},0,0,"",null,null,"","","","","","",""]
[null,"",null,null,null,null,null,null,null,"","","","","","",null,null,null,null,null,null,null,null,null,null,null,"",0,0,{"$f":"IF(G54=Basisgeg.!$C$36,AB54-AB54/(1+Basisgeg.!$C$36),\"\")","v":""},{"$f":"IF(G54=Basisgeg.!$C$37,AB54-AB54/(1+Basisgeg.!$C$37),\"\")","v":""},0,0,"",null,null,"","","","","","",""]
[null,"",null,null,null,null,null,null,null,"","","","","","",null,null,null,null,null,null,null,null,null,null,null,"",0,0,{"$f":"IF(G55=Basisgeg.!$C$36,AB55-AB55/(1+Basisgeg.!$C$36),\"\")","v":""},{"$f":"IF(G55=Basisgeg.!$C$37,AB55-AB55/(1+Basisgeg.!$C$37),\"\")","v":""},0,0,"",null,null,"","","","","","",""]
[null,"",null,null,null,null,null,null,null,"","","","","","",null,null,null,null,null,null,null,null,null,null,null,"",0,0,{"$f":"IF(G56=Basisgeg.!$C$36,AB56-AB56/(1+Basisgeg.!$C$36),\"\")","v":""},{"$f":"IF(G56=Basisgeg.!$C$37,AB56-AB56/(1+Basisgeg.!$C$37),\"\")","v":""},0,0,"",null,null,"","","","","","",""]
[null,"",null,null,null,null,null,null,null,"","","","","","",null,null,null,null,null,null,null,null,null,null,null,"",0,0,{"$f":"IF(G57=Basisgeg.!$C$36,AB57-AB57/(1+Basisgeg.!$C$36),\"\")","v":""},{"$f":"IF(G57=Basisgeg.!$C$37,AB57-AB57/(1+Basisgeg.!$C$37),\"\")","v":""},0,0,"",null,null,"","","","","","",""]
[null,"",null,null,null,null,null,null,null,"","","","","","",null,null,null,null,null,null,null,null,null,null,null,"",0,0,{"$f":"IF(G58=Basisgeg.!$C$36,AB58-AB58/(1+Basisgeg.!$C$36),\"\")","v":""},{"$f":"IF(G58=Basisgeg.!$C$37,AB58-AB58/(1+Basisgeg.!$C$37),\"\")","v":""},0,0,"",null,null,"","","","","","",""]
[null,"",null,null,null,null,null,null,null,"","","","","","",null,null,null,null,null,null,null,null,null,null,null,"",0,0,{"$f":"IF(G59=Basisgeg.!$C$36,AB59-AB59/(1+Basisgeg.!$C$36),\"\")","v":""},{"$f":"IF(G59=Basisgeg.!$C$37,AB59-AB59/(1+Basisgeg.!$C$37),\"\")","v":""},0,0,"",null,null,"","","","","","",""]
[null,"",null,null,null,null,null,null,null,"","","","","","",null,null,null,null,null,null,null,null,null,null,null,"",0,0,{"$f":"IF(G60=Basisgeg.!$C$36,AB60-AB60/(1+Basisgeg.!$C$36),\"\")","v":""},{"$f":"IF(G60=Basisgeg.!$C$37,AB60-AB60/(1+Basisgeg.!$C$37),\"\")","v":""},0,0,"",null,null,"","","","","","",""]
[null,"",null,null,null,null,null,null,null,"","","","","","",null,null,null,null,null,null,null,null,null,null,null,"",0,0,{"$f":"IF(G61=Basisgeg.!$C$36,AB61-AB61/(1+Basisgeg.!$C$36),\"\")","v":""},{"$f":"IF(G61=Basisgeg.!$C$37,AB61-AB61/(1+Basisgeg.!$C$37),\"\")","v":""},0,0,"",null,null,"","","","","","",""]
[null,"",null,null,null,null,null,null,null,"","","","","","",null,null,null,null,null,null,null,null,null,null,null,"",0,0,{"$f":"IF(G62=Basisgeg.!$C$36,AB62-AB62/(1+Basisgeg.!$C$36),\"\")","v":""},{"$f":"IF(G62=Basisgeg.!$C$37,AB62-AB62/(1+Basisgeg.!$C$37),\"\")","v":""},0,0,"",null,null,"","","","","","",""]
[null,"",null,null,null,null,null,null,null,"","","","","","",null,null,null,null,null,null,null,null,null,null,null,"",0,0,{"$f":"IF(G63=Basisgeg.!$C$36,AB63-AB63/(1+Basisgeg.!$C$36),\"\")","v":""},{"$f":"IF(G63=Basisgeg.!$C$37,AB63-AB63/(1+Basisgeg.!$C$37),\"\")","v":""},0,0,"",null,null,"","","","","","",""]
[null,"",null,null,null,null,null,null,null,"","","","","","",null,null,null,null,null,null,null,null,null,null,null,"",0,0,{"$f":"IF(G64=Basisgeg.!$C$36,AB64-AB64/(1+Basisgeg.!$C$36),\"\")","v":""},{"$f":"IF(G64=Basisgeg.!$C$37,AB64-AB64/(1+Basisgeg.!$C$37),\"\")","v":""},0,0,"",null,null,"","","","","","",""]
[null,"",null,null,null,null,null,null,null,"","","","","","",null,null,null,null,null,null,null,null,null,null,null,"",0,0,{"$f":"IF(G65=Basisgeg.!$C$36,AB65-AB65/(1+Basisgeg.!$C$36),\"\")","v":""},{"$f":"IF(G65=Basisgeg.!$C$37,AB65-AB65/(1+Basisgeg.!$C$37),\"\")","v":""},0,0,"",null,null,"","","","","","",""]
[null,"",null,null,null,null,null,null,null,"","","","","","",null,null,null,null,null,null,null,null,null,null,null,"",0,0,{"$f":"IF(G66=Basisgeg.!$C$36,AB66-AB66/(1+Basisgeg.!$C$36),\"\")","v":""},{"$f":"IF(G66=Basisgeg.!$C$37,AB66-AB66/(1+Basisgeg.!$C$37),\"\")","v":""},0,0,"",null,null,"","","","","","",""]
[null,"",null,null,null,null,null,null,null,"","","","","","",null,null,null,null,null,null,null,null,null,null,null,"",0,0,{"$f":"IF(G67=Basisgeg.!$C$36,AB67-AB67/(1+Basisgeg.!$C$36),\"\")","v":""},{"$f":"IF(G67=Basisgeg.!$C$37,AB67-AB67/(1+Basisgeg.!$C$37),\"\")","v":""},0,0,"",null,null,"","","","","","",""]
[null,"",null,null,null,null,null,null,null,"","","","","","",null,null,null,null,null,null,null,null,null,null,null,"",0,0,{"$f":"IF(G68=Basisgeg.!$C$36,AB68-AB68/(1+Basisgeg.!$C$36),\"\")","v":""},{"$f":"IF(G68=Basisgeg.!$C$37,AB68-AB68/(1+Basisgeg.!$C$37),\"\")","v":""},0,0,"",null,null,"","","","","","",""]
[null,"",null,null,null,null,null,null,null,"","","","","","",null,null,null,null,null,null,null,null,null,null,null,{"$f":"IF(C69<>\"\",MONTH(C69),\"\")","v":""},{"$f":"+H69","v":0},{"$f":"E69","v":0},{"$f":"IF(G69=Basisgeg.!$C$36,AB69-AB69/(1+Basisgeg.!$C$36),\"\")","v":""},{"$f":"IF(G69=Basisgeg.!$C$37,AB69-AB69/(1+Basisgeg.!$C$37),\"\")","v":""},{"$f":"I69","v":0},{"$f":"F69","v":0},{"$f":"L69","v":""},null,null,"","","","","","",""]
[null,{"$f":"IF(C70=\"\",\"\",IF(B69=\"Nr.\",1,B69+1))","v":""},null,null,null,null,null,null,null,{"$f":"IF(B70=\"\",\"\",IF(AND(H70=\"\",I70=\"\"),\"\",IF(AND(E70<>\"\",F70<>\"\"),\"FOUT\",IF(AND(E70=\"\",H70<>\"\"),\"FOUT\",IF(AND(F70=\"\",I70<>\"\"),\"FOUT\",IF(G70=\"\",\"BTW ?\",\"OK\"))))))","v":""},{"$f":"IF(H70=\"\",\"\",(H70/((1+$G70)*100))*($G70*100))","v":""},{"$f":"IF(I70=\"\",\"\",(I70/((1+$G70)*100))*($G70*100))","v":""},{"$f":"IF(H70=\"\",\"\",+H70-K70)","v":""},{"$f":"IF(I70=\"\",\"\",+I70-L70)","v":""},{"$f":"IF(C70=\"\",\"\",MONTH(C70))","v":""},null,null,null,null,null,null,null,null,null,null,null,"",0,0,{"$f":"IF(G70=Basisgeg.!$C$36,AB70-AB70/(1+Basisgeg.!$C$36),\"\")","v":""},{"$f":"IF(G70=Basisgeg.!$C$37,AB70-AB70/(1+Basisgeg.!$C$37),\"\")","v":""},0,0,"",null,null,{"$f":"IF($AA70=$AJ$5,AB70,\"\")","v":""},{"$f":"IF($AA70=$AJ$5,AC70,\"\")","v":""},{"$f":"IF($AA70=$AJ$5,AD70,\"\")","v":""},{"$f":"IF($AA70=$AJ$5,AE70,\"\")","v":""},{"$f":"IF($AA70=$AJ$5,AF70,\"\")","v":""},{"$f":"IF($AA70=$AJ$5,AG70,\"\")","v":""},{"$f":"IF($AA70=$AJ$5,AH70,\"\")","v":""}]
[null,"",null,null,null,null,null,null,null,"","","","","","",null,null,null,null,null,null,null,null,null,null,null,"",0,0,{"$f":"IF(G71=Basisgeg.!$C$36,AB71-AB71/(1+Basisgeg.!$C$36),\"\")","v":""},{"$f":"IF(G71=Basisgeg.!$C$37,AB71-AB71/(1+Basisgeg.!$C$37),\"\")","v":""},0,0,"",null,null,"","","","","","",""]
[null,"",null,null,null,null,null,null,null,"","","","","","",null,null,null,null,null,null,null,null,null,null,null,"",0,0,{"$f":"IF(G72=Basisgeg.!$C$36,AB72-AB72/(1+Basisgeg.!$C$36),\"\")","v":""},{"$f":"IF(G72=Basisgeg.!$C$37,AB72-AB72/(1+Basisgeg.!$C$37),\"\")","v":""},0,0,"",null,null,"","","","","","",""]
[null,"",null,null,null,null,null,null,null,"","","","","","",null,null,null,null,null,null,null,null,null,null,null,"",0,0,{"$f":"IF(G73=Basisgeg.!$C$36,AB73-AB73/(1+Basisgeg.!$C$36),\"\")","v":""},{"$f":"IF(G73=Basisgeg.!$C$37,AB73-AB73/(1+Basisgeg.!$C$37),\"\")","v":""},0,0,"",null,null,"","","","","","",""]
[null,"",null,null,null,null,null,null,null,"","","","","","",null,null,null,null,null,null,null,null,null,null,null,"",0,0,{"$f":"IF(G74=Basisgeg.!$C$36,AB74-AB74/(1+Basisgeg.!$C$36),\"\")","v":""},{"$f":"IF(G74=Basisgeg.!$C$37,AB74-AB74/(1+Basisgeg.!$C$37),\"\")","v":""},0,0,"",null,null,"","","","","","",""]
[null,"",null,null,null,null,null,null,null,"","","","","","",null,null,null,null,null,null,null,null,null,null,null,"",0,0,{"$f":"IF(G75=Basisgeg.!$C$36,AB75-AB75/(1+Basisgeg.!$C$36),\"\")","v":""},{"$f":"IF(G75=Basisgeg.!$C$37,AB75-AB75/(1+Basisgeg.!$C$37),\"\")","v":""},0,0,"",null,null,"","","","","","",""]
[null,"",null,null,null,null,null,null,null,"","","","","","",null,null,null,null,null,null,null,null,null,null,null,"",0,0,{"$f":"IF(G76=Basisgeg.!$C$36,AB76-AB76/(1+Basisgeg.!$C$36),\"\")","v":""},{"$f":"IF(G76=Basisgeg.!$C$37,AB76-AB76/(1+Basisgeg.!$C$37),\"\")","v":""},0,0,"",null,null,"","","","","","",""]
[null,"",null,null,null,null,null,null,null,"","","","","","",null,null,null,null,null,null,null,null,null,null,null,"",0,0,{"$f":"IF(G77=Basisgeg.!$C$36,AB77-AB77/(1+Basisgeg.!$C$36),\"\")","v":""},{"$f":"IF(G77=Basisgeg.!$C$37,AB77-AB77/(1+Basisgeg.!$C$37),\"\")","v":""},0,0,"",null,null,"","","","","","",""]
[null,"",null,null,null,null,null,null,null,"","","","","","",null,null,null,null,null,null,null,null,null,null,null,"",0,0,{"$f":"IF(G78=Basisgeg.!$C$36,AB78-AB78/(1+Basisgeg.!$C$36),\"\")","v":""},{"$f":"IF(G78=Basisgeg.!$C$37,AB78-AB78/(1+Basisgeg.!$C$37),\"\")","v":""},0,0,"",null,null,"","","","","","",""]
[null,"",null,null,null,null,null,null,null,"","","","","","",null,null,null,null,null,null,null,null,null,null,null,"",0,0,{"$f":"IF(G79=Basisgeg.!$C$36,AB79-AB79/(1+Basisgeg.!$C$36),\"\")","v":""},{"$f":"IF(G79=Basisgeg.!$C$37,AB79-AB79/(1+Basisgeg.!$C$37),\"\")","v":""},0,0,"",null,null,"","","","","","",""]
[null,"",null,null,null,null,null,null,null,"","","","","","",null,null,null,null,null,null,null,null,null,null,null,"",0,0,{"$f":"IF(G80=Basisgeg.!$C$36,AB80-AB80/(1+Basisgeg.!$C$36),\"\")","v":""},{"$f":"IF(G80=Basisgeg.!$C$37,AB80-AB80/(1+Basisgeg.!$C$37),\"\")","v":""},0,0,"",null,null,"","","","","","",""]
[null,"",null,null,null,null,null,null,null,"","","","","","",null,null,null,null,null,null,null,null,null,null,null,"",0,0,{"$f":"IF(G81=Basisgeg.!$C$36,AB81-AB81/(1+Basisgeg.!$C$36),\"\")","v":""},{"$f":"IF(G81=Basisgeg.!$C$37,AB81-AB81/(1+Basisgeg.!$C$37),\"\")","v":""},0,0,"",null,null,"","","","","","",""]
[null,"",null,null,null,null,null,null,null,"","","","","","",null,null,null,null,null,null,null,null,null,null,null,"",0,0,{"$f":"IF(G82=Basisgeg.!$C$36,AB82-AB82/(1+Basisgeg.!$C$36),\"\")","v":""},{"$f":"IF(G82=Basisgeg.!$C$37,AB82-AB82/(1+Basisgeg.!$C$37),\"\")","v":""},0,0,"",null,null,"","","","","","",""]
[null,"",null,null,null,null,null,null,null,"","","","","","",null,null,null,null,null,null,null,null,null,null,null,"",0,0,{"$f":"IF(G83=Basisgeg.!$C$36,AB83-AB83/(1+Basisgeg.!$C$36),\"\")","v":""},{"$f":"IF(G83=Basisgeg.!$C$37,AB83-AB83/(1+Basisgeg.!$C$37),\"\")","v":""},0,0,"",null,null,"","","","","","",""]
[null,"",null,null,null,null,null,null,null,"","","","","","",null,null,null,null,null,null,null,null,null,null,null,"",0,0,{"$f":"IF(G84=Basisgeg.!$C$36,AB84-AB84/(1+Basisgeg.!$C$36),\"\")","v":""},{"$f":"IF(G84=Basisgeg.!$C$37,AB84-AB84/(1+Basisgeg.!$C$37),\"\")","v":""},0,0,"",null,null,"","","","","","",""]
[null,"",null,null,null,null,null,null,null,"","","","","","",null,null,null,null,null,null,null,null,null,null,null,"",0,0,{"$f":"IF(G85=Basisgeg.!$C$36,AB85-AB85/(1+Basisgeg.!$C$36),\"\")","v":""},{"$f":"IF(G85=Basisgeg.!$C$37,AB85-AB85/(1+Basisgeg.!$C$37),\"\")","v":""},0,0,"",null,null,"","","","","","",""]
[null,"",null,null,null,null,null,null,null,"","","","","","",null,null,null,null,null,null,null,null,null,null,null,"",0,0,{"$f":"IF(G86=Basisgeg.!$C$36,AB86-AB86/(1+Basisgeg.!$C$36),\"\")","v":""},{"$f":"IF(G86=Basisgeg.!$C$37,AB86-AB86/(1+Basisgeg.!$C$37),\"\")","v":""},0,0,"",null,null,"","","","","","",""]
[null,"",null,null,null,null,null,null,null,"","","","","","",null,null,null,null,null,null,null,null,null,null,null,"",0,0,{"$f":"IF(G87=Basisgeg.!$C$36,AB87-AB87/(1+Basisgeg.!$C$36),\"\")","v":""},{"$f":"IF(G87=Basisgeg.!$C$37,AB87-AB87/(1+Basisgeg.!$C$37),\"\")","v":""},0,0,"",null,null,"","","","","","",""]
[null,"",null,null,null,null,null,null,null,"","","","","","",null,null,null,null,null,null,null,null,null,null,null,"",0,0,{"$f":"IF(G88=Basisgeg.!$C$36,AB88-AB88/(1+Basisgeg.!$C$36),\"\")","v":""},{"$f":"IF(G88=Basisgeg.!$C$37,AB88-AB88/(1+Basisgeg.!$C$37),\"\")","v":""},0,0,"",null,null,"","","","","","",""]
[null,"",null,null,null,null,null,null,null,"","","","","","",null,null,null,null,null,null,null,null,null,null,null,"",0,0,{"$f":"IF(G89=Basisgeg.!$C$36,AB89-AB89/(1+Basisgeg.!$C$36),\"\")","v":""},{"$f":"IF(G89=Basisgeg.!$C$37,AB89-AB89/(1+Basisgeg.!$C$37),\"\")","v":""},0,0,"",null,null,"","","","","","",""]
[null,"",null,null,null,null,null,null,null,"","","","","","",null,null,null,null,null,null,null,null,null,null,null,"",0,0,{"$f":"IF(G90=Basisgeg.!$C$36,AB90-AB90/(1+Basisgeg.!$C$36),\"\")","v":""},{"$f":"IF(G90=Basisgeg.!$C$37,AB90-AB90/(1+Basisgeg.!$C$37),\"\")","v":""},0,0,"",null,null,"","","","","","",""]
[null,"",null,null,null,null,null,null,null,"","","","","","",null,null,null,null,null,null,null,null,null,null,null,"",0,0,{"$f":"IF(G91=Basisgeg.!$C$36,AB91-AB91/(1+Basisgeg.!$C$36),\"\")","v":""},{"$f":"IF(G91=Basisgeg.!$C$37,AB91-AB91/(1+Basisgeg.!$C$37),\"\")","v":""},0,0,"",null,null,"","","","","","",""]
[null,"",null,null,null,null,null,null,null,"","","","","","",null,null,null,null,null,null,null,null,null,null,null,"",0,0,{"$f":"IF(G92=Basisgeg.!$C$36,AB92-AB92/(1+Basisgeg.!$C$36),\"\")","v":""},{"$f":"IF(G92=Basisgeg.!$C$37,AB92-AB92/(1+Basisgeg.!$C$37),\"\")","v":""},0,0,"",null,null,"","","","","","",""]
[null,"",null,null,null,null,null,null,null,"","","","","","",null,null,null,null,null,null,null,null,null,null,null,"",0,0,{"$f":"IF(G93=Basisgeg.!$C$36,AB93-AB93/(1+Basisgeg.!$C$36),\"\")","v":""},{"$f":"IF(G93=Basisgeg.!$C$37,AB93-AB93/(1+Basisgeg.!$C$37),\"\")","v":""},0,0,"",null,null,"","","","","","",""]
[null,"",null,null,null,null,null,null,null,"","","","","","",null,null,null,null,null,null,null,null,null,null,null,"",0,0,{"$f":"IF(G94=Basisgeg.!$C$36,AB94-AB94/(1+Basisgeg.!$C$36),\"\")","v":""},{"$f":"IF(G94=Basisgeg.!$C$37,AB94-AB94/(1+Basisgeg.!$C$37),\"\")","v":""},0,0,"",null,null,"","","","","","",""]
[null,"",null,null,null,null,null,null,null,"","","","","","",null,null,null,null,null,null,null,null,null,null,null,"",0,0,{"$f":"IF(G95=Basisgeg.!$C$36,AB95-AB95/(1+Basisgeg.!$C$36),\"\")","v":""},{"$f":"IF(G95=Basisgeg.!$C$37,AB95-AB95/(1+Basisgeg.!$C$37),\"\")","v":""},0,0,"",null,null,"","","","","","",""]
[null,"",null,null,null,null,null,null,null,"","","","","","",null,null,null,null,null,null,null,null,null,null,null,"",0,0,{"$f":"IF(G96=Basisgeg.!$C$36,AB96-AB96/(1+Basisgeg.!$C$36),\"\")","v":""},{"$f":"IF(G96=Basisgeg.!$C$37,AB96-AB96/(1+Basisgeg.!$C$37),\"\")","v":""},0,0,"",null,null,"","","","","","",""]
[null,"",null,null,null,null,null,null,null,"","","","","","",null,null,null,null,null,null,null,null,null,null,null,"",0,0,{"$f":"IF(G97=Basisgeg.!$C$36,AB97-AB97/(1+Basisgeg.!$C$36),\"\")","v":""},{"$f":"IF(G97=Basisgeg.!$C$37,AB97-AB97/(1+Basisgeg.!$C$37),\"\")","v":""},0,0,"",null,null,"","","","","","",""]
[null,"",null,null,null,null,null,null,null,"","","","","","",null,null,null,null,null,null,null,null,null,null,null,"",0,0,{"$f":"IF(G98=Basisgeg.!$C$36,AB98-AB98/(1+Basisgeg.!$C$36),\"\")","v":""},{"$f":"IF(G98=Basisgeg.!$C$37,AB98-AB98/(1+Basisgeg.!$C$37),\"\")","v":""},0,0,"",null,null,"","","","","","",""]
[null,"",null,null,null,null,null,null,null,"","","","","","",null,null,null,null,null,null,null,null,null,null,null,"",0,0,{"$f":"IF(G99=Basisgeg.!$C$36,AB99-AB99/(1+Basisgeg.!$C$36),\"\")","v":""},{"$f":"IF(G99=Basisgeg.!$C$37,AB99-AB99/(1+Basisgeg.!$C$37),\"\")","v":""},0,0,"",null,null,"","","","","","",""]
[null,"",null,null,null,null,null,null,null,"","","","","","",null,null,null,null,null,null,null,null,null,null,null,"",0,0,{"$f":"IF(G100=Basisgeg.!$C$36,AB100-AB100/(1+Basisgeg.!$C$36),\"\")","v":""},{"$f":"IF(G100=Basisgeg.!$C$37,AB100-AB100/(1+Basisgeg.!$C$37),\"\")","v":""},0,0,"",null,null,"","","","","","",""]
[null,"",null,null,null,null,null,null,null,"","","","","","",null,null,null,null,null,null,null,null,null,null,null,"",0,0,{"$f":"IF(G101=Basisgeg.!$C$36,AB101-AB101/(1+Basisgeg.!$C$36),\"\")","v":""},{"$f":"IF(G101=Basisgeg.!$C$37,AB101-AB101/(1+Basisgeg.!$C$37),\"\")","v":""},0,0,"",null,null,"","","","","","",""]
[null,"",null,null,null,null,null,null,null,"","","","","","",null,null,null,null,null,null,null,null,null,null,null,"",0,0,{"$f":"IF(G102=Basisgeg.!$C$36,AB102-AB102/(1+Basisgeg.!$C$36),\"\")","v":""},{"$f":"IF(G102=Basisgeg.!$C$37,AB102-AB102/(1+Basisgeg.!$C$37),\"\")","v":""},0,0,"",null,null,"","","","","","",""]
[null,"",null,null,null,null,null,null,null,"","","","","","",null,null,null,null,null,null,null,null,null,null,null,"",0,0,{"$f":"IF(G103=Basisgeg.!$C$36,AB103-AB103/(1+Basisgeg.!$C$36),\"\")","v":""},{"$f":"IF(G103=Basisgeg.!$C$37,AB103-AB103/(1+Basisgeg.!$C$37),\"\")","v":""},0,0,"",null,null,"","","","","","",""]
[null,"",null,null,null,null,null,null,null,"","","","","","",null,null,null,null,null,null,null,null,null,null,null,"",0,0,{"$f":"IF(G104=Basisgeg.!$C$36,AB104-AB104/(1+Basisgeg.!$C$36),\"\")","v":""},{"$f":"IF(G104=Basisgeg.!$C$37,AB104-AB104/(1+Basisgeg.!$C$37),\"\")","v":""},0,0,"",null,null,"","","","","","",""]
[null,"",null,null,null,null,null,null,null,"","","","","","",null,null,null,null,null,null,null,null,null,null,null,"",0,0,{"$f":"IF(G105=Basisgeg.!$C$36,AB105-AB105/(1+Basisgeg.!$C$36),\"\")","v":""},{"$f":"IF(G105=Basisgeg.!$C$37,AB105-AB105/(1+Basisgeg.!$C$37),\"\")","v":""},0,0,"",null,null,"","","","","","",""]
[null,"",null,null,null,null,null,null,null,"","","","","","",null,null,null,null,null,null,null,null,null,null,null,"",0,0,{"$f":"IF(G106=Basisgeg.!$C$36,AB106-AB106/(1+Basisgeg.!$C$36),\"\")","v":""},{"$f":"IF(G106=Basisgeg.!$C$37,AB106-AB106/(1+Basisgeg.!$C$37),\"\")","v":""},0,0,"",null,null,"","","","","","",""]
[null,"",null,null,null,null,null,null,null,"","","","","","",null,null,null,null,null,null,null,null,null,null,null,"",0,0,{"$f":"IF(G107=Basisgeg.!$C$36,AB107-AB107/(1+Basisgeg.!$C$36),\"\")","v":""},{"$f":"IF(G107=Basisgeg.!$C$37,AB107-AB107/(1+Basisgeg.!$C$37),\"\")","v":""},0,0,"",null,null,"","","","","","",""]
[null,"",null,null,null,null,null,null,null,"","","","","","",null,null,null,null,null,null,null,null,null,null,null,"",0,0,{"$f":"IF(G108=Basisgeg.!$C$36,AB108-AB108/(1+Basisgeg.!$C$36),\"\")","v":""},{"$f":"IF(G108=Basisgeg.!$C$37,AB108-AB108/(1+Basisgeg.!$C$37),\"\")","v":""},0,0,"",null,null,"","","","","","",""]
[null,"",null,null,null,null,null,null,null,"","","","","","",null,null,null,null,null,null,null,null,null,null,null,"",0,0,{"$f":"IF(G109=Basisgeg.!$C$36,AB109-AB109/(1+Basisgeg.!$C$36),\"\")","v":""},{"$f":"IF(G109=Basisgeg.!$C$37,AB109-AB109/(1+Basisgeg.!$C$37),\"\")","v":""},0,0,"",null,null,"","","","","","",""]
[null,"",null,null,null,null,null,null,null,"","","","","","",null,null,null,null,null,null,null,null,null,null,null,"",0,0,{"$f":"IF(G110=Basisgeg.!$C$36,AB110-AB110/(1+Basisgeg.!$C$36),\"\")","v":""},{"$f":"IF(G110=Basisgeg.!$C$37,AB110-AB110/(1+Basisgeg.!$C$37),\"\")","v":""},0,0,"",null,null,"","","","","","",""]
[null,"",null,null,null,null,null,null,null,"","","","","","",null,null,null,null,null,null,null,null,null,null,null,"",0,0,{"$f":"IF(G111=Basisgeg.!$C$36,AB111-AB111/(1+Basisgeg.!$C$36),\"\")","v":""},{"$f":"IF(G111=Basisgeg.!$C$37,AB111-AB111/(1+Basisgeg.!$C$37),\"\")","v":""},0,0,"",null,null,"","","","","","",""]
[null,"",null,null,null,null,null,null,null,"","","","","","",null,null,null,null,null,null,null,null,null,null,null,"",0,0,{"$f":"IF(G112=Basisgeg.!$C$36,AB112-AB112/(1+Basisgeg.!$C$36),\"\")","v":""},{"$f":"IF(G112=Basisgeg.!$C$37,AB112-AB112/(1+Basisgeg.!$C$37),\"\")","v":""},0,0,"",null,null,"","","","","","",""]
[null,"",null,null,null,null,null,null,null,"","","","","","",null,null,null,null,null,null,null,null,null,null,null,"",0,0,{"$f":"IF(G113=Basisgeg.!$C$36,AB113-AB113/(1+Basisgeg.!$C$36),\"\")","v":""},{"$f":"IF(G113=Basisgeg.!$C$37,AB113-AB113/(1+Basisgeg.!$C$37),\"\")","v":""},0,0,"",null,null,"","","","","","",""]
[null,"",null,null,null,null,null,null,null,"","","","","","",null,null,null,null,null,null,null,null,null,null,null,"",0,0,{"$f":"IF(G114=Basisgeg.!$C$36,AB114-AB114/(1+Basisgeg.!$C$36),\"\")","v":""},{"$f":"IF(G114=Basisgeg.!$C$37,AB114-AB114/(1+Basisgeg.!$C$37),\"\")","v":""},0,0,"",null,null,"","","","","","",""]
[null,"",null,null,null,null,null,null,null,"","","","","","",null,null,null,null,null,null,null,null,null,null,null,"",0,0,{"$f":"IF(G115=Basisgeg.!$C$36,AB115-AB115/(1+Basisgeg.!$C$36),\"\")","v":""},{"$f":"IF(G115=Basisgeg.!$C$37,AB115-AB115/(1+Basisgeg.!$C$37),\"\")","v":""},0,0,"",null,null,"","","","","","",""]
[null,"",null,null,null,null,null,null,null,"","","","","","",null,null,null,null,null,null,null,null,null,null,null,"",0,0,{"$f":"IF(G116=Basisgeg.!$C$36,AB116-AB116/(1+Basisgeg.!$C$36),\"\")","v":""},{"$f":"IF(G116=Basisgeg.!$C$37,AB116-AB116/(1+Basisgeg.!$C$37),\"\")","v":""},0,0,"",null,null,"","","","","","",""]
[null,"",null,null,null,null,null,null,null,"","","","","","",null,null,null,null,null,null,null,null,null,null,null,"",0,0,{"$f":"IF(G117=Basisgeg.!$C$36,AB117-AB117/(1+Basisgeg.!$C$36),\"\")","v":""},{"$f":"IF(G117=Basisgeg.!$C$37,AB117-AB117/(1+Basisgeg.!$C$37),\"\")","v":""},0,0,"",null,null,"","","","","","",""]
[null,"",null,null,null,null,null,null,null,"","","","","","",null,null,null,null,null,null,null,null,null,null,null,"",0,0,{"$f":"IF(G118=Basisgeg.!$C$36,AB118-AB118/(1+Basisgeg.!$C$36),\"\")","v":""},{"$f":"IF(G118=Basisgeg.!$C$37,AB118-AB118/(1+Basisgeg.!$C$37),\"\")","v":""},0,0,"",null,null,"","","","","","",""]
[null,"",null,null,null,null,null,null,null,"","","","","","",null,null,null,null,null,null,null,null,null,null,null,"",0,0,{"$f":"IF(G119=Basisgeg.!$C$36,AB119-AB119/(1+Basisgeg.!$C$36),\"\")","v":""},{"$f":"IF(G119=Basisgeg.!$C$37,AB119-AB119/(1+Basisgeg.!$C$37),\"\")","v":""},0,0,"",null,null,"","","","","","",""]
[null,"",null,null,null,null,null,null,null,"","","","","","",null,null,null,null,null,null,null,null,null,null,null,"",0,0,{"$f":"IF(G120=Basisgeg.!$C$36,AB120-AB120/(1+Basisgeg.!$C$36),\"\")","v":""},{"$f":"IF(G120=Basisgeg.!$C$37,AB120-AB120/(1+Basisgeg.!$C$37),\"\")","v":""},0,0,"",null,null,"","","","","","",""]
[null,"",null,null,null,null,null,null,null,"","","","","","",null,null,null,null,null,null,null,null,null,null,null,"",0,0,{"$f":"IF(G121=Basisgeg.!$C$36,AB121-AB121/(1+Basisgeg.!$C$36),\"\")","v":""},{"$f":"IF(G121=Basisgeg.!$C$37,AB121-AB121/(1+Basisgeg.!$C$37),\"\")","v":""},0,0,"",null,null,"","","","","","",""]
[null,"",null,null,null,null,null,null,null,"","","","","","",null,null,null,null,null,null,null,null,null,null,null,"",0,0,{"$f":"IF(G122=Basisgeg.!$C$36,AB122-AB122/(1+Basisgeg.!$C$36),\"\")","v":""},{"$f":"IF(G122=Basisgeg.!$C$37,AB122-AB122/(1+Basisgeg.!$C$37),\"\")","v":""},0,0,"",null,null,"","","","","","",""]
[null,"",null,null,null,null,null,null,null,"","","","","","",null,null,null,null,null,null,null,null,null,null,null,"",0,0,{"$f":"IF(G123=Basisgeg.!$C$36,AB123-AB123/(1+Basisgeg.!$C$36),\"\")","v":""},{"$f":"IF(G123=Basisgeg.!$C$37,AB123-AB123/(1+Basisgeg.!$C$37),\"\")","v":""},0,0,"",null,null,"","","","","","",""]
[null,"",null,null,null,null,null,null,null,"","","","","","",null,null,null,null,null,null,null,null,null,null,null,"",0,0,{"$f":"IF(G124=Basisgeg.!$C$36,AB124-AB124/(1+Basisgeg.!$C$36),\"\")","v":""},{"$f":"IF(G124=Basisgeg.!$C$37,AB124-AB124/(1+Basisgeg.!$C$37),\"\")","v":""},0,0,"",null,null,"","","","","","",""]
[null,"",null,null,null,null,null,null,null,"","","","","","",null,null,null,null,null,null,null,null,null,null,null,"",0,0,{"$f":"IF(G125=Basisgeg.!$C$36,AB125-AB125/(1+Basisgeg.!$C$36),\"\")","v":""},{"$f":"IF(G125=Basisgeg.!$C$37,AB125-AB125/(1+Basisgeg.!$C$37),\"\")","v":""},0,0,"",null,null,"","","","","","",""]
[null,"",null,null,null,null,null,null,null,"","","","","","",null,null,null,null,null,null,null,null,null,null,null,"",0,0,{"$f":"IF(G126=Basisgeg.!$C$36,AB126-AB126/(1+Basisgeg.!$C$36),\"\")","v":""},{"$f":"IF(G126=Basisgeg.!$C$37,AB126-AB126/(1+Basisgeg.!$C$37),\"\")","v":""},0,0,"",null,null,"","","","","","",""]
[null,"",null,null,null,null,null,null,null,"","","","","","",null,null,null,null,null,null,null,null,null,null,null,"",0,0,{"$f":"IF(G127=Basisgeg.!$C$36,AB127-AB127/(1+Basisgeg.!$C$36),\"\")","v":""},{"$f":"IF(G127=Basisgeg.!$C$37,AB127-AB127/(1+Basisgeg.!$C$37),\"\")","v":""},0,0,"",null,null,"","","","","","",""]
[null,"",null,null,null,null,null,null,null,"","","","","","",null,null,null,null,null,null,null,null,null,null,null,"",0,0,{"$f":"IF(G128=Basisgeg.!$C$36,AB128-AB128/(1+Basisgeg.!$C$36),\"\")","v":""},{"$f":"IF(G128=Basisgeg.!$C$37,AB128-AB128/(1+Basisgeg.!$C$37),\"\")","v":""},0,0,"",null,null,"","","","","","",""]
[null,"",null,null,null,null,null,null,null,"","","","","","",null,null,null,null,null,null,null,null,null,null,null,"",0,0,{"$f":"IF(G129=Basisgeg.!$C$36,AB129-AB129/(1+Basisgeg.!$C$36),\"\")","v":""},{"$f":"IF(G129=Basisgeg.!$C$37,AB129-AB129/(1+Basisgeg.!$C$37),\"\")","v":""},0,0,"",null,null,"","","","","","",""]
[null,"",null,null,null,null,null,null,null,"","","","","","",null,null,null,null,null,null,null,null,null,null,null,"",0,0,{"$f":"IF(G130=Basisgeg.!$C$36,AB130-AB130/(1+Basisgeg.!$C$36),\"\")","v":""},{"$f":"IF(G130=Basisgeg.!$C$37,AB130-AB130/(1+Basisgeg.!$C$37),\"\")","v":""},0,0,"",null,null,"","","","","","",""]
[null,"",null,null,null,null,null,null,null,"","","","","","",null,null,null,null,null,null,null,null,null,null,null,"",0,0,{"$f":"IF(G131=Basisgeg.!$C$36,AB131-AB131/(1+Basisgeg.!$C$36),\"\")","v":""},{"$f":"IF(G131=Basisgeg.!$C$37,AB131-AB131/(1+Basisgeg.!$C$37),\"\")","v":""},0,0,"",null,null,"","","","","","",""]
[null,"",null,null,null,null,null,null,null,"","","","","","",null,null,null,null,null,null,null,null,null,null,null,"",0,0,{"$f":"IF(G132=Basisgeg.!$C$36,AB132-AB132/(1+Basisgeg.!$C$36),\"\")","v":""},{"$f":"IF(G132=Basisgeg.!$C$37,AB132-AB132/(1+Basisgeg.!$C$37),\"\")","v":""},0,0,"",null,null,"","","","","","",""]
[null,"",null,null,null,null,null,null,null,"","","","","","",null,null,null,null,null,null,null,null,null,null,null,{"$f":"IF(C133<>\"\",MONTH(C133),\"\")","v":""},{"$f":"+H133","v":0},{"$f":"E133","v":0},{"$f":"IF(G133=Basisgeg.!$C$36,AB133-AB133/(1+Basisgeg.!$C$36),\"\")","v":""},{"$f":"IF(G133=Basisgeg.!$C$37,AB133-AB133/(1+Basisgeg.!$C$37),\"\")","v":""},{"$f":"I133","v":0},{"$f":"F133","v":0},{"$f":"L133","v":""},null,null,"","","","","","",""]
[null,{"$f":"IF(C134=\"\",\"\",IF(B133=\"Nr.\",1,B133+1))","v":""},null,null,null,null,null,null,null,{"$f":"IF(B134=\"\",\"\",IF(AND(H134=\"\",I134=\"\"),\"\",IF(AND(E134<>\"\",F134<>\"\"),\"FOUT\",IF(AND(E134=\"\",H134<>\"\"),\"FOUT\",IF(AND(F134=\"\",I134<>\"\"),\"FOUT\",IF(G134=\"\",\"BTW ?\",\"OK\"))))))","v":""},{"$f":"IF(H134=\"\",\"\",(H134/((1+$G134)*100))*($G134*100))","v":""},{"$f":"IF(I134=\"\",\"\",(I134/((1+$G134)*100))*($G134*100))","v":""},{"$f":"IF(H134=\"\",\"\",+H134-K134)","v":""},{"$f":"IF(I134=\"\",\"\",+I134-L134)","v":""},{"$f":"IF(C134=\"\",\"\",MONTH(C134))","v":""},null,null,null,null,null,null,null,null,null,null,null,"",0,0,{"$f":"IF(G134=Basisgeg.!$C$36,AB134-AB134/(1+Basisgeg.!$C$36),\"\")","v":""},{"$f":"IF(G134=Basisgeg.!$C$37,AB134-AB134/(1+Basisgeg.!$C$37),\"\")","v":""},0,0,"",null,null,{"$f":"IF($AA134=$AJ$5,AB134,\"\")","v":""},{"$f":"IF($AA134=$AJ$5,AC134,\"\")","v":""},{"$f":"IF($AA134=$AJ$5,AD134,\"\")","v":""},{"$f":"IF($AA134=$AJ$5,AE134,\"\")","v":""},{"$f":"IF($AA134=$AJ$5,AF134,\"\")","v":""},{"$f":"IF($AA134=$AJ$5,AG134,\"\")","v":""},{"$f":"IF($AA134=$AJ$5,AH134,\"\")","v":""}]
[null,"",null,null,null,null,null,null,null,"","","","","","",null,null,null,null,null,null,null,null,null,null,null,"",0,0,{"$f":"IF(G135=Basisgeg.!$C$36,AB135-AB135/(1+Basisgeg.!$C$36),\"\")","v":""},{"$f":"IF(G135=Basisgeg.!$C$37,AB135-AB135/(1+Basisgeg.!$C$37),\"\")","v":""},0,0,"",null,null,"","","","","","",""]
[null,"",null,null,null,null,null,null,null,"","","","","","",null,null,null,null,null,null,null,null,null,null,null,"",0,0,{"$f":"IF(G136=Basisgeg.!$C$36,AB136-AB136/(1+Basisgeg.!$C$36),\"\")","v":""},{"$f":"IF(G136=Basisgeg.!$C$37,AB136-AB136/(1+Basisgeg.!$C$37),\"\")","v":""},0,0,"",null,null,"","","","","","",""]
[null,"",null,null,null,null,null,null,null,"","","","","","",null,null,null,null,null,null,null,null,null,null,null,"",0,0,{"$f":"IF(G137=Basisgeg.!$C$36,AB137-AB137/(1+Basisgeg.!$C$36),\"\")","v":""},{"$f":"IF(G137=Basisgeg.!$C$37,AB137-AB137/(1+Basisgeg.!$C$37),\"\")","v":""},0,0,"",null,null,"","","","","","",""]
[null,"",null,null,null,null,null,null,null,"","","","","","",null,null,null,null,null,null,null,null,null,null,null,"",0,0,{"$f":"IF(G138=Basisgeg.!$C$36,AB138-AB138/(1+Basisgeg.!$C$36),\"\")","v":""},{"$f":"IF(G138=Basisgeg.!$C$37,AB138-AB138/(1+Basisgeg.!$C$37),\"\")","v":""},0,0,"",null,null,"","","","","","",""]
[null,"",null,null,null,null,null,null,null,"","","","","","",null,null,null,null,null,null,null,null,null,null,null,"",0,0,{"$f":"IF(G139=Basisgeg.!$C$36,AB139-AB139/(1+Basisgeg.!$C$36),\"\")","v":""},{"$f":"IF(G139=Basisgeg.!$C$37,AB139-AB139/(1+Basisgeg.!$C$37),\"\")","v":""},0,0,"",null,null,"","","","","","",""]
[null,"",null,null,null,null,null,null,null,"","","","","","",null,null,null,null,null,null,null,null,null,null,null,"",0,0,{"$f":"IF(G140=Basisgeg.!$C$36,AB140-AB140/(1+Basisgeg.!$C$36),\"\")","v":""},{"$f":"IF(G140=Basisgeg.!$C$37,AB140-AB140/(1+Basisgeg.!$C$37),\"\")","v":""},0,0,"",null,null,"","","","","","",""]
[null,"",null,null,null,null,null,null,null,"","","","","","",null,null,null,null,null,null,null,null,null,null,null,"",0,0,{"$f":"IF(G141=Basisgeg.!$C$36,AB141-AB141/(1+Basisgeg.!$C$36),\"\")","v":""},{"$f":"IF(G141=Basisgeg.!$C$37,AB141-AB141/(1+Basisgeg.!$C$37),\"\")","v":""},0,0,"",null,null,"","","","","","",""]
[null,"",null,null,null,null,null,null,null,"","","","","","",null,null,null,null,null,null,null,null,null,null,null,"",0,0,{"$f":"IF(G142=Basisgeg.!$C$36,AB142-AB142/(1+Basisgeg.!$C$36),\"\")","v":""},{"$f":"IF(G142=Basisgeg.!$C$37,AB142-AB142/(1+Basisgeg.!$C$37),\"\")","v":""},0,0,"",null,null,"","","","","","",""]
[null,"",null,null,null,null,null,null,null,"","","","","","",null,null,null,null,null,null,null,null,null,null,null,"",0,0,{"$f":"IF(G143=Basisgeg.!$C$36,AB143-AB143/(1+Basisgeg.!$C$36),\"\")","v":""},{"$f":"IF(G143=Basisgeg.!$C$37,AB143-AB143/(1+Basisgeg.!$C$37),\"\")","v":""},0,0,"",null,null,"","","","","","",""]
[null,"",null,null,null,null,null,null,null,"","","","","","",null,null,null,null,null,null,null,null,null,null,null,"",0,0,{"$f":"IF(G144=Basisgeg.!$C$36,AB144-AB144/(1+Basisgeg.!$C$36),\"\")","v":""},{"$f":"IF(G144=Basisgeg.!$C$37,AB144-AB144/(1+Basisgeg.!$C$37),\"\")","v":""},0,0,"",null,null,"","","","","","",""]
[null,"",null,null,null,null,null,null,null,"","","","","","",null,null,null,null,null,null,null,null,null,null,null,"",0,0,{"$f":"IF(G145=Basisgeg.!$C$36,AB145-AB145/(1+Basisgeg.!$C$36),\"\")","v":""},{"$f":"IF(G145=Basisgeg.!$C$37,AB145-AB145/(1+Basisgeg.!$C$37),\"\")","v":""},0,0,"",null,null,"","","","","","",""]
[null,"",null,null,null,null,null,null,null,"","","","","","",null,null,null,null,null,null,null,null,null,null,null,"",0,0,{"$f":"IF(G146=Basisgeg.!$C$36,AB146-AB146/(1+Basisgeg.!$C$36),\"\")","v":""},{"$f":"IF(G146=Basisgeg.!$C$37,AB146-AB146/(1+Basisgeg.!$C$37),\"\")","v":""},0,0,"",null,null,"","","","","","",""]
[null,"",null,null,null,null,null,null,null,"","","","","","",null,null,null,null,null,null,null,null,null,null,null,"",0,0,{"$f":"IF(G147=Basisgeg.!$C$36,AB147-AB147/(1+Basisgeg.!$C$36),\"\")","v":""},{"$f":"IF(G147=Basisgeg.!$C$37,AB147-AB147/(1+Basisgeg.!$C$37),\"\")","v":""},0,0,"",null,null,"","","","","","",""]
[null,"",null,null,null,null,null,null,null,"","","","","","",null,null,null,null,null,null,null,null,null,null,null,"",0,0,{"$f":"IF(G148=Basisgeg.!$C$36,AB148-AB148/(1+Basisgeg.!$C$36),\"\")","v":""},{"$f":"IF(G148=Basisgeg.!$C$37,AB148-AB148/(1+Basisgeg.!$C$37),\"\")","v":""},0,0,"",null,null,"","","","","","",""]
[null,"",null,null,null,null,null,null,null,"","","","","","",null,null,null,null,null,null,null,null,null,null,null,"",0,0,{"$f":"IF(G149=Basisgeg.!$C$36,AB149-AB149/(1+Basisgeg.!$C$36),\"\")","v":""},{"$f":"IF(G149=Basisgeg.!$C$37,AB149-AB149/(1+Basisgeg.!$C$37),\"\")","v":""},0,0,"",null,null,"","","","","","",""]
[null,"",null,null,null,null,null,null,null,"","","","","","",null,null,null,null,null,null,null,null,null,null,null,"",0,0,{"$f":"IF(G150=Basisgeg.!$C$36,AB150-AB150/(1+Basisgeg.!$C$36),\"\")","v":""},{"$f":"IF(G150=Basisgeg.!$C$37,AB150-AB150/(1+Basisgeg.!$C$37),\"\")","v":""},0,0,"",null,null,"","","","","","",""]
[null,"",null,null,null,null,null,null,null,"","","","","","",null,null,null,null,null,null,null,null,null,null,null,"",0,0,{"$f":"IF(G151=Basisgeg.!$C$36,AB151-AB151/(1+Basisgeg.!$C$36),\"\")","v":""},{"$f":"IF(G151=Basisgeg.!$C$37,AB151-AB151/(1+Basisgeg.!$C$37),\"\")","v":""},0,0,"",null,null,"","","","","","",""]
[null,"",null,null,null,null,null,null,null,"","","","","","",null,null,null,null,null,null,null,null,null,null,null,"",0,0,{"$f":"IF(G152=Basisgeg.!$C$36,AB152-AB152/(1+Basisgeg.!$C$36),\"\")","v":""},{"$f":"IF(G152=Basisgeg.!$C$37,AB152-AB152/(1+Basisgeg.!$C$37),\"\")","v":""},0,0,"",null,null,"","","","","","",""]
[null,"",null,null,null,null,null,null,null,"","","","","","",null,null,null,null,null,null,null,null,null,null,null,"",0,0,{"$f":"IF(G153=Basisgeg.!$C$36,AB153-AB153/(1+Basisgeg.!$C$36),\"\")","v":""},{"$f":"IF(G153=Basisgeg.!$C$37,AB153-AB153/(1+Basisgeg.!$C$37),\"\")","v":""},0,0,"",null,null,"","","","","","",""]
[null,"",null,null,null,null,null,null,null,"","","","","","",null,null,null,null,null,null,null,null,null,null,null,"",0,0,{"$f":"IF(G154=Basisgeg.!$C$36,AB154-AB154/(1+Basisgeg.!$C$36),\"\")","v":""},{"$f":"IF(G154=Basisgeg.!$C$37,AB154-AB154/(1+Basisgeg.!$C$37),\"\")","v":""},0,0,"",null,null,"","","","","","",""]
[null,"",null,null,null,null,null,null,null,"","","","","","",null,null,null,null,null,null,null,null,null,null,null,"",0,0,{"$f":"IF(G155=Basisgeg.!$C$36,AB155-AB155/(1+Basisgeg.!$C$36),\"\")","v":""},{"$f":"IF(G155=Basisgeg.!$C$37,AB155-AB155/(1+Basisgeg.!$C$37),\"\")","v":""},0,0,"",null,null,"","","","","","",""]
[null,"",null,null,null,null,null,null,null,"","","","","","",null,null,null,null,null,null,null,null,null,null,null,"",0,0,{"$f":"IF(G156=Basisgeg.!$C$36,AB156-AB156/(1+Basisgeg.!$C$36),\"\")","v":""},{"$f":"IF(G156=Basisgeg.!$C$37,AB156-AB156/(1+Basisgeg.!$C$37),\"\")","v":""},0,0,"",null,null,"","","","","","",""]
[null,"",null,null,null,null,null,null,null,"","","","","","",null,null,null,null,null,null,null,null,null,null,null,"",0,0,{"$f":"IF(G157=Basisgeg.!$C$36,AB157-AB157/(1+Basisgeg.!$C$36),\"\")","v":""},{"$f":"IF(G157=Basisgeg.!$C$37,AB157-AB157/(1+Basisgeg.!$C$37),\"\")","v":""},0,0,"",null,null,"","","","","","",""]
[null,"",null,null,null,null,null,null,null,"","","","","","",null,null,null,null,null,null,null,null,null,null,null,"",0,0,{"$f":"IF(G158=Basisgeg.!$C$36,AB158-AB158/(1+Basisgeg.!$C$36),\"\")","v":""},{"$f":"IF(G158=Basisgeg.!$C$37,AB158-AB158/(1+Basisgeg.!$C$37),\"\")","v":""},0,0,"",null,null,"","","","","","",""]
[null,"",null,null,null,null,null,null,null,"","","","","","",null,null,null,null,null,null,null,null,null,null,null,"",0,0,{"$f":"IF(G159=Basisgeg.!$C$36,AB159-AB159/(1+Basisgeg.!$C$36),\"\")","v":""},{"$f":"IF(G159=Basisgeg.!$C$37,AB159-AB159/(1+Basisgeg.!$C$37),\"\")","v":""},0,0,"",null,null,"","","","","","",""]
[null,"",null,null,null,null,null,null,null,"","","","","","",null,null,null,null,null,null,null,null,null,null,null,"",0,0,{"$f":"IF(G160=Basisgeg.!$C$36,AB160-AB160/(1+Basisgeg.!$C$36),\"\")","v":""},{"$f":"IF(G160=Basisgeg.!$C$37,AB160-AB160/(1+Basisgeg.!$C$37),\"\")","v":""},0,0,"",null,null,"","","","","","",""]
[null,"",null,null,null,null,null,null,null,"","","","","","",null,null,null,null,null,null,null,null,null,null,null,"",0,0,{"$f":"IF(G161=Basisgeg.!$C$36,AB161-AB161/(1+Basisgeg.!$C$36),\"\")","v":""},{"$f":"IF(G161=Basisgeg.!$C$37,AB161-AB161/(1+Basisgeg.!$C$37),\"\")","v":""},0,0,"",null,null,"","","","","","",""]
[null,"",null,null,null,null,null,null,null,"","","","","","",null,null,null,null,null,null,null,null,null,null,null,"",0,0,{"$f":"IF(G162=Basisgeg.!$C$36,AB162-AB162/(1+Basisgeg.!$C$36),\"\")","v":""},{"$f":"IF(G162=Basisgeg.!$C$37,AB162-AB162/(1+Basisgeg.!$C$37),\"\")","v":""},0,0,"",null,null,"","","","","","",""]
[null,"",null,null,null,null,null,null,null,"","","","","","",null,null,null,null,null,null,null,null,null,null,null,"",0,0,{"$f":"IF(G163=Basisgeg.!$C$36,AB163-AB163/(1+Basisgeg.!$C$36),\"\")","v":""},{"$f":"IF(G163=Basisgeg.!$C$37,AB163-AB163/(1+Basisgeg.!$C$37),\"\")","v":""},0,0,"",null,null,"","","","","","",""]
[null,"",null,null,null,null,null,null,null,"","","","","","",null,null,null,null,null,null,null,null,null,null,null,"",0,0,{"$f":"IF(G164=Basisgeg.!$C$36,AB164-AB164/(1+Basisgeg.!$C$36),\"\")","v":""},{"$f":"IF(G164=Basisgeg.!$C$37,AB164-AB164/(1+Basisgeg.!$C$37),\"\")","v":""},0,0,"",null,null,"","","","","","",""]
[null,"",null,null,null,null,null,null,null,"","","","","","",null,null,null,null,null,null,null,null,null,null,null,"",0,0,{"$f":"IF(G165=Basisgeg.!$C$36,AB165-AB165/(1+Basisgeg.!$C$36),\"\")","v":""},{"$f":"IF(G165=Basisgeg.!$C$37,AB165-AB165/(1+Basisgeg.!$C$37),\"\")","v":""},0,0,"",null,null,"","","","","","",""]
[null,"",null,null,null,null,null,null,null,"","","","","","",null,null,null,null,null,null,null,null,null,null,null,"",0,0,{"$f":"IF(G166=Basisgeg.!$C$36,AB166-AB166/(1+Basisgeg.!$C$36),\"\")","v":""},{"$f":"IF(G166=Basisgeg.!$C$37,AB166-AB166/(1+Basisgeg.!$C$37),\"\")","v":""},0,0,"",null,null,"","","","","","",""]
[null,"",null,null,null,null,null,null,null,"","","","","","",null,null,null,null,null,null,null,null,null,null,null,"",0,0,{"$f":"IF(G167=Basisgeg.!$C$36,AB167-AB167/(1+Basisgeg.!$C$36),\"\")","v":""},{"$f":"IF(G167=Basisgeg.!$C$37,AB167-AB167/(1+Basisgeg.!$C$37),\"\")","v":""},0,0,"",null,null,"","","","","","",""]
[null,"",null,null,null,null,null,null,null,"","","","","","",null,null,null,null,null,null,null,null,null,null,null,"",0,0,{"$f":"IF(G168=Basisgeg.!$C$36,AB168-AB168/(1+Basisgeg.!$C$36),\"\")","v":""},{"$f":"IF(G168=Basisgeg.!$C$37,AB168-AB168/(1+Basisgeg.!$C$37),\"\")","v":""},0,0,"",null,null,"","","","","","",""]
[null,"",null,null,null,null,null,null,null,"","","","","","",null,null,null,null,null,null,null,null,null,null,null,"",0,0,{"$f":"IF(G169=Basisgeg.!$C$36,AB169-AB169/(1+Basisgeg.!$C$36),\"\")","v":""},{"$f":"IF(G169=Basisgeg.!$C$37,AB169-AB169/(1+Basisgeg.!$C$37),\"\")","v":""},0,0,"",null,null,"","","","","","",""]
[null,"",null,null,null,null,null,null,null,"","","","","","",null,null,null,null,null,null,null,null,null,null,null,"",0,0,{"$f":"IF(G170=Basisgeg.!$C$36,AB170-AB170/(1+Basisgeg.!$C$36),\"\")","v":""},{"$f":"IF(G170=Basisgeg.!$C$37,AB170-AB170/(1+Basisgeg.!$C$37),\"\")","v":""},0,0,"",null,null,"","","","","","",""]
[null,"",null,null,null,null,null,null,null,"","","","","","",null,null,null,null,null,null,null,null,null,null,null,"",0,0,{"$f":"IF(G171=Basisgeg.!$C$36,AB171-AB171/(1+Basisgeg.!$C$36),\"\")","v":""},{"$f":"IF(G171=Basisgeg.!$C$37,AB171-AB171/(1+Basisgeg.!$C$37),\"\")","v":""},0,0,"",null,null,"","","","","","",""]
[null,"",null,null,null,null,null,null,null,"","","","","","",null,null,null,null,null,null,null,null,null,null,null,"",0,0,{"$f":"IF(G172=Basisgeg.!$C$36,AB172-AB172/(1+Basisgeg.!$C$36),\"\")","v":""},{"$f":"IF(G172=Basisgeg.!$C$37,AB172-AB172/(1+Basisgeg.!$C$37),\"\")","v":""},0,0,"",null,null,"","","","","","",""]
[null,"",null,null,null,null,null,null,null,"","","","","","",null,null,null,null,null,null,null,null,null,null,null,"",0,0,{"$f":"IF(G173=Basisgeg.!$C$36,AB173-AB173/(1+Basisgeg.!$C$36),\"\")","v":""},{"$f":"IF(G173=Basisgeg.!$C$37,AB173-AB173/(1+Basisgeg.!$C$37),\"\")","v":""},0,0,"",null,null,"","","","","","",""]
[null,"",null,null,null,null,null,null,null,"","","","","","",null,null,null,null,null,null,null,null,null,null,null,"",0,0,{"$f":"IF(G174=Basisgeg.!$C$36,AB174-AB174/(1+Basisgeg.!$C$36),\"\")","v":""},{"$f":"IF(G174=Basisgeg.!$C$37,AB174-AB174/(1+Basisgeg.!$C$37),\"\")","v":""},0,0,"",null,null,"","","","","","",""]
[null,"",null,null,null,null,null,null,null,"","","","","","",null,null,null,null,null,null,null,null,null,null,null,"",0,0,{"$f":"IF(G175=Basisgeg.!$C$36,AB175-AB175/(1+Basisgeg.!$C$36),\"\")","v":""},{"$f":"IF(G175=Basisgeg.!$C$37,AB175-AB175/(1+Basisgeg.!$C$37),\"\")","v":""},0,0,"",null,null,"","","","","","",""]
[null,"",null,null,null,null,null,null,null,"","","","","","",null,null,null,null,null,null,null,null,null,null,null,"",0,0,{"$f":"IF(G176=Basisgeg.!$C$36,AB176-AB176/(1+Basisgeg.!$C$36),\"\")","v":""},{"$f":"IF(G176=Basisgeg.!$C$37,AB176-AB176/(1+Basisgeg.!$C$37),\"\")","v":""},0,0,"",null,null,"","","","","","",""]
[null,"",null,null,null,null,null,null,null,"","","","","","",null,null,null,null,null,null,null,null,null,null,null,"",0,0,{"$f":"IF(G177=Basisgeg.!$C$36,AB177-AB177/(1+Basisgeg.!$C$36),\"\")","v":""},{"$f":"IF(G177=Basisgeg.!$C$37,AB177-AB177/(1+Basisgeg.!$C$37),\"\")","v":""},0,0,"",null,null,"","","","","","",""]
[null,"",null,null,null,null,null,null,null,"","","","","","",null,null,null,null,null,null,null,null,null,null,null,"",0,0,{"$f":"IF(G178=Basisgeg.!$C$36,AB178-AB178/(1+Basisgeg.!$C$36),\"\")","v":""},{"$f":"IF(G178=Basisgeg.!$C$37,AB178-AB178/(1+Basisgeg.!$C$37),\"\")","v":""},0,0,"",null,null,"","","","","","",""]
[null,"",null,null,null,null,null,null,null,"","","","","","",null,null,null,null,null,null,null,null,null,null,null,"",0,0,{"$f":"IF(G179=Basisgeg.!$C$36,AB179-AB179/(1+Basisgeg.!$C$36),\"\")","v":""},{"$f":"IF(G179=Basisgeg.!$C$37,AB179-AB179/(1+Basisgeg.!$C$37),\"\")","v":""},0,0,"",null,null,"","","","","","",""]
[null,"",null,null,null,null,null,null,null,"","","","","","",null,null,null,null,null,null,null,null,null,null,null,"",0,0,{"$f":"IF(G180=Basisgeg.!$C$36,AB180-AB180/(1+Basisgeg.!$C$36),\"\")","v":""},{"$f":"IF(G180=Basisgeg.!$C$37,AB180-AB180/(1+Basisgeg.!$C$37),\"\")","v":""},0,0,"",null,null,"","","","","","",""]
[null,"",null,null,null,null,null,null,null,"","","","","","",null,null,null,null,null,null,null,null,null,null,null,"",0,0,{"$f":"IF(G181=Basisgeg.!$C$36,AB181-AB181/(1+Basisgeg.!$C$36),\"\")","v":""},{"$f":"IF(G181=Basisgeg.!$C$37,AB181-AB181/(1+Basisgeg.!$C$37),\"\")","v":""},0,0,"",null,null,"","","","","","",""]
[null,"",null,null,null,null,null,null,null,"","","","","","",null,null,null,null,null,null,null,null,null,null,null,"",0,0,{"$f":"IF(G182=Basisgeg.!$C$36,AB182-AB182/(1+Basisgeg.!$C$36),\"\")","v":""},{"$f":"IF(G182=Basisgeg.!$C$37,AB182-AB182/(1+Basisgeg.!$C$37),\"\")","v":""},0,0,"",null,null,"","","","","","",""]
[null,"",null,null,null,null,null,null,null,"","","","","","",null,null,null,null,null,null,null,null,null,null,null,"",0,0,{"$f":"IF(G183=Basisgeg.!$C$36,AB183-AB183/(1+Basisgeg.!$C$36),\"\")","v":""},{"$f":"IF(G183=Basisgeg.!$C$37,AB183-AB183/(1+Basisgeg.!$C$37),\"\")","v":""},0,0,"",null,null,"","","","","","",""]
[null,"",null,null,null,null,null,null,null,"","","","","","",null,null,null,null,null,null,null,null,null,null,null,"",0,0,{"$f":"IF(G184=Basisgeg.!$C$36,AB184-AB184/(1+Basisgeg.!$C$36),\"\")","v":""},{"$f":"IF(G184=Basisgeg.!$C$37,AB184-AB184/(1+Basisgeg.!$C$37),\"\")","v":""},0,0,"",null,null,"","","","","","",""]
[null,"",null,null,null,null,null,null,null,"","","","","","",null,null,null,null,null,null,null,null,null,null,null,"",0,0,{"$f":"IF(G185=Basisgeg.!$C$36,AB185-AB185/(1+Basisgeg.!$C$36),\"\")","v":""},{"$f":"IF(G185=Basisgeg.!$C$37,AB185-AB185/(1+Basisgeg.!$C$37),\"\")","v":""},0,0,"",null,null,"","","","","","",""]
[null,"",null,null,null,null,null,null,null,"","","","","","",null,null,null,null,null,null,null,null,null,null,null,"",0,0,{"$f":"IF(G186=Basisgeg.!$C$36,AB186-AB186/(1+Basisgeg.!$C$36),\"\")","v":""},{"$f":"IF(G186=Basisgeg.!$C$37,AB186-AB186/(1+Basisgeg.!$C$37),\"\")","v":""},0,0,"",null,null,"","","","","","",""]
[null,"",null,null,null,null,null,null,null,"","","","","","",null,null,null,null,null,null,null,null,null,null,null,"",0,0,{"$f":"IF(G187=Basisgeg.!$C$36,AB187-AB187/(1+Basisgeg.!$C$36),\"\")","v":""},{"$f":"IF(G187=Basisgeg.!$C$37,AB187-AB187/(1+Basisgeg.!$C$37),\"\")","v":""},0,0,"",null,null,"","","","","","",""]
[null,"",null,null,null,null,null,null,null,"","","","","","",null,null,null,null,null,null,null,null,null,null,null,"",0,0,{"$f":"IF(G188=Basisgeg.!$C$36,AB188-AB188/(1+Basisgeg.!$C$36),\"\")","v":""},{"$f":"IF(G188=Basisgeg.!$C$37,AB188-AB188/(1+Basisgeg.!$C$37),\"\")","v":""},0,0,"",null,null,"","","","","","",""]
[null,"",null,null,null,null,null,null,null,"","","","","","",null,null,null,null,null,null,null,null,null,null,null,"",0,0,{"$f":"IF(G189=Basisgeg.!$C$36,AB189-AB189/(1+Basisgeg.!$C$36),\"\")","v":""},{"$f":"IF(G189=Basisgeg.!$C$37,AB189-AB189/(1+Basisgeg.!$C$37),\"\")","v":""},0,0,"",null,null,"","","","","","",""]
[null,"",null,null,null,null,null,null,null,"","","","","","",null,null,null,null,null,null,null,null,null,null,null,"",0,0,{"$f":"IF(G190=Basisgeg.!$C$36,AB190-AB190/(1+Basisgeg.!$C$36),\"\")","v":""},{"$f":"IF(G190=Basisgeg.!$C$37,AB190-AB190/(1+Basisgeg.!$C$37),\"\")","v":""},0,0,"",null,null,"","","","","","",""]
[null,"",null,null,null,null,null,null,null,"","","","","","",null,null,null,null,null,null,null,null,null,null,null,"",0,0,{"$f":"IF(G191=Basisgeg.!$C$36,AB191-AB191/(1+Basisgeg.!$C$36),\"\")","v":""},{"$f":"IF(G191=Basisgeg.!$C$37,AB191-AB191/(1+Basisgeg.!$C$37),\"\")","v":""},0,0,"",null,null,"","","","","","",""]
[null,"",null,null,null,null,null,null,null,"","","","","","",null,null,null,null,null,null,null,null,null,null,null,"",0,0,{"$f":"IF(G192=Basisgeg.!$C$36,AB192-AB192/(1+Basisgeg.!$C$36),\"\")","v":""},{"$f":"IF(G192=Basisgeg.!$C$37,AB192-AB192/(1+Basisgeg.!$C$37),\"\")","v":""},0,0,"",null,null,"","","","","","",""]
[null,"",null,null,null,null,null,null,null,"","","","","","",null,null,null,null,null,null,null,null,null,null,null,"",0,0,{"$f":"IF(G193=Basisgeg.!$C$36,AB193-AB193/(1+Basisgeg.!$C$36),\"\")","v":""},{"$f":"IF(G193=Basisgeg.!$C$37,AB193-AB193/(1+Basisgeg.!$C$37),\"\")","v":""},0,0,"",null,null,"","","","","","",""]
[null,"",null,null,null,null,null,null,null,"","","","","","",null,null,null,null,null,null,null,null,null,null,null,"",0,0,{"$f":"IF(G194=Basisgeg.!$C$36,AB194-AB194/(1+Basisgeg.!$C$36),\"\")","v":""},{"$f":"IF(G194=Basisgeg.!$C$37,AB194-AB194/(1+Basisgeg.!$C$37),\"\")","v":""},0,0,"",null,null,"","","","","","",""]
[null,"",null,null,null,null,null,null,null,"","","","","","",null,null,null,null,null,null,null,null,null,null,null,"",0,0,{"$f":"IF(G195=Basisgeg.!$C$36,AB195-AB195/(1+Basisgeg.!$C$36),\"\")","v":""},{"$f":"IF(G195=Basisgeg.!$C$37,AB195-AB195/(1+Basisgeg.!$C$37),\"\")","v":""},0,0,"",null,null,"","","","","","",""]
[null,"",null,null,null,null,null,null,null,"","","","","","",null,null,null,null,null,null,null,null,null,null,null,"",0,0,{"$f":"IF(G196=Basisgeg.!$C$36,AB196-AB196/(1+Basisgeg.!$C$36),\"\")","v":""},{"$f":"IF(G196=Basisgeg.!$C$37,AB196-AB196/(1+Basisgeg.!$C$37),\"\")","v":""},0,0,"",null,null,"","","","","","",""]
[null,"",null,null,null,null,null,null,null,"","","","","","",null,null,null,null,null,null,null,null,null,null,null,{"$f":"IF(C197<>\"\",MONTH(C197),\"\")","v":""},{"$f":"+H197","v":0},{"$f":"E197","v":0},{"$f":"IF(G197=Basisgeg.!$C$36,AB197-AB197/(1+Basisgeg.!$C$36),\"\")","v":""},{"$f":"IF(G197=Basisgeg.!$C$37,AB197-AB197/(1+Basisgeg.!$C$37),\"\")","v":""},{"$f":"I197","v":0},{"$f":"F197","v":0},{"$f":"L197","v":""},null,null,"","","","","","",""]
[null,{"$f":"IF(C198=\"\",\"\",IF(B197=\"Nr.\",1,B197+1))","v":""},null,null,null,null,null,null,null,{"$f":"IF(B198=\"\",\"\",IF(AND(H198=\"\",I198=\"\"),\"\",IF(AND(E198<>\"\",F198<>\"\"),\"FOUT\",IF(AND(E198=\"\",H198<>\"\"),\"FOUT\",IF(AND(F198=\"\",I198<>\"\"),\"FOUT\",IF(G198=\"\",\"BTW ?\",\"OK\"))))))","v":""},{"$f":"IF(H198=\"\",\"\",(H198/((1+$G198)*100))*($G198*100))","v":""},{"$f":"IF(I198=\"\",\"\",(I198/((1+$G198)*100))*($G198*100))","v":""},{"$f":"IF(H198=\"\",\"\",+H198-K198)","v":""},{"$f":"IF(I198=\"\",\"\",+I198-L198)","v":""},{"$f":"IF(C198=\"\",\"\",MONTH(C198))","v":""},null,null,null,null,null,null,null,null,null,null,null,"",0,0,{"$f":"IF(G198=Basisgeg.!$C$36,AB198-AB198/(1+Basisgeg.!$C$36),\"\")","v":""},{"$f":"IF(G198=Basisgeg.!$C$37,AB198-AB198/(1+Basisgeg.!$C$37),\"\")","v":""},0,0,"",null,null,{"$f":"IF($AA198=$AJ$5,AB198,\"\")","v":""},{"$f":"IF($AA198=$AJ$5,AC198,\"\")","v":""},{"$f":"IF($AA198=$AJ$5,AD198,\"\")","v":""},{"$f":"IF($AA198=$AJ$5,AE198,\"\")","v":""},{"$f":"IF($AA198=$AJ$5,AF198,\"\")","v":""},{"$f":"IF($AA198=$AJ$5,AG198,\"\")","v":""},{"$f":"IF($AA198=$AJ$5,AH198,\"\")","v":""}]
[null,"",null,null,null,null,null,null,null,"","","","","","",null,null,null,null,null,null,null,null,null,null,null,"",0,0,{"$f":"IF(G199=Basisgeg.!$C$36,AB199-AB199/(1+Basisgeg.!$C$36),\"\")","v":""},{"$f":"IF(G199=Basisgeg.!$C$37,AB199-AB199/(1+Basisgeg.!$C$37),\"\")","v":""},0,0,"",null,null,"","","","","","",""]
[null,"",null,null,null,null,null,null,null,"","","","","","",null,null,null,null,null,null,null,null,null,null,null,"",0,0,{"$f":"IF(G200=Basisgeg.!$C$36,AB200-AB200/(1+Basisgeg.!$C$36),\"\")","v":""},{"$f":"IF(G200=Basisgeg.!$C$37,AB200-AB200/(1+Basisgeg.!$C$37),\"\")","v":""},0,0,"",null,null,"","","","","","",""]
[null,"",null,null,null,null,null,null,null,"","","","","","",null,null,null,null,null,null,null,null,null,null,null,"",0,0,{"$f":"IF(G201=Basisgeg.!$C$36,AB201-AB201/(1+Basisgeg.!$C$36),\"\")","v":""},{"$f":"IF(G201=Basisgeg.!$C$37,AB201-AB201/(1+Basisgeg.!$C$37),\"\")","v":""},0,0,"",null,null,"","","","","","",""]
[null,"",null,null,null,null,null,null,null,"","","","","","",null,null,null,null,null,null,null,null,null,null,null,"",0,0,{"$f":"IF(G202=Basisgeg.!$C$36,AB202-AB202/(1+Basisgeg.!$C$36),\"\")","v":""},{"$f":"IF(G202=Basisgeg.!$C$37,AB202-AB202/(1+Basisgeg.!$C$37),\"\")","v":""},0,0,"",null,null,"","","","","","",""]
[null,"",null,null,null,null,null,null,null,"","","","","","",null,null,null,null,null,null,null,null,null,null,null,"",0,0,{"$f":"IF(G203=Basisgeg.!$C$36,AB203-AB203/(1+Basisgeg.!$C$36),\"\")","v":""},{"$f":"IF(G203=Basisgeg.!$C$37,AB203-AB203/(1+Basisgeg.!$C$37),\"\")","v":""},0,0,"",null,null,"","","","","","",""]
[null,"",null,null,null,null,null,null,null,"","","","","","",null,null,null,null,null,null,null,null,null,null,null,"",0,0,{"$f":"IF(G204=Basisgeg.!$C$36,AB204-AB204/(1+Basisgeg.!$C$36),\"\")","v":""},{"$f":"IF(G204=Basisgeg.!$C$37,AB204-AB204/(1+Basisgeg.!$C$37),\"\")","v":""},0,0,"",null,null,"","","","","","",""]
[null,"",null,null,null,null,null,null,null,"","","","","","",null,null,null,null,null,null,null,null,null,null,null,"",0,0,{"$f":"IF(G205=Basisgeg.!$C$36,AB205-AB205/(1+Basisgeg.!$C$36),\"\")","v":""},{"$f":"IF(G205=Basisgeg.!$C$37,AB205-AB205/(1+Basisgeg.!$C$37),\"\")","v":""},0,0,"",null,null,"","","","","","",""]
[null,"",null,null,null,null,null,null,null,"","","","","","",null,null,null,null,null,null,null,null,null,null,null,"",0,0,{"$f":"IF(G206=Basisgeg.!$C$36,AB206-AB206/(1+Basisgeg.!$C$36),\"\")","v":""},{"$f":"IF(G206=Basisgeg.!$C$37,AB206-AB206/(1+Basisgeg.!$C$37),\"\")","v":""},0,0,"",null,null,"","","","","","",""]
[null,"",null,null,null,null,null,null,null,"","","","","","",null,null,null,null,null,null,null,null,null,null,null,"",0,0,{"$f":"IF(G207=Basisgeg.!$C$36,AB207-AB207/(1+Basisgeg.!$C$36),\"\")","v":""},{"$f":"IF(G207=Basisgeg.!$C$37,AB207-AB207/(1+Basisgeg.!$C$37),\"\")","v":""},0,0,"",null,null,"","","","","","",""]
[null,"",null,null,null,null,null,null,null,"","","","","","",null,null,null,null,null,null,null,null,null,null,null,"",0,0,{"$f":"IF(G208=Basisgeg.!$C$36,AB208-AB208/(1+Basisgeg.!$C$36),\"\")","v":""},{"$f":"IF(G208=Basisgeg.!$C$37,AB208-AB208/(1+Basisgeg.!$C$37),\"\")","v":""},0,0,"",null,null,"","","","","","",""]
[null,"",null,null,null,null,null,null,null,"","","","","","",null,null,null,null,null,null,null,null,null,null,null,"",0,0,{"$f":"IF(G209=Basisgeg.!$C$36,AB209-AB209/(1+Basisgeg.!$C$36),\"\")","v":""},{"$f":"IF(G209=Basisgeg.!$C$37,AB209-AB209/(1+Basisgeg.!$C$37),\"\")","v":""},0,0,"",null,null,"","","","","","",""]
[null,"",null,null,null,null,null,null,null,"","","","","","",null,null,null,null,null,null,null,null,null,null,null,"",0,0,{"$f":"IF(G210=Basisgeg.!$C$36,AB210-AB210/(1+Basisgeg.!$C$36),\"\")","v":""},{"$f":"IF(G210=Basisgeg.!$C$37,AB210-AB210/(1+Basisgeg.!$C$37),\"\")","v":""},0,0,"",null,null,"","","","","","",""]
[null,"",null,null,null,null,null,null,null,"","","","","","",null,null,null,null,null,null,null,null,null,null,null,"",0,0,{"$f":"IF(G211=Basisgeg.!$C$36,AB211-AB211/(1+Basisgeg.!$C$36),\"\")","v":""},{"$f":"IF(G211=Basisgeg.!$C$37,AB211-AB211/(1+Basisgeg.!$C$37),\"\")","v":""},0,0,"",null,null,"","","","","","",""]
[null,"",null,null,null,null,null,null,null,"","","","","","",null,null,null,null,null,null,null,null,null,null,null,"",0,0,{"$f":"IF(G212=Basisgeg.!$C$36,AB212-AB212/(1+Basisgeg.!$C$36),\"\")","v":""},{"$f":"IF(G212=Basisgeg.!$C$37,AB212-AB212/(1+Basisgeg.!$C$37),\"\")","v":""},0,0,"",null,null,"","","","","","",""]
[null,"",null,null,null,null,null,null,null,"","","","","","",null,null,null,null,null,null,null,null,null,null,null,"",0,0,{"$f":"IF(G213=Basisgeg.!$C$36,AB213-AB213/(1+Basisgeg.!$C$36),\"\")","v":""},{"$f":"IF(G213=Basisgeg.!$C$37,AB213-AB213/(1+Basisgeg.!$C$37),\"\")","v":""},0,0,"",null,null,"","","","","","",""]
[null,"",null,null,null,null,null,null,null,"","","","","","",null,null,null,null,null,null,null,null,null,null,null,"",0,0,{"$f":"IF(G214=Basisgeg.!$C$36,AB214-AB214/(1+Basisgeg.!$C$36),\"\")","v":""},{"$f":"IF(G214=Basisgeg.!$C$37,AB214-AB214/(1+Basisgeg.!$C$37),\"\")","v":""},0,0,"",null,null,"","","","","","",""]
[null,"",null,null,null,null,null,null,null,"","","","","","",null,null,null,null,null,null,null,null,null,null,null,"",0,0,{"$f":"IF(G215=Basisgeg.!$C$36,AB215-AB215/(1+Basisgeg.!$C$36),\"\")","v":""},{"$f":"IF(G215=Basisgeg.!$C$37,AB215-AB215/(1+Basisgeg.!$C$37),\"\")","v":""},0,0,"",null,null,"","","","","","",""]
[null,"",null,null,null,null,null,null,null,"","","","","","",null,null,null,null,null,null,null,null,null,null,null,"",0,0,{"$f":"IF(G216=Basisgeg.!$C$36,AB216-AB216/(1+Basisgeg.!$C$36),\"\")","v":""},{"$f":"IF(G216=Basisgeg.!$C$37,AB216-AB216/(1+Basisgeg.!$C$37),\"\")","v":""},0,0,"",null,null,"","","","","","",""]
[null,"",null,null,null,null,null,null,null,"","","","","","",null,null,null,null,null,null,null,null,null,null,null,"",0,0,{"$f":"IF(G217=Basisgeg.!$C$36,AB217-AB217/(1+Basisgeg.!$C$36),\"\")","v":""},{"$f":"IF(G217=Basisgeg.!$C$37,AB217-AB217/(1+Basisgeg.!$C$37),\"\")","v":""},0,0,"",null,null,"","","","","","",""]
[null,"",null,null,null,null,null,null,null,"","","","","","",null,null,null,null,null,null,null,null,null,null,null,"",0,0,{"$f":"IF(G218=Basisgeg.!$C$36,AB218-AB218/(1+Basisgeg.!$C$36),\"\")","v":""},{"$f":"IF(G218=Basisgeg.!$C$37,AB218-AB218/(1+Basisgeg.!$C$37),\"\")","v":""},0,0,"",null,null,"","","","","","",""]
[null,"",null,null,null,null,null,null,null,"","","","","","",null,null,null,null,null,null,null,null,null,null,null,"",0,0,{"$f":"IF(G219=Basisgeg.!$C$36,AB219-AB219/(1+Basisgeg.!$C$36),\"\")","v":""},{"$f":"IF(G219=Basisgeg.!$C$37,AB219-AB219/(1+Basisgeg.!$C$37),\"\")","v":""},0,0,"",null,null,"","","","","","",""]
[null,"",null,null,null,null,null,null,null,"","","","","","",null,null,null,null,null,null,null,null,null,null,null,"",0,0,{"$f":"IF(G220=Basisgeg.!$C$36,AB220-AB220/(1+Basisgeg.!$C$36),\"\")","v":""},{"$f":"IF(G220=Basisgeg.!$C$37,AB220-AB220/(1+Basisgeg.!$C$37),\"\")","v":""},0,0,"",null,null,"","","","","","",""]
[null,"",null,null,null,null,null,null,null,"","","","","","",null,null,null,null,null,null,null,null,null,null,null,"",0,0,{"$f":"IF(G221=Basisgeg.!$C$36,AB221-AB221/(1+Basisgeg.!$C$36),\"\")","v":""},{"$f":"IF(G221=Basisgeg.!$C$37,AB221-AB221/(1+Basisgeg.!$C$37),\"\")","v":""},0,0,"",null,null,"","","","","","",""]
[null,"",null,null,null,null,null,null,null,"","","","","","",null,null,null,null,null,null,null,null,null,null,null,"",0,0,{"$f":"IF(G222=Basisgeg.!$C$36,AB222-AB222/(1+Basisgeg.!$C$36),\"\")","v":""},{"$f":"IF(G222=Basisgeg.!$C$37,AB222-AB222/(1+Basisgeg.!$C$37),\"\")","v":""},0,0,"",null,null,"","","","","","",""]
[null,"",null,null,null,null,null,null,null,"","","","","","",null,null,null,null,null,null,null,null,null,null,null,"",0,0,{"$f":"IF(G223=Basisgeg.!$C$36,AB223-AB223/(1+Basisgeg.!$C$36),\"\")","v":""},{"$f":"IF(G223=Basisgeg.!$C$37,AB223-AB223/(1+Basisgeg.!$C$37),\"\")","v":""},0,0,"",null,null,"","","","","","",""]
[null,"",null,null,null,null,null,null,null,"","","","","","",null,null,null,null,null,null,null,null,null,null,null,"",0,0,{"$f":"IF(G224=Basisgeg.!$C$36,AB224-AB224/(1+Basisgeg.!$C$36),\"\")","v":""},{"$f":"IF(G224=Basisgeg.!$C$37,AB224-AB224/(1+Basisgeg.!$C$37),\"\")","v":""},0,0,"",null,null,"","","","","","",""]
[null,"",null,null,null,null,null,null,null,"","","","","","",null,null,null,null,null,null,null,null,null,null,null,"",0,0,{"$f":"IF(G225=Basisgeg.!$C$36,AB225-AB225/(1+Basisgeg.!$C$36),\"\")","v":""},{"$f":"IF(G225=Basisgeg.!$C$37,AB225-AB225/(1+Basisgeg.!$C$37),\"\")","v":""},0,0,"",null,null,"","","","","","",""]
[null,"",null,null,null,null,null,null,null,"","","","","","",null,null,null,null,null,null,null,null,null,null,null,"",0,0,{"$f":"IF(G226=Basisgeg.!$C$36,AB226-AB226/(1+Basisgeg.!$C$36),\"\")","v":""},{"$f":"IF(G226=Basisgeg.!$C$37,AB226-AB226/(1+Basisgeg.!$C$37),\"\")","v":""},0,0,"",null,null,"","","","","","",""]
[null,"",null,null,null,null,null,null,null,"","","","","","",null,null,null,null,null,null,null,null,null,null,null,"",0,0,{"$f":"IF(G227=Basisgeg.!$C$36,AB227-AB227/(1+Basisgeg.!$C$36),\"\")","v":""},{"$f":"IF(G227=Basisgeg.!$C$37,AB227-AB227/(1+Basisgeg.!$C$37),\"\")","v":""},0,0,"",null,null,"","","","","","",""]
[null,"",null,null,null,null,null,null,null,"","","","","","",null,null,null,null,null,null,null,null,null,null,null,"",0,0,{"$f":"IF(G228=Basisgeg.!$C$36,AB228-AB228/(1+Basisgeg.!$C$36),\"\")","v":""},{"$f":"IF(G228=Basisgeg.!$C$37,AB228-AB228/(1+Basisgeg.!$C$37),\"\")","v":""},0,0,"",null,null,"","","","","","",""]
[null,"",null,null,null,null,null,null,null,"","","","","","",null,null,null,null,null,null,null,null,null,null,null,"",0,0,{"$f":"IF(G229=Basisgeg.!$C$36,AB229-AB229/(1+Basisgeg.!$C$36),\"\")","v":""},{"$f":"IF(G229=Basisgeg.!$C$37,AB229-AB229/(1+Basisgeg.!$C$37),\"\")","v":""},0,0,"",null,null,"","","","","","",""]
[null,"",null,null,null,null,null,null,null,"","","","","","",null,null,null,null,null,null,null,null,null,null,null,"",0,0,{"$f":"IF(G230=Basisgeg.!$C$36,AB230-AB230/(1+Basisgeg.!$C$36),\"\")","v":""},{"$f":"IF(G230=Basisgeg.!$C$37,AB230-AB230/(1+Basisgeg.!$C$37),\"\")","v":""},0,0,"",null,null,"","","","","","",""]
[null,"",null,null,null,null,null,null,null,"","","","","","",null,null,null,null,null,null,null,null,null,null,null,"",0,0,{"$f":"IF(G231=Basisgeg.!$C$36,AB231-AB231/(1+Basisgeg.!$C$36),\"\")","v":""},{"$f":"IF(G231=Basisgeg.!$C$37,AB231-AB231/(1+Basisgeg.!$C$37),\"\")","v":""},0,0,"",null,null,"","","","","","",""]
[null,"",null,null,null,null,null,null,null,"","","","","","",null,null,null,null,null,null,null,null,null,null,null,"",0,0,{"$f":"IF(G232=Basisgeg.!$C$36,AB232-AB232/(1+Basisgeg.!$C$36),\"\")","v":""},{"$f":"IF(G232=Basisgeg.!$C$37,AB232-AB232/(1+Basisgeg.!$C$37),\"\")","v":""},0,0,"",null,null,"","","","","","",""]
[null,"",null,null,null,null,null,null,null,"","","","","","",null,null,null,null,null,null,null,null,null,null,null,"",0,0,{"$f":"IF(G233=Basisgeg.!$C$36,AB233-AB233/(1+Basisgeg.!$C$36),\"\")","v":""},{"$f":"IF(G233=Basisgeg.!$C$37,AB233-AB233/(1+Basisgeg.!$C$37),\"\")","v":""},0,0,"",null,null,"","","","","","",""]
[null,"",null,null,null,null,null,null,null,"","","","","","",null,null,null,null,null,null,null,null,null,null,null,"",0,0,{"$f":"IF(G234=Basisgeg.!$C$36,AB234-AB234/(1+Basisgeg.!$C$36),\"\")","v":""},{"$f":"IF(G234=Basisgeg.!$C$37,AB234-AB234/(1+Basisgeg.!$C$37),\"\")","v":""},0,0,"",null,null,"","","","","","",""]
[null,"",null,null,null,null,null,null,null,"","","","","","",null,null,null,null,null,null,null,null,null,null,null,"",0,0,{"$f":"IF(G235=Basisgeg.!$C$36,AB235-AB235/(1+Basisgeg.!$C$36),\"\")","v":""},{"$f":"IF(G235=Basisgeg.!$C$37,AB235-AB235/(1+Basisgeg.!$C$37),\"\")","v":""},0,0,"",null,null,"","","","","","",""]
[null,"",null,null,null,null,null,null,null,"","","","","","",null,null,null,null,null,null,null,null,null,null,null,"",0,0,{"$f":"IF(G236=Basisgeg.!$C$36,AB236-AB236/(1+Basisgeg.!$C$36),\"\")","v":""},{"$f":"IF(G236=Basisgeg.!$C$37,AB236-AB236/(1+Basisgeg.!$C$37),\"\")","v":""},0,0,"",null,null,"","","","","","",""]
[null,"",null,null,null,null,null,null,null,"","","","","","",null,null,null,null,null,null,null,null,null,null,null,"",0,0,{"$f":"IF(G237=Basisgeg.!$C$36,AB237-AB237/(1+Basisgeg.!$C$36),\"\")","v":""},{"$f":"IF(G237=Basisgeg.!$C$37,AB237-AB237/(1+Basisgeg.!$C$37),\"\")","v":""},0,0,"",null,null,"","","","","","",""]
[null,"",null,null,null,null,null,null,null,"","","","","","",null,null,null,null,null,null,null,null,null,null,null,"",0,0,{"$f":"IF(G238=Basisgeg.!$C$36,AB238-AB238/(1+Basisgeg.!$C$36),\"\")","v":""},{"$f":"IF(G238=Basisgeg.!$C$37,AB238-AB238/(1+Basisgeg.!$C$37),\"\")","v":""},0,0,"",null,null,"","","","","","",""]
[null,"",null,null,null,null,null,null,null,"","","","","","",null,null,null,null,null,null,null,null,null,null,null,"",0,0,{"$f":"IF(G239=Basisgeg.!$C$36,AB239-AB239/(1+Basisgeg.!$C$36),\"\")","v":""},{"$f":"IF(G239=Basisgeg.!$C$37,AB239-AB239/(1+Basisgeg.!$C$37),\"\")","v":""},0,0,"",null,null,"","","","","","",""]
[null,"",null,null,null,null,null,null,null,"","","","","","",null,null,null,null,null,null,null,null,null,null,null,"",0,0,{"$f":"IF(G240=Basisgeg.!$C$36,AB240-AB240/(1+Basisgeg.!$C$36),\"\")","v":""},{"$f":"IF(G240=Basisgeg.!$C$37,AB240-AB240/(1+Basisgeg.!$C$37),\"\")","v":""},0,0,"",null,null,"","","","","","",""]
[null,"",null,null,null,null,null,null,null,"","","","","","",null,null,null,null,null,null,null,null,null,null,null,"",0,0,{"$f":"IF(G241=Basisgeg.!$C$36,AB241-AB241/(1+Basisgeg.!$C$36),\"\")","v":""},{"$f":"IF(G241=Basisgeg.!$C$37,AB241-AB241/(1+Basisgeg.!$C$37),\"\")","v":""},0,0,"",null,null,"","","","","","",""]
[null,"",null,null,null,null,null,null,null,"","","","","","",null,null,null,null,null,null,null,null,null,null,null,"",0,0,{"$f":"IF(G242=Basisgeg.!$C$36,AB242-AB242/(1+Basisgeg.!$C$36),\"\")","v":""},{"$f":"IF(G242=Basisgeg.!$C$37,AB242-AB242/(1+Basisgeg.!$C$37),\"\")","v":""},0,0,"",null,null,"","","","","","",""]
[null,"",null,null,null,null,null,null,null,"","","","","","",null,null,null,null,null,null,null,null,null,null,null,"",0,0,{"$f":"IF(G243=Basisgeg.!$C$36,AB243-AB243/(1+Basisgeg.!$C$36),\"\")","v":""},{"$f":"IF(G243=Basisgeg.!$C$37,AB243-AB243/(1+Basisgeg.!$C$37),\"\")","v":""},0,0,"",null,null,"","","","","","",""]
[null,"",null,null,null,null,null,null,null,"","","","","","",null,null,null,null,null,null,null,null,null,null,null,"",0,0,{"$f":"IF(G244=Basisgeg.!$C$36,AB244-AB244/(1+Basisgeg.!$C$36),\"\")","v":""},{"$f":"IF(G244=Basisgeg.!$C$37,AB244-AB244/(1+Basisgeg.!$C$37),\"\")","v":""},0,0,"",null,null,"","","","","","",""]
[null,"",null,null,null,null,null,null,null,"","","","","","",null,null,null,null,null,null,null,null,null,null,null,"",0,0,{"$f":"IF(G245=Basisgeg.!$C$36,AB245-AB245/(1+Basisgeg.!$C$36),\"\")","v":""},{"$f":"IF(G245=Basisgeg.!$C$37,AB245-AB245/(1+Basisgeg.!$C$37),\"\")","v":""},0,0,"",null,null,"","","","","","",""]
[null,"",null,null,null,null,null,null,null,"","","","","","",null,null,null,null,null,null,null,null,null,null,null,"",0,0,{"$f":"IF(G246=Basisgeg.!$C$36,AB246-AB246/(1+Basisgeg.!$C$36),\"\")","v":""},{"$f":"IF(G246=Basisgeg.!$C$37,AB246-AB246/(1+Basisgeg.!$C$37),\"\")","v":""},0,0,"",null,null,"","","","","","",""]
[null,"",null,null,null,null,null,null,null,"","","","","","",null,null,null,null,null,null,null,null,null,null,null,"",0,0,{"$f":"IF(G247=Basisgeg.!$C$36,AB247-AB247/(1+Basisgeg.!$C$36),\"\")","v":""},{"$f":"IF(G247=Basisgeg.!$C$37,AB247-AB247/(1+Basisgeg.!$C$37),\"\")","v":""},0,0,"",null,null,"","","","","","",""]
[null,"",null,null,null,null,null,null,null,"","","","","","",null,null,null,null,null,null,null,null,null,null,null,"",0,0,{"$f":"IF(G248=Basisgeg.!$C$36,AB248-AB248/(1+Basisgeg.!$C$36),\"\")","v":""},{"$f":"IF(G248=Basisgeg.!$C$37,AB248-AB248/(1+Basisgeg.!$C$37),\"\")","v":""},0,0,"",null,null,"","","","","","",""]
[null,"",null,null,null,null,null,null,null,"","","","","","",null,null,null,null,null,null,null,null,null,null,null,"",0,0,{"$f":"IF(G249=Basisgeg.!$C$36,AB249-AB249/(1+Basisgeg.!$C$36),\"\")","v":""},{"$f":"IF(G249=Basisgeg.!$C$37,AB249-AB249/(1+Basisgeg.!$C$37),\"\")","v":""},0,0,"",null,null,"","","","","","",""]
[null,"",null,null,null,null,null,null,null,"","","","","","",null,null,null,null,null,null,null,null,null,null,null,"",0,0,{"$f":"IF(G250=Basisgeg.!$C$36,AB250-AB250/(1+Basisgeg.!$C$36),\"\")","v":""},{"$f":"IF(G250=Basisgeg.!$C$37,AB250-AB250/(1+Basisgeg.!$C$37),\"\")","v":""},0,0,"",null,null,"","","","","","",""]
[null,"",null,null,null,null,null,null,null,"","","","","","",null,null,null,null,null,null,null,null,null,null,null,"",0,0,{"$f":"IF(G251=Basisgeg.!$C$36,AB251-AB251/(1+Basisgeg.!$C$36),\"\")","v":""},{"$f":"IF(G251=Basisgeg.!$C$37,AB251-AB251/(1+Basisgeg.!$C$37),\"\")","v":""},0,0,"",null,null,"","","","","","",""]
[null,"",null,null,null,null,null,null,null,"","","","","","",null,null,null,null,null,null,null,null,null,null,null,"",0,0,{"$f":"IF(G252=Basisgeg.!$C$36,AB252-AB252/(1+Basisgeg.!$C$36),\"\")","v":""},{"$f":"IF(G252=Basisgeg.!$C$37,AB252-AB252/(1+Basisgeg.!$C$37),\"\")","v":""},0,0,"",null,null,"","","","","","",""]
[null,"",null,null,null,null,null,null,null,"","","","","","",null,null,null,null,null,null,null,null,null,null,null,"",0,0,{"$f":"IF(G253=Basisgeg.!$C$36,AB253-AB253/(1+Basisgeg.!$C$36),\"\")","v":""},{"$f":"IF(G253=Basisgeg.!$C$37,AB253-AB253/(1+Basisgeg.!$C$37),\"\")","v":""},0,0,"",null,null,"","","","","","",""]
[null,"",null,null,null,null,null,null,null,"","","","","","",null,null,null,null,null,null,null,null,null,null,null,"",0,0,{"$f":"IF(G254=Basisgeg.!$C$36,AB254-AB254/(1+Basisgeg.!$C$36),\"\")","v":""},{"$f":"IF(G254=Basisgeg.!$C$37,AB254-AB254/(1+Basisgeg.!$C$37),\"\")","v":""},0,0,"",null,null,"","","","","","",""]
[null,"",null,null,null,null,null,null,null,"","","","","","",null,null,null,null,null,null,null,null,null,null,null,"",0,0,{"$f":"IF(G255=Basisgeg.!$C$36,AB255-AB255/(1+Basisgeg.!$C$36),\"\")","v":""},{"$f":"IF(G255=Basisgeg.!$C$37,AB255-AB255/(1+Basisgeg.!$C$37),\"\")","v":""},0,0,"",null,null,"","","","","","",""]
[null,"",null,null,null,null,null,null,null,"","","","","","",null,null,null,null,null,null,null,null,null,null,null,"",0,0,{"$f":"IF(G256=Basisgeg.!$C$36,AB256-AB256/(1+Basisgeg.!$C$36),\"\")","v":""},{"$f":"IF(G256=Basisgeg.!$C$37,AB256-AB256/(1+Basisgeg.!$C$37),\"\")","v":""},0,0,"",null,null,"","","","","","",""]
[null,"",null,null,null,null,null,null,null,"","","","","","",null,null,null,null,null,null,null,null,null,null,null,"",0,0,{"$f":"IF(G257=Basisgeg.!$C$36,AB257-AB257/(1+Basisgeg.!$C$36),\"\")","v":""},{"$f":"IF(G257=Basisgeg.!$C$37,AB257-AB257/(1+Basisgeg.!$C$37),\"\")","v":""},0,0,"",null,null,"","","","","","",""]
[null,"",null,null,null,null,null,null,null,"","","","","","",null,null,null,null,null,null,null,null,null,null,null,"",0,0,{"$f":"IF(G258=Basisgeg.!$C$36,AB258-AB258/(1+Basisgeg.!$C$36),\"\")","v":""},{"$f":"IF(G258=Basisgeg.!$C$37,AB258-AB258/(1+Basisgeg.!$C$37),\"\")","v":""},0,0,"",null,null,"","","","","","",""]
[null,"",null,null,null,null,null,null,null,"","","","","","",null,null,null,null,null,null,null,null,null,null,null,"",0,0,{"$f":"IF(G259=Basisgeg.!$C$36,AB259-AB259/(1+Basisgeg.!$C$36),\"\")","v":""},{"$f":"IF(G259=Basisgeg.!$C$37,AB259-AB259/(1+Basisgeg.!$C$37),\"\")","v":""},0,0,"",null,null,"","","","","","",""]
[null,"",null,null,null,null,null,null,null,"","","","","","",null,null,null,null,null,null,null,null,null,null,null,"",0,0,{"$f":"IF(G260=Basisgeg.!$C$36,AB260-AB260/(1+Basisgeg.!$C$36),\"\")","v":""},{"$f":"IF(G260=Basisgeg.!$C$37,AB260-AB260/(1+Basisgeg.!$C$37),\"\")","v":""},0,0,"",null,null,"","","","","","",""]
[null,"",null,null,null,null,null,null,null,"","","","","","",null,null,null,null,null,null,null,null,null,null,null,{"$f":"IF(C261<>\"\",MONTH(C261),\"\")","v":""},{"$f":"+H261","v":0},{"$f":"E261","v":0},{"$f":"IF(G261=Basisgeg.!$C$36,AB261-AB261/(1+Basisgeg.!$C$36),\"\")","v":""},{"$f":"IF(G261=Basisgeg.!$C$37,AB261-AB261/(1+Basisgeg.!$C$37),\"\")","v":""},{"$f":"I261","v":0},{"$f":"F261","v":0},{"$f":"L261","v":""},null,null,"","","","","","",""]
[null,{"$f":"IF(C262=\"\",\"\",IF(B261=\"Nr.\",1,B261+1))","v":""},null,null,null,null,null,null,null,{"$f":"IF(B262=\"\",\"\",IF(AND(H262=\"\",I262=\"\"),\"\",IF(AND(E262<>\"\",F262<>\"\"),\"FOUT\",IF(AND(E262=\"\",H262<>\"\"),\"FOUT\",IF(AND(F262=\"\",I262<>\"\"),\"FOUT\",IF(G262=\"\",\"BTW ?\",\"OK\"))))))","v":""},{"$f":"IF(H262=\"\",\"\",(H262/((1+$G262)*100))*($G262*100))","v":""},{"$f":"IF(I262=\"\",\"\",(I262/((1+$G262)*100))*($G262*100))","v":""},{"$f":"IF(H262=\"\",\"\",+H262-K262)","v":""},{"$f":"IF(I262=\"\",\"\",+I262-L262)","v":""},{"$f":"IF(C262=\"\",\"\",MONTH(C262))","v":""},null,null,null,null,null,null,null,null,null,null,null,"",0,0,{"$f":"IF(G262=Basisgeg.!$C$36,AB262-AB262/(1+Basisgeg.!$C$36),\"\")","v":""},{"$f":"IF(G262=Basisgeg.!$C$37,AB262-AB262/(1+Basisgeg.!$C$37),\"\")","v":""},0,0,"",null,null,{"$f":"IF($AA262=$AJ$5,AB262,\"\")","v":""},{"$f":"IF($AA262=$AJ$5,AC262,\"\")","v":""},{"$f":"IF($AA262=$AJ$5,AD262,\"\")","v":""},{"$f":"IF($AA262=$AJ$5,AE262,\"\")","v":""},{"$f":"IF($AA262=$AJ$5,AF262,\"\")","v":""},{"$f":"IF($AA262=$AJ$5,AG262,\"\")","v":""},{"$f":"IF($AA262=$AJ$5,AH262,\"\")","v":""}]
[null,"",null,null,null,null,null,null,null,"","","","","","",null,null,null,null,null,null,null,null,null,null,null,"",0,0,{"$f":"IF(G263=Basisgeg.!$C$36,AB263-AB263/(1+Basisgeg.!$C$36),\"\")","v":""},{"$f":"IF(G263=Basisgeg.!$C$37,AB263-AB263/(1+Basisgeg.!$C$37),\"\")","v":""},0,0,"",null,null,"","","","","","",""]
[null,"",null,null,null,null,null,null,null,"","","","","","",null,null,null,null,null,null,null,null,null,null,null,"",0,0,{"$f":"IF(G264=Basisgeg.!$C$36,AB264-AB264/(1+Basisgeg.!$C$36),\"\")","v":""},{"$f":"IF(G264=Basisgeg.!$C$37,AB264-AB264/(1+Basisgeg.!$C$37),\"\")","v":""},0,0,"",null,null,"","","","","","",""]
[null,"",null,null,null,null,null,null,null,"","","","","","",null,null,null,null,null,null,null,null,null,null,null,"",0,0,{"$f":"IF(G265=Basisgeg.!$C$36,AB265-AB265/(1+Basisgeg.!$C$36),\"\")","v":""},{"$f":"IF(G265=Basisgeg.!$C$37,AB265-AB265/(1+Basisgeg.!$C$37),\"\")","v":""},0,0,"",null,null,"","","","","","",""]
[null,"",null,null,null,null,null,null,null,"","","","","","",null,null,null,null,null,null,null,null,null,null,null,"",0,0,{"$f":"IF(G266=Basisgeg.!$C$36,AB266-AB266/(1+Basisgeg.!$C$36),\"\")","v":""},{"$f":"IF(G266=Basisgeg.!$C$37,AB266-AB266/(1+Basisgeg.!$C$37),\"\")","v":""},0,0,"",null,null,"","","","","","",""]
[null,"",null,null,null,null,null,null,null,"","","","","","",null,null,null,null,null,null,null,null,null,null,null,"",0,0,{"$f":"IF(G267=Basisgeg.!$C$36,AB267-AB267/(1+Basisgeg.!$C$36),\"\")","v":""},{"$f":"IF(G267=Basisgeg.!$C$37,AB267-AB267/(1+Basisgeg.!$C$37),\"\")","v":""},0,0,"",null,null,"","","","","","",""]
[null,"",null,null,null,null,null,null,null,"","","","","","",null,null,null,null,null,null,null,null,null,null,null,"",0,0,{"$f":"IF(G268=Basisgeg.!$C$36,AB268-AB268/(1+Basisgeg.!$C$36),\"\")","v":""},{"$f":"IF(G268=Basisgeg.!$C$37,AB268-AB268/(1+Basisgeg.!$C$37),\"\")","v":""},0,0,"",null,null,"","","","","","",""]
[null,"",null,null,null,null,null,null,null,"","","","","","",null,null,null,null,null,null,null,null,null,null,null,"",0,0,{"$f":"IF(G269=Basisgeg.!$C$36,AB269-AB269/(1+Basisgeg.!$C$36),\"\")","v":""},{"$f":"IF(G269=Basisgeg.!$C$37,AB269-AB269/(1+Basisgeg.!$C$37),\"\")","v":""},0,0,"",null,null,"","","","","","",""]
[null,"",null,null,null,null,null,null,null,"","","","","","",null,null,null,null,null,null,null,null,null,null,null,"",0,0,{"$f":"IF(G270=Basisgeg.!$C$36,AB270-AB270/(1+Basisgeg.!$C$36),\"\")","v":""},{"$f":"IF(G270=Basisgeg.!$C$37,AB270-AB270/(1+Basisgeg.!$C$37),\"\")","v":""},0,0,"",null,null,"","","","","","",""]
[null,"",null,null,null,null,null,null,null,"","","","","","",null,null,null,null,null,null,null,null,null,null,null,"",0,0,{"$f":"IF(G271=Basisgeg.!$C$36,AB271-AB271/(1+Basisgeg.!$C$36),\"\")","v":""},{"$f":"IF(G271=Basisgeg.!$C$37,AB271-AB271/(1+Basisgeg.!$C$37),\"\")","v":""},0,0,"",null,null,"","","","","","",""]
[null,"",null,null,null,null,null,null,null,"","","","","","",null,null,null,null,null,null,null,null,null,null,null,"",0,0,{"$f":"IF(G272=Basisgeg.!$C$36,AB272-AB272/(1+Basisgeg.!$C$36),\"\")","v":""},{"$f":"IF(G272=Basisgeg.!$C$37,AB272-AB272/(1+Basisgeg.!$C$37),\"\")","v":""},0,0,"",null,null,"","","","","","",""]
[null,"",null,null,null,null,null,null,null,"","","","","","",null,null,null,null,null,null,null,null,null,null,null,"",0,0,{"$f":"IF(G273=Basisgeg.!$C$36,AB273-AB273/(1+Basisgeg.!$C$36),\"\")","v":""},{"$f":"IF(G273=Basisgeg.!$C$37,AB273-AB273/(1+Basisgeg.!$C$37),\"\")","v":""},0,0,"",null,null,"","","","","","",""]
[null,"",null,null,null,null,null,null,null,"","","","","","",null,null,null,null,null,null,null,null,null,null,null,"",0,0,{"$f":"IF(G274=Basisgeg.!$C$36,AB274-AB274/(1+Basisgeg.!$C$36),\"\")","v":""},{"$f":"IF(G274=Basisgeg.!$C$37,AB274-AB274/(1+Basisgeg.!$C$37),\"\")","v":""},0,0,"",null,null,"","","","","","",""]
[null,"",null,null,null,null,null,null,null,"","","","","","",null,null,null,null,null,null,null,null,null,null,null,"",0,0,{"$f":"IF(G275=Basisgeg.!$C$36,AB275-AB275/(1+Basisgeg.!$C$36),\"\")","v":""},{"$f":"IF(G275=Basisgeg.!$C$37,AB275-AB275/(1+Basisgeg.!$C$37),\"\")","v":""},0,0,"",null,null,"","","","","","",""]
[null,"",null,null,null,null,null,null,null,"","","","","","",null,null,null,null,null,null,null,null,null,null,null,"",0,0,{"$f":"IF(G276=Basisgeg.!$C$36,AB276-AB276/(1+Basisgeg.!$C$36),\"\")","v":""},{"$f":"IF(G276=Basisgeg.!$C$37,AB276-AB276/(1+Basisgeg.!$C$37),\"\")","v":""},0,0,"",null,null,"","","","","","",""]
[null,"",null,null,null,null,null,null,null,"","","","","","",null,null,null,null,null,null,null,null,null,null,null,"",0,0,{"$f":"IF(G277=Basisgeg.!$C$36,AB277-AB277/(1+Basisgeg.!$C$36),\"\")","v":""},{"$f":"IF(G277=Basisgeg.!$C$37,AB277-AB277/(1+Basisgeg.!$C$37),\"\")","v":""},0,0,"",null,null,"","","","","","",""]
[null,"",null,null,null,null,null,null,null,"","","","","","",null,null,null,null,null,null,null,null,null,null,null,"",0,0,{"$f":"IF(G278=Basisgeg.!$C$36,AB278-AB278/(1+Basisgeg.!$C$36),\"\")","v":""},{"$f":"IF(G278=Basisgeg.!$C$37,AB278-AB278/(1+Basisgeg.!$C$37),\"\")","v":""},0,0,"",null,null,"","","","","","",""]
[null,"",null,null,null,null,null,null,null,"","","","","","",null,null,null,null,null,null,null,null,null,null,null,"",0,0,{"$f":"IF(G279=Basisgeg.!$C$36,AB279-AB279/(1+Basisgeg.!$C$36),\"\")","v":""},{"$f":"IF(G279=Basisgeg.!$C$37,AB279-AB279/(1+Basisgeg.!$C$37),\"\")","v":""},0,0,"",null,null,"","","","","","",""]
[null,"",null,null,null,null,null,null,null,"","","","","","",null,null,null,null,null,null,null,null,null,null,null,"",0,0,{"$f":"IF(G280=Basisgeg.!$C$36,AB280-AB280/(1+Basisgeg.!$C$36),\"\")","v":""},{"$f":"IF(G280=Basisgeg.!$C$37,AB280-AB280/(1+Basisgeg.!$C$37),\"\")","v":""},0,0,"",null,null,"","","","","","",""]
[null,"",null,null,null,null,null,null,null,"","","","","","",null,null,null,null,null,null,null,null,null,null,null,"",0,0,{"$f":"IF(G281=Basisgeg.!$C$36,AB281-AB281/(1+Basisgeg.!$C$36),\"\")","v":""},{"$f":"IF(G281=Basisgeg.!$C$37,AB281-AB281/(1+Basisgeg.!$C$37),\"\")","v":""},0,0,"",null,null,"","","","","","",""]
[null,"",null,null,null,null,null,null,null,"","","","","","",null,null,null,null,null,null,null,null,null,null,null,"",0,0,{"$f":"IF(G282=Basisgeg.!$C$36,AB282-AB282/(1+Basisgeg.!$C$36),\"\")","v":""},{"$f":"IF(G282=Basisgeg.!$C$37,AB282-AB282/(1+Basisgeg.!$C$37),\"\")","v":""},0,0,"",null,null,"","","","","","",""]
[null,"",null,null,null,null,null,null,null,"","","","","","",null,null,null,null,null,null,null,null,null,null,null,"",0,0,{"$f":"IF(G283=Basisgeg.!$C$36,AB283-AB283/(1+Basisgeg.!$C$36),\"\")","v":""},{"$f":"IF(G283=Basisgeg.!$C$37,AB283-AB283/(1+Basisgeg.!$C$37),\"\")","v":""},0,0,"",null,null,"","","","","","",""]
[null,"",null,null,null,null,null,null,null,"","","","","","",null,null,null,null,null,null,null,null,null,null,null,"",0,0,{"$f":"IF(G284=Basisgeg.!$C$36,AB284-AB284/(1+Basisgeg.!$C$36),\"\")","v":""},{"$f":"IF(G284=Basisgeg.!$C$37,AB284-AB284/(1+Basisgeg.!$C$37),\"\")","v":""},0,0,"",null,null,"","","","","","",""]
[null,"",null,null,null,null,null,null,null,"","","","","","",null,null,null,null,null,null,null,null,null,null,null,"",0,0,{"$f":"IF(G285=Basisgeg.!$C$36,AB285-AB285/(1+Basisgeg.!$C$36),\"\")","v":""},{"$f":"IF(G285=Basisgeg.!$C$37,AB285-AB285/(1+Basisgeg.!$C$37),\"\")","v":""},0,0,"",null,null,"","","","","","",""]
[null,"",null,null,null,null,null,null,null,"","","","","","",null,null,null,null,null,null,null,null,null,null,null,"",0,0,{"$f":"IF(G286=Basisgeg.!$C$36,AB286-AB286/(1+Basisgeg.!$C$36),\"\")","v":""},{"$f":"IF(G286=Basisgeg.!$C$37,AB286-AB286/(1+Basisgeg.!$C$37),\"\")","v":""},0,0,"",null,null,"","","","","","",""]
[null,"",null,null,null,null,null,null,null,"","","","","","",null,null,null,null,null,null,null,null,null,null,null,"",0,0,{"$f":"IF(G287=Basisgeg.!$C$36,AB287-AB287/(1+Basisgeg.!$C$36),\"\")","v":""},{"$f":"IF(G287=Basisgeg.!$C$37,AB287-AB287/(1+Basisgeg.!$C$37),\"\")","v":""},0,0,"",null,null,"","","","","","",""]
[null,"",null,null,null,null,null,null,null,"","","","","","",null,null,null,null,null,null,null,null,null,null,null,"",0,0,{"$f":"IF(G288=Basisgeg.!$C$36,AB288-AB288/(1+Basisgeg.!$C$36),\"\")","v":""},{"$f":"IF(G288=Basisgeg.!$C$37,AB288-AB288/(1+Basisgeg.!$C$37),\"\")","v":""},0,0,"",null,null,"","","","","","",""]
[null,"",null,null,null,null,null,null,null,"","","","","","",null,null,null,null,null,null,null,null,null,null,null,"",0,0,{"$f":"IF(G289=Basisgeg.!$C$36,AB289-AB289/(1+Basisgeg.!$C$36),\"\")","v":""},{"$f":"IF(G289=Basisgeg.!$C$37,AB289-AB289/(1+Basisgeg.!$C$37),\"\")","v":""},0,0,"",null,null,"","","","","","",""]
[null,"",null,null,null,null,null,null,null,"","","","","","",null,null,null,null,null,null,null,null,null,null,null,"",0,0,{"$f":"IF(G290=Basisgeg.!$C$36,AB290-AB290/(1+Basisgeg.!$C$36),\"\")","v":""},{"$f":"IF(G290=Basisgeg.!$C$37,AB290-AB290/(1+Basisgeg.!$C$37),\"\")","v":""},0,0,"",null,null,"","","","","","",""]
[null,"",null,null,null,null,null,null,null,"","","","","","",null,null,null,null,null,null,null,null,null,null,null,"",0,0,{"$f":"IF(G291=Basisgeg.!$C$36,AB291-AB291/(1+Basisgeg.!$C$36),\"\")","v":""},{"$f":"IF(G291=Basisgeg.!$C$37,AB291-AB291/(1+Basisgeg.!$C$37),\"\")","v":""},0,0,"",null,null,"","","","","","",""]
[null,"",null,null,null,null,null,null,null,"","","","","","",null,null,null,null,null,null,null,null,null,null,null,"",0,0,{"$f":"IF(G292=Basisgeg.!$C$36,AB292-AB292/(1+Basisgeg.!$C$36),\"\")","v":""},{"$f":"IF(G292=Basisgeg.!$C$37,AB292-AB292/(1+Basisgeg.!$C$37),\"\")","v":""},0,0,"",null,null,"","","","","","",""]
[null,"",null,null,null,null,null,null,null,"","","","","","",null,null,null,null,null,null,null,null,null,null,null,"",0,0,{"$f":"IF(G293=Basisgeg.!$C$36,AB293-AB293/(1+Basisgeg.!$C$36),\"\")","v":""},{"$f":"IF(G293=Basisgeg.!$C$37,AB293-AB293/(1+Basisgeg.!$C$37),\"\")","v":""},0,0,"",null,null,"","","","","","",""]
[null,"",null,null,null,null,null,null,null,"","","","","","",null,null,null,null,null,null,null,null,null,null,null,"",0,0,{"$f":"IF(G294=Basisgeg.!$C$36,AB294-AB294/(1+Basisgeg.!$C$36),\"\")","v":""},{"$f":"IF(G294=Basisgeg.!$C$37,AB294-AB294/(1+Basisgeg.!$C$37),\"\")","v":""},0,0,"",null,null,"","","","","","",""]
[null,"",null,null,null,null,null,null,null,"","","","","","",null,null,null,null,null,null,null,null,null,null,null,"",0,0,{"$f":"IF(G295=Basisgeg.!$C$36,AB295-AB295/(1+Basisgeg.!$C$36),\"\")","v":""},{"$f":"IF(G295=Basisgeg.!$C$37,AB295-AB295/(1+Basisgeg.!$C$37),\"\")","v":""},0,0,"",null,null,"","","","","","",""]
[null,"",null,null,null,null,null,null,null,"","","","","","",null,null,null,null,null,null,null,null,null,null,null,"",0,0,{"$f":"IF(G296=Basisgeg.!$C$36,AB296-AB296/(1+Basisgeg.!$C$36),\"\")","v":""},{"$f":"IF(G296=Basisgeg.!$C$37,AB296-AB296/(1+Basisgeg.!$C$37),\"\")","v":""},0,0,"",null,null,"","","","","","",""]
[null,"",null,null,null,null,null,null,null,"","","","","","",null,null,null,null,null,null,null,null,null,null,null,"",0,0,{"$f":"IF(G297=Basisgeg.!$C$36,AB297-AB297/(1+Basisgeg.!$C$36),\"\")","v":""},{"$f":"IF(G297=Basisgeg.!$C$37,AB297-AB297/(1+Basisgeg.!$C$37),\"\")","v":""},0,0,"",null,null,"","","","","","",""]
[null,"",null,null,null,null,null,null,null,"","","","","","",null,null,null,null,null,null,null,null,null,null,null,"",0,0,{"$f":"IF(G298=Basisgeg.!$C$36,AB298-AB298/(1+Basisgeg.!$C$36),\"\")","v":""},{"$f":"IF(G298=Basisgeg.!$C$37,AB298-AB298/(1+Basisgeg.!$C$37),\"\")","v":""},0,0,"",null,null,"","","","","","",""]
[null,"",null,null,null,null,null,null,null,"","","","","","",null,null,null,null,null,null,null,null,null,null,null,"",0,0,{"$f":"IF(G299=Basisgeg.!$C$36,AB299-AB299/(1+Basisgeg.!$C$36),\"\")","v":""},{"$f":"IF(G299=Basisgeg.!$C$37,AB299-AB299/(1+Basisgeg.!$C$37),\"\")","v":""},0,0,"",null,null,"","","","","","",""]
[null,"",null,null,null,null,null,null,null,"","","","","","",null,null,null,null,null,null,null,null,null,null,null,"",0,0,{"$f":"IF(G300=Basisgeg.!$C$36,AB300-AB300/(1+Basisgeg.!$C$36),\"\")","v":""},{"$f":"IF(G300=Basisgeg.!$C$37,AB300-AB300/(1+Basisgeg.!$C$37),\"\")","v":""},0,0,"",null,null,"","","","","","",""]
[null,"",null,null,null,null,null,null,null,"","","","","","",null,null,null,null,null,null,null,null,null,null,null,"",0,0,{"$f":"IF(G301=Basisgeg.!$C$36,AB301-AB301/(1+Basisgeg.!$C$36),\"\")","v":""},{"$f":"IF(G301=Basisgeg.!$C$37,AB301-AB301/(1+Basisgeg.!$C$37),\"\")","v":""},0,0,"",null,null,"","","","","","",""]
[null,"",null,null,null,null,null,null,null,"","","","","","",null,null,null,null,null,null,null,null,null,null,null,"",0,0,{"$f":"IF(G302=Basisgeg.!$C$36,AB302-AB302/(1+Basisgeg.!$C$36),\"\")","v":""},{"$f":"IF(G302=Basisgeg.!$C$37,AB302-AB302/(1+Basisgeg.!$C$37),\"\")","v":""},0,0,"",null,null,"","","","","","",""]
[null,"",null,null,null,null,null,null,null,"","","","","","",null,null,null,null,null,null,null,null,null,null,null,"",0,0,{"$f":"IF(G303=Basisgeg.!$C$36,AB303-AB303/(1+Basisgeg.!$C$36),\"\")","v":""},{"$f":"IF(G303=Basisgeg.!$C$37,AB303-AB303/(1+Basisgeg.!$C$37),\"\")","v":""},0,0,"",null,null,"","","","","","",""]
[null,"",null,null,null,null,null,null,null,{"$f":"IF(B304=\"\",\"\",IF(AND(H304=\"\",I304=\"\"),\"\",IF(AND(E304<>\"\",F304<>\"\"),\"FOUT\",IF(AND(E304=\"\",H304<>\"\"),\"FOUT\",IF(AND(F304=\"\",I304<>\"\"),\"FOUT\",IF(G304=\"\",\"BTW ?\",\"OK\"))))))","v":""},"","","","","",null,null,null,null,null,null,null,null,null,null,null,"",0,0,{"$f":"IF(G304=Basisgeg.!$C$36,AB304-AB304/(1+Basisgeg.!$C$36),\"\")","v":""},{"$f":"IF(G304=Basisgeg.!$C$37,AB304-AB304/(1+Basisgeg.!$C$37),\"\")","v":""},0,0,"",null,null,{"$f":"IF($AA304=$AJ$5,AB304,\"\")","v":""},{"$f":"IF($AA304=$AJ$5,AC304,\"\")","v":""},{"$f":"IF($AA304=$AJ$5,AD304,\"\")","v":""},{"$f":"IF($AA304=$AJ$5,AE304,\"\")","v":""},{"$f":"IF($AA304=$AJ$5,AF304,\"\")","v":""},{"$f":"IF($AA304=$AJ$5,AG304,\"\")","v":""},{"$f":"IF($AA304=$AJ$5,AH304,\"\")","v":""}]
[null,"",null,null,null,null,null,null,null,"","","","","","",null,null,null,null,null,null,null,null,null,null,null,"",0,0,{"$f":"IF(G305=Basisgeg.!$C$36,AB305-AB305/(1+Basisgeg.!$C$36),\"\")","v":""},{"$f":"IF(G305=Basisgeg.!$C$37,AB305-AB305/(1+Basisgeg.!$C$37),\"\")","v":""},0,0,"",null,null,"","","","","","",""]
[null,"",null,null,null,null,null,null,null,"","","","","","",null,null,null,null,null,null,null,null,null,null,null,"",0,0,{"$f":"IF(G306=Basisgeg.!$C$36,AB306-AB306/(1+Basisgeg.!$C$36),\"\")","v":""},{"$f":"IF(G306=Basisgeg.!$C$37,AB306-AB306/(1+Basisgeg.!$C$37),\"\")","v":""},0,0,"",null,null,"","","","","","",""]
[null,"",null,null,null,null,null,null,null,"","","","","","",null,null,null,null,null,null,null,null,null,null,null,"",0,0,{"$f":"IF(G307=Basisgeg.!$C$36,AB307-AB307/(1+Basisgeg.!$C$36),\"\")","v":""},{"$f":"IF(G307=Basisgeg.!$C$37,AB307-AB307/(1+Basisgeg.!$C$37),\"\")","v":""},0,0,"",null,null,"","","","","","",""]
[null,"",null,null,null,null,null,null,null,"","","","","","",null,null,null,null,null,null,null,null,null,null,null,"",0,0,{"$f":"IF(G308=Basisgeg.!$C$36,AB308-AB308/(1+Basisgeg.!$C$36),\"\")","v":""},{"$f":"IF(G308=Basisgeg.!$C$37,AB308-AB308/(1+Basisgeg.!$C$37),\"\")","v":""},0,0,"",null,null,"","","","","","",""]
[null,"",null,null,null,null,null,null,null,"","","","","","",null,null,null,null,null,null,null,null,null,null,null,"",0,0,{"$f":"IF(G309=Basisgeg.!$C$36,AB309-AB309/(1+Basisgeg.!$C$36),\"\")","v":""},{"$f":"IF(G309=Basisgeg.!$C$37,AB309-AB309/(1+Basisgeg.!$C$37),\"\")","v":""},0,0,"",null,null,"","","","","","",""]
[null,"",null,null,null,null,null,null,null,"","","","","","",null,null,null,null,null,null,null,null,null,null,null,"",0,0,{"$f":"IF(G310=Basisgeg.!$C$36,AB310-AB310/(1+Basisgeg.!$C$36),\"\")","v":""},{"$f":"IF(G310=Basisgeg.!$C$37,AB310-AB310/(1+Basisgeg.!$C$37),\"\")","v":""},0,0,"",null,null,"","","","","","",""]
[null,"",null,null,null,null,null,null,null,"","","","","","",null,null,null,null,null,null,null,null,null,null,null,"",0,0,{"$f":"IF(G311=Basisgeg.!$C$36,AB311-AB311/(1+Basisgeg.!$C$36),\"\")","v":""},{"$f":"IF(G311=Basisgeg.!$C$37,AB311-AB311/(1+Basisgeg.!$C$37),\"\")","v":""},0,0,"",null,null,"","","","","","",""]
[null,"",null,null,null,null,null,null,null,"","","","","","",null,null,null,null,null,null,null,null,null,null,null,"",0,0,{"$f":"IF(G312=Basisgeg.!$C$36,AB312-AB312/(1+Basisgeg.!$C$36),\"\")","v":""},{"$f":"IF(G312=Basisgeg.!$C$37,AB312-AB312/(1+Basisgeg.!$C$37),\"\")","v":""},0,0,"",null,null,"","","","","","",""]
[null,"",null,null,null,null,null,null,null,"","","","","","",null,null,null,null,null,null,null,null,null,null,null,"",0,0,{"$f":"IF(G313=Basisgeg.!$C$36,AB313-AB313/(1+Basisgeg.!$C$36),\"\")","v":""},{"$f":"IF(G313=Basisgeg.!$C$37,AB313-AB313/(1+Basisgeg.!$C$37),\"\")","v":""},0,0,"",null,null,"","","","","","",""]
[null,"",null,null,null,null,null,null,null,"","","","","","",null,null,null,null,null,null,null,null,null,null,null,"",0,0,{"$f":"IF(G314=Basisgeg.!$C$36,AB314-AB314/(1+Basisgeg.!$C$36),\"\")","v":""},{"$f":"IF(G314=Basisgeg.!$C$37,AB314-AB314/(1+Basisgeg.!$C$37),\"\")","v":""},0,0,"",null,null,"","","","","","",""]
[null,"",null,null,null,null,null,null,null,"","","","","","",null,null,null,null,null,null,null,null,null,null,null,"",0,0,{"$f":"IF(G315=Basisgeg.!$C$36,AB315-AB315/(1+Basisgeg.!$C$36),\"\")","v":""},{"$f":"IF(G315=Basisgeg.!$C$37,AB315-AB315/(1+Basisgeg.!$C$37),\"\")","v":""},0,0,"",null,null,"","","","","","",""]
[null,"",null,null,null,null,null,null,null,"","","","","","",null,null,null,null,null,null,null,null,null,null,null,"",0,0,{"$f":"IF(G316=Basisgeg.!$C$36,AB316-AB316/(1+Basisgeg.!$C$36),\"\")","v":""},{"$f":"IF(G316=Basisgeg.!$C$37,AB316-AB316/(1+Basisgeg.!$C$37),\"\")","v":""},0,0,"",null,null,"","","","","","",""]
[null,"",null,null,null,null,null,null,null,"","","","","","",null,null,null,null,null,null,null,null,null,null,null,"",0,0,{"$f":"IF(G317=Basisgeg.!$C$36,AB317-AB317/(1+Basisgeg.!$C$36),\"\")","v":""},{"$f":"IF(G317=Basisgeg.!$C$37,AB317-AB317/(1+Basisgeg.!$C$37),\"\")","v":""},0,0,"",null,null,"","","","","","",""]
[null,"",null,null,null,null,null,null,null,"","","","","","",null,null,null,null,null,null,null,null,null,null,null,"",0,0,{"$f":"IF(G318=Basisgeg.!$C$36,AB318-AB318/(1+Basisgeg.!$C$36),\"\")","v":""},{"$f":"IF(G318=Basisgeg.!$C$37,AB318-AB318/(1+Basisgeg.!$C$37),\"\")","v":""},0,0,"",null,null,"","","","","","",""]
[null,"",null,null,null,null,null,null,null,"","","","","","",null,null,null,null,null,null,null,null,null,null,null,"",0,0,{"$f":"IF(G319=Basisgeg.!$C$36,AB319-AB319/(1+Basisgeg.!$C$36),\"\")","v":""},{"$f":"IF(G319=Basisgeg.!$C$37,AB319-AB319/(1+Basisgeg.!$C$37),\"\")","v":""},0,0,"",null,null,"","","","","","",""]
[null,"",null,null,null,null,null,null,null,"","","","","","",null,null,null,null,null,null,null,null,null,null,null,"",0,0,{"$f":"IF(G320=Basisgeg.!$C$36,AB320-AB320/(1+Basisgeg.!$C$36),\"\")","v":""},{"$f":"IF(G320=Basisgeg.!$C$37,AB320-AB320/(1+Basisgeg.!$C$37),\"\")","v":""},0,0,"",null,null,"","","","","","",""]
[null,"",null,null,null,null,null,null,null,"","","","","","",null,null,null,null,null,null,null,null,null,null,null,"",0,0,{"$f":"IF(G321=Basisgeg.!$C$36,AB321-AB321/(1+Basisgeg.!$C$36),\"\")","v":""},{"$f":"IF(G321=Basisgeg.!$C$37,AB321-AB321/(1+Basisgeg.!$C$37),\"\")","v":""},0,0,"",null,null,"","","","","","",""]
[null,"",null,null,null,null,null,null,null,"","","","","","",null,null,null,null,null,null,null,null,null,null,null,"",0,0,{"$f":"IF(G322=Basisgeg.!$C$36,AB322-AB322/(1+Basisgeg.!$C$36),\"\")","v":""},{"$f":"IF(G322=Basisgeg.!$C$37,AB322-AB322/(1+Basisgeg.!$C$37),\"\")","v":""},0,0,"",null,null,"","","","","","",""]
[null,"",null,null,null,null,null,null,null,"","","","","","",null,null,null,null,null,null,null,null,null,null,null,"",0,0,{"$f":"IF(G323=Basisgeg.!$C$36,AB323-AB323/(1+Basisgeg.!$C$36),\"\")","v":""},{"$f":"IF(G323=Basisgeg.!$C$37,AB323-AB323/(1+Basisgeg.!$C$37),\"\")","v":""},0,0,"",null,null,"","","","","","",""]
[null,"",null,null,null,null,null,null,null,"","","","","","",null,null,null,null,null,null,null,null,null,null,null,"",0,0,{"$f":"IF(G324=Basisgeg.!$C$36,AB324-AB324/(1+Basisgeg.!$C$36),\"\")","v":""},{"$f":"IF(G324=Basisgeg.!$C$37,AB324-AB324/(1+Basisgeg.!$C$37),\"\")","v":""},0,0,"",null,null,"","","","","","",""]
[null,"",null,null,null,null,null,null,null,"","","","","","",null,null,null,null,null,null,null,null,null,null,null,{"$f":"IF(C325<>\"\",MONTH(C325),\"\")","v":""},{"$f":"+H325","v":0},{"$f":"E325","v":0},{"$f":"IF(G325=Basisgeg.!$C$36,AB325-AB325/(1+Basisgeg.!$C$36),\"\")","v":""},{"$f":"IF(G325=Basisgeg.!$C$37,AB325-AB325/(1+Basisgeg.!$C$37),\"\")","v":""},{"$f":"I325","v":0},{"$f":"F325","v":0},{"$f":"L325","v":""},null,null,"","","","","","",""]
[null,{"$f":"IF(C326=\"\",\"\",IF(B325=\"Nr.\",1,B325+1))","v":""},null,null,null,null,null,null,null,"",{"$f":"IF(H326=\"\",\"\",(H326/((1+$G326)*100))*($G326*100))","v":""},{"$f":"IF(I326=\"\",\"\",(I326/((1+$G326)*100))*($G326*100))","v":""},{"$f":"IF(H326=\"\",\"\",+H326-K326)","v":""},{"$f":"IF(I326=\"\",\"\",+I326-L326)","v":""},{"$f":"IF(C326=\"\",\"\",MONTH(C326))","v":""},null,null,null,null,null,null,null,null,null,null,null,"",0,0,{"$f":"IF(G326=Basisgeg.!$C$36,AB326-AB326/(1+Basisgeg.!$C$36),\"\")","v":""},{"$f":"IF(G326=Basisgeg.!$C$37,AB326-AB326/(1+Basisgeg.!$C$37),\"\")","v":""},0,0,"",null,null,"","","","","","",""]
[null,"",null,null,null,null,null,null,null,"","","","","","",null,null,null,null,null,null,null,null,null,null,null,"",0,0,{"$f":"IF(G327=Basisgeg.!$C$36,AB327-AB327/(1+Basisgeg.!$C$36),\"\")","v":""},{"$f":"IF(G327=Basisgeg.!$C$37,AB327-AB327/(1+Basisgeg.!$C$37),\"\")","v":""},0,0,"",null,null,"","","","","","",""]
[null,"",null,null,null,null,null,null,null,"","","","","","",null,null,null,null,null,null,null,null,null,null,null,"",0,0,{"$f":"IF(G328=Basisgeg.!$C$36,AB328-AB328/(1+Basisgeg.!$C$36),\"\")","v":""},{"$f":"IF(G328=Basisgeg.!$C$37,AB328-AB328/(1+Basisgeg.!$C$37),\"\")","v":""},0,0,"",null,null,"","","","","","",""]
[null,"",null,null,null,null,null,null,null,"","","","","","",null,null,null,null,null,null,null,null,null,null,null,"",0,0,{"$f":"IF(G329=Basisgeg.!$C$36,AB329-AB329/(1+Basisgeg.!$C$36),\"\")","v":""},{"$f":"IF(G329=Basisgeg.!$C$37,AB329-AB329/(1+Basisgeg.!$C$37),\"\")","v":""},0,0,"",null,null,"","","","","","",""]
[null,"",null,null,null,null,null,null,null,"","","","","","",null,null,null,null,null,null,null,null,null,null,null,"",0,0,{"$f":"IF(G330=Basisgeg.!$C$36,AB330-AB330/(1+Basisgeg.!$C$36),\"\")","v":""},{"$f":"IF(G330=Basisgeg.!$C$37,AB330-AB330/(1+Basisgeg.!$C$37),\"\")","v":""},0,0,"",null,null,"","","","","","",""]
[null,"",null,null,null,null,null,null,null,"","","","","","",null,null,null,null,null,null,null,null,null,null,null,"",0,0,{"$f":"IF(G331=Basisgeg.!$C$36,AB331-AB331/(1+Basisgeg.!$C$36),\"\")","v":""},{"$f":"IF(G331=Basisgeg.!$C$37,AB331-AB331/(1+Basisgeg.!$C$37),\"\")","v":""},0,0,"",null,null,"","","","","","",""]
[null,"",null,null,null,null,null,null,null,"","","","","","",null,null,null,null,null,null,null,null,null,null,null,"",0,0,{"$f":"IF(G332=Basisgeg.!$C$36,AB332-AB332/(1+Basisgeg.!$C$36),\"\")","v":""},{"$f":"IF(G332=Basisgeg.!$C$37,AB332-AB332/(1+Basisgeg.!$C$37),\"\")","v":""},0,0,"",null,null,"","","","","","",""]
[null,"",null,null,null,null,null,null,null,"","","","","","",null,null,null,null,null,null,null,null,null,null,null,"",0,0,{"$f":"IF(G333=Basisgeg.!$C$36,AB333-AB333/(1+Basisgeg.!$C$36),\"\")","v":""},{"$f":"IF(G333=Basisgeg.!$C$37,AB333-AB333/(1+Basisgeg.!$C$37),\"\")","v":""},0,0,"",null,null,"","","","","","",""]
[null,"",null,null,null,null,null,null,null,"","","","","","",null,null,null,null,null,null,null,null,null,null,null,"",0,0,{"$f":"IF(G334=Basisgeg.!$C$36,AB334-AB334/(1+Basisgeg.!$C$36),\"\")","v":""},{"$f":"IF(G334=Basisgeg.!$C$37,AB334-AB334/(1+Basisgeg.!$C$37),\"\")","v":""},0,0,"",null,null,"","","","","","",""]
[null,"",null,null,null,null,null,null,null,"","","","","","",null,null,null,null,null,null,null,null,null,null,null,"",0,0,{"$f":"IF(G335=Basisgeg.!$C$36,AB335-AB335/(1+Basisgeg.!$C$36),\"\")","v":""},{"$f":"IF(G335=Basisgeg.!$C$37,AB335-AB335/(1+Basisgeg.!$C$37),\"\")","v":""},0,0,"",null,null,"","","","","","",""]
[null,"",null,null,null,null,null,null,null,"","","","","","",null,null,null,null,null,null,null,null,null,null,null,"",0,0,{"$f":"IF(G336=Basisgeg.!$C$36,AB336-AB336/(1+Basisgeg.!$C$36),\"\")","v":""},{"$f":"IF(G336=Basisgeg.!$C$37,AB336-AB336/(1+Basisgeg.!$C$37),\"\")","v":""},0,0,"",null,null,"","","","","","",""]
[null,"",null,null,null,null,null,null,null,"","","","","","",null,null,null,null,null,null,null,null,null,null,null,"",0,0,{"$f":"IF(G337=Basisgeg.!$C$36,AB337-AB337/(1+Basisgeg.!$C$36),\"\")","v":""},{"$f":"IF(G337=Basisgeg.!$C$37,AB337-AB337/(1+Basisgeg.!$C$37),\"\")","v":""},0,0,"",null,null,"","","","","","",""]
[null,"",null,null,null,null,null,null,null,"","","","","","",null,null,null,null,null,null,null,null,null,null,null,"",0,0,{"$f":"IF(G338=Basisgeg.!$C$36,AB338-AB338/(1+Basisgeg.!$C$36),\"\")","v":""},{"$f":"IF(G338=Basisgeg.!$C$37,AB338-AB338/(1+Basisgeg.!$C$37),\"\")","v":""},0,0,"",null,null,"","","","","","",""]
[null,"",null,null,null,null,null,null,null,"","","","","","",null,null,null,null,null,null,null,null,null,null,null,"",0,0,{"$f":"IF(G339=Basisgeg.!$C$36,AB339-AB339/(1+Basisgeg.!$C$36),\"\")","v":""},{"$f":"IF(G339=Basisgeg.!$C$37,AB339-AB339/(1+Basisgeg.!$C$37),\"\")","v":""},0,0,"",null,null,"","","","","","",""]
[null,"",null,null,null,null,null,null,null,"","","","","","",null,null,null,null,null,null,null,null,null,null,null,"",0,0,{"$f":"IF(G340=Basisgeg.!$C$36,AB340-AB340/(1+Basisgeg.!$C$36),\"\")","v":""},{"$f":"IF(G340=Basisgeg.!$C$37,AB340-AB340/(1+Basisgeg.!$C$37),\"\")","v":""},0,0,"",null,null,"","","","","","",""]
[null,"",null,null,null,null,null,null,null,"","","","","","",null,null,null,null,null,null,null,null,null,null,null,"",0,0,{"$f":"IF(G341=Basisgeg.!$C$36,AB341-AB341/(1+Basisgeg.!$C$36),\"\")","v":""},{"$f":"IF(G341=Basisgeg.!$C$37,AB341-AB341/(1+Basisgeg.!$C$37),\"\")","v":""},0,0,"",null,null,"","","","","","",""]
[null,"",null,null,null,null,null,null,null,"","","","","","",null,null,null,null,null,null,null,null,null,null,null,"",0,0,{"$f":"IF(G342=Basisgeg.!$C$36,AB342-AB342/(1+Basisgeg.!$C$36),\"\")","v":""},{"$f":"IF(G342=Basisgeg.!$C$37,AB342-AB342/(1+Basisgeg.!$C$37),\"\")","v":""},0,0,"",null,null,"","","","","","",""]
[null,"",null,null,null,null,null,null,null,"","","","","","",null,null,null,null,null,null,null,null,null,null,null,"",0,0,{"$f":"IF(G343=Basisgeg.!$C$36,AB343-AB343/(1+Basisgeg.!$C$36),\"\")","v":""},{"$f":"IF(G343=Basisgeg.!$C$37,AB343-AB343/(1+Basisgeg.!$C$37),\"\")","v":""},0,0,"",null,null,"","","","","","",""]
[null,"",null,null,null,null,null,null,null,"","","","","","",null,null,null,null,null,null,null,null,null,null,null,"",0,0,{"$f":"IF(G344=Basisgeg.!$C$36,AB344-AB344/(1+Basisgeg.!$C$36),\"\")","v":""},{"$f":"IF(G344=Basisgeg.!$C$37,AB344-AB344/(1+Basisgeg.!$C$37),\"\")","v":""},0,0,"",null,null,"","","","","","",""]
[null,"",null,null,null,null,null,null,null,"","","","","","",null,null,null,null,null,null,null,null,null,null,null,"",0,0,{"$f":"IF(G345=Basisgeg.!$C$36,AB345-AB345/(1+Basisgeg.!$C$36),\"\")","v":""},{"$f":"IF(G345=Basisgeg.!$C$37,AB345-AB345/(1+Basisgeg.!$C$37),\"\")","v":""},0,0,"",null,null,"","","","","","",""]
[null,"",null,null,null,null,null,null,null,"","","","","","",null,null,null,null,null,null,null,null,null,null,null,"",0,0,{"$f":"IF(G346=Basisgeg.!$C$36,AB346-AB346/(1+Basisgeg.!$C$36),\"\")","v":""},{"$f":"IF(G346=Basisgeg.!$C$37,AB346-AB346/(1+Basisgeg.!$C$37),\"\")","v":""},0,0,"",null,null,"","","","","","",""]
[null,"",null,null,null,null,null,null,null,"","","","","","",null,null,null,null,null,null,null,null,null,null,null,"",0,0,{"$f":"IF(G347=Basisgeg.!$C$36,AB347-AB347/(1+Basisgeg.!$C$36),\"\")","v":""},{"$f":"IF(G347=Basisgeg.!$C$37,AB347-AB347/(1+Basisgeg.!$C$37),\"\")","v":""},0,0,"",null,null,"","","","","","",""]
[null,"",null,null,null,null,null,null,null,"","","","","","",null,null,null,null,null,null,null,null,null,null,null,"",0,0,{"$f":"IF(G348=Basisgeg.!$C$36,AB348-AB348/(1+Basisgeg.!$C$36),\"\")","v":""},{"$f":"IF(G348=Basisgeg.!$C$37,AB348-AB348/(1+Basisgeg.!$C$37),\"\")","v":""},0,0,"",null,null,"","","","","","",""]
[null,"",null,null,null,null,null,null,null,"","","","","","",null,null,null,null,null,null,null,null,null,null,null,"",0,0,{"$f":"IF(G349=Basisgeg.!$C$36,AB349-AB349/(1+Basisgeg.!$C$36),\"\")","v":""},{"$f":"IF(G349=Basisgeg.!$C$37,AB349-AB349/(1+Basisgeg.!$C$37),\"\")","v":""},0,0,"",null,null,"","","","","","",""]
[null,"",null,null,null,null,null,null,null,"","","","","","",null,null,null,null,null,null,null,null,null,null,null,"",0,0,{"$f":"IF(G350=Basisgeg.!$C$36,AB350-AB350/(1+Basisgeg.!$C$36),\"\")","v":""},{"$f":"IF(G350=Basisgeg.!$C$37,AB350-AB350/(1+Basisgeg.!$C$37),\"\")","v":""},0,0,"",null,null,"","","","","","",""]
[null,"",null,null,null,null,null,null,null,"","","","","","",null,null,null,null,null,null,null,null,null,null,null,"",0,0,{"$f":"IF(G351=Basisgeg.!$C$36,AB351-AB351/(1+Basisgeg.!$C$36),\"\")","v":""},{"$f":"IF(G351=Basisgeg.!$C$37,AB351-AB351/(1+Basisgeg.!$C$37),\"\")","v":""},0,0,"",null,null,"","","","","","",""]
[null,"",null,null,null,null,null,null,null,"","","","","","",null,null,null,null,null,null,null,null,null,null,null,"",0,0,{"$f":"IF(G352=Basisgeg.!$C$36,AB352-AB352/(1+Basisgeg.!$C$36),\"\")","v":""},{"$f":"IF(G352=Basisgeg.!$C$37,AB352-AB352/(1+Basisgeg.!$C$37),\"\")","v":""},0,0,"",null,null,"","","","","","",""]
[null,"",null,null,null,null,null,null,null,"","","","","","",null,null,null,null,null,null,null,null,null,null,null,"",0,0,{"$f":"IF(G353=Basisgeg.!$C$36,AB353-AB353/(1+Basisgeg.!$C$36),\"\")","v":""},{"$f":"IF(G353=Basisgeg.!$C$37,AB353-AB353/(1+Basisgeg.!$C$37),\"\")","v":""},0,0,"",null,null,"","","","","","",""]
[null,"",null,null,null,null,null,null,null,"","","","","","",null,null,null,null,null,null,null,null,null,null,null,"",0,0,{"$f":"IF(G354=Basisgeg.!$C$36,AB354-AB354/(1+Basisgeg.!$C$36),\"\")","v":""},{"$f":"IF(G354=Basisgeg.!$C$37,AB354-AB354/(1+Basisgeg.!$C$37),\"\")","v":""},0,0,"",null,null,"","","","","","",""]
[null,"",null,null,null,null,null,null,null,"","","","","","",null,null,null,null,null,null,null,null,null,null,null,"",0,0,{"$f":"IF(G355=Basisgeg.!$C$36,AB355-AB355/(1+Basisgeg.!$C$36),\"\")","v":""},{"$f":"IF(G355=Basisgeg.!$C$37,AB355-AB355/(1+Basisgeg.!$C$37),\"\")","v":""},0,0,"",null,null,"","","","","","",""]
[null,"",null,null,null,null,null,null,null,"","","","","","",null,null,null,null,null,null,null,null,null,null,null,"",0,0,{"$f":"IF(G356=Basisgeg.!$C$36,AB356-AB356/(1+Basisgeg.!$C$36),\"\")","v":""},{"$f":"IF(G356=Basisgeg.!$C$37,AB356-AB356/(1+Basisgeg.!$C$37),\"\")","v":""},0,0,"",null,null,"","","","","","",""]
[null,"",null,null,null,null,null,null,null,"","","","","","",null,null,null,null,null,null,null,null,null,null,null,"",0,0,{"$f":"IF(G357=Basisgeg.!$C$36,AB357-AB357/(1+Basisgeg.!$C$36),\"\")","v":""},{"$f":"IF(G357=Basisgeg.!$C$37,AB357-AB357/(1+Basisgeg.!$C$37),\"\")","v":""},0,0,"",null,null,"","","","","","",""]
[null,"",null,null,null,null,null,null,null,"","","","","","",null,null,null,null,null,null,null,null,null,null,null,"",0,0,{"$f":"IF(G358=Basisgeg.!$C$36,AB358-AB358/(1+Basisgeg.!$C$36),\"\")","v":""},{"$f":"IF(G358=Basisgeg.!$C$37,AB358-AB358/(1+Basisgeg.!$C$37),\"\")","v":""},0,0,"",null,null,"","","","","","",""]
[null,"",null,null,null,null,null,null,null,"","","","","","",null,null,null,null,null,null,null,null,null,null,null,"",0,0,{"$f":"IF(G359=Basisgeg.!$C$36,AB359-AB359/(1+Basisgeg.!$C$36),\"\")","v":""},{"$f":"IF(G359=Basisgeg.!$C$37,AB359-AB359/(1+Basisgeg.!$C$37),\"\")","v":""},0,0,"",null,null,"","","","","","",""]
[null,"",null,null,null,null,null,null,null,"","","","","","",null,null,null,null,null,null,null,null,null,null,null,"",0,0,{"$f":"IF(G360=Basisgeg.!$C$36,AB360-AB360/(1+Basisgeg.!$C$36),\"\")","v":""},{"$f":"IF(G360=Basisgeg.!$C$37,AB360-AB360/(1+Basisgeg.!$C$37),\"\")","v":""},0,0,"",null,null,"","","","","","",""]
[null,"",null,null,null,null,null,null,null,"","","","","","",null,null,null,null,null,null,null,null,null,null,null,"",0,0,{"$f":"IF(G361=Basisgeg.!$C$36,AB361-AB361/(1+Basisgeg.!$C$36),\"\")","v":""},{"$f":"IF(G361=Basisgeg.!$C$37,AB361-AB361/(1+Basisgeg.!$C$37),\"\")","v":""},0,0,"",null,null,"","","","","","",""]
[null,"",null,null,null,null,null,null,null,"","","","","","",null,null,null,null,null,null,null,null,null,null,null,"",0,0,{"$f":"IF(G362=Basisgeg.!$C$36,AB362-AB362/(1+Basisgeg.!$C$36),\"\")","v":""},{"$f":"IF(G362=Basisgeg.!$C$37,AB362-AB362/(1+Basisgeg.!$C$37),\"\")","v":""},0,0,"",null,null,"","","","","","",""]
[null,"",null,null,null,null,null,null,null,"","","","","","",null,null,null,null,null,null,null,null,null,null,null,"",0,0,{"$f":"IF(G363=Basisgeg.!$C$36,AB363-AB363/(1+Basisgeg.!$C$36),\"\")","v":""},{"$f":"IF(G363=Basisgeg.!$C$37,AB363-AB363/(1+Basisgeg.!$C$37),\"\")","v":""},0,0,"",null,null,"","","","","","",""]
[null,"",null,null,null,null,null,null,null,"","","","","","",null,null,null,null,null,null,null,null,null,null,null,"",0,0,{"$f":"IF(G364=Basisgeg.!$C$36,AB364-AB364/(1+Basisgeg.!$C$36),\"\")","v":""},{"$f":"IF(G364=Basisgeg.!$C$37,AB364-AB364/(1+Basisgeg.!$C$37),\"\")","v":""},0,0,"",null,null,"","","","","","",""]
[null,"",null,null,null,null,null,null,null,"","","","","","",null,null,null,null,null,null,null,null,null,null,null,"",0,0,{"$f":"IF(G365=Basisgeg.!$C$36,AB365-AB365/(1+Basisgeg.!$C$36),\"\")","v":""},{"$f":"IF(G365=Basisgeg.!$C$37,AB365-AB365/(1+Basisgeg.!$C$37),\"\")","v":""},0,0,"",null,null,"","","","","","",""]
[null,"",null,null,null,null,null,null,null,"","","","","","",null,null,null,null,null,null,null,null,null,null,null,"",0,0,{"$f":"IF(G366=Basisgeg.!$C$36,AB366-AB366/(1+Basisgeg.!$C$36),\"\")","v":""},{"$f":"IF(G366=Basisgeg.!$C$37,AB366-AB366/(1+Basisgeg.!$C$37),\"\")","v":""},0,0,"",null,null,"","","","","","",""]
[null,"",null,null,null,null,null,null,null,"","","","","","",null,null,null,null,null,null,null,null,null,null,null,"",0,0,{"$f":"IF(G367=Basisgeg.!$C$36,AB367-AB367/(1+Basisgeg.!$C$36),\"\")","v":""},{"$f":"IF(G367=Basisgeg.!$C$37,AB367-AB367/(1+Basisgeg.!$C$37),\"\")","v":""},0,0,"",null,null,"","","","","","",""]
[null,"",null,null,null,null,null,null,null,{"$f":"IF(B368=\"\",\"\",IF(AND(H368=\"\",I368=\"\"),\"\",IF(AND(E368<>\"\",F368<>\"\"),\"FOUT\",IF(AND(E368=\"\",H368<>\"\"),\"FOUT\",IF(AND(F368=\"\",I368<>\"\"),\"FOUT\",IF(G368=\"\",\"BTW ?\",\"OK\"))))))","v":""},"","","","","",null,null,null,null,null,null,null,null,null,null,null,"",0,0,{"$f":"IF(G368=Basisgeg.!$C$36,AB368-AB368/(1+Basisgeg.!$C$36),\"\")","v":""},{"$f":"IF(G368=Basisgeg.!$C$37,AB368-AB368/(1+Basisgeg.!$C$37),\"\")","v":""},0,0,"",null,null,{"$f":"IF($AA368=$AJ$5,AB368,\"\")","v":""},{"$f":"IF($AA368=$AJ$5,AC368,\"\")","v":""},{"$f":"IF($AA368=$AJ$5,AD368,\"\")","v":""},{"$f":"IF($AA368=$AJ$5,AE368,\"\")","v":""},{"$f":"IF($AA368=$AJ$5,AF368,\"\")","v":""},{"$f":"IF($AA368=$AJ$5,AG368,\"\")","v":""},{"$f":"IF($AA368=$AJ$5,AH368,\"\")","v":""}]
[null,"",null,null,null,null,null,null,null,"","","","","","",null,null,null,null,null,null,null,null,null,null,null,"",0,0,{"$f":"IF(G369=Basisgeg.!$C$36,AB369-AB369/(1+Basisgeg.!$C$36),\"\")","v":""},{"$f":"IF(G369=Basisgeg.!$C$37,AB369-AB369/(1+Basisgeg.!$C$37),\"\")","v":""},0,0,"",null,null,"","","","","","",""]
[null,"",null,null,null,null,null,null,null,"","","","","","",null,null,null,null,null,null,null,null,null,null,null,"",0,0,{"$f":"IF(G370=Basisgeg.!$C$36,AB370-AB370/(1+Basisgeg.!$C$36),\"\")","v":""},{"$f":"IF(G370=Basisgeg.!$C$37,AB370-AB370/(1+Basisgeg.!$C$37),\"\")","v":""},0,0,"",null,null,"","","","","","",""]
[null,"",null,null,null,null,null,null,null,"","","","","","",null,null,null,null,null,null,null,null,null,null,null,"",0,0,{"$f":"IF(G371=Basisgeg.!$C$36,AB371-AB371/(1+Basisgeg.!$C$36),\"\")","v":""},{"$f":"IF(G371=Basisgeg.!$C$37,AB371-AB371/(1+Basisgeg.!$C$37),\"\")","v":""},0,0,"",null,null,"","","","","","",""]
[null,"",null,null,null,null,null,null,null,"","","","","","",null,null,null,null,null,null,null,null,null,null,null,"",0,0,{"$f":"IF(G372=Basisgeg.!$C$36,AB372-AB372/(1+Basisgeg.!$C$36),\"\")","v":""},{"$f":"IF(G372=Basisgeg.!$C$37,AB372-AB372/(1+Basisgeg.!$C$37),\"\")","v":""},0,0,"",null,null,"","","","","","",""]
[null,"",null,null,null,null,null,null,null,"","","","","","",null,null,null,null,null,null,null,null,null,null,null,"",0,0,{"$f":"IF(G373=Basisgeg.!$C$36,AB373-AB373/(1+Basisgeg.!$C$36),\"\")","v":""},{"$f":"IF(G373=Basisgeg.!$C$37,AB373-AB373/(1+Basisgeg.!$C$37),\"\")","v":""},0,0,"",null,null,"","","","","","",""]
[null,"",null,null,null,null,null,null,null,"","","","","","",null,null,null,null,null,null,null,null,null,null,null,"",0,0,{"$f":"IF(G374=Basisgeg.!$C$36,AB374-AB374/(1+Basisgeg.!$C$36),\"\")","v":""},{"$f":"IF(G374=Basisgeg.!$C$37,AB374-AB374/(1+Basisgeg.!$C$37),\"\")","v":""},0,0,"",null,null,"","","","","","",""]
[null,"",null,null,null,null,null,null,null,"","","","","","",null,null,null,null,null,null,null,null,null,null,null,"",0,0,{"$f":"IF(G375=Basisgeg.!$C$36,AB375-AB375/(1+Basisgeg.!$C$36),\"\")","v":""},{"$f":"IF(G375=Basisgeg.!$C$37,AB375-AB375/(1+Basisgeg.!$C$37),\"\")","v":""},0,0,"",null,null,"","","","","","",""]
[null,"",null,null,null,null,null,null,null,"","","","","","",null,null,null,null,null,null,null,null,null,null,null,"",0,0,{"$f":"IF(G376=Basisgeg.!$C$36,AB376-AB376/(1+Basisgeg.!$C$36),\"\")","v":""},{"$f":"IF(G376=Basisgeg.!$C$37,AB376-AB376/(1+Basisgeg.!$C$37),\"\")","v":""},0,0,"",null,null,"","","","","","",""]
[null,"",null,null,null,null,null,null,null,"","","","","","",null,null,null,null,null,null,null,null,null,null,null,"",0,0,{"$f":"IF(G377=Basisgeg.!$C$36,AB377-AB377/(1+Basisgeg.!$C$36),\"\")","v":""},{"$f":"IF(G377=Basisgeg.!$C$37,AB377-AB377/(1+Basisgeg.!$C$37),\"\")","v":""},0,0,"",null,null,"","","","","","",""]
[null,"",null,null,null,null,null,null,null,"","","","","","",null,null,null,null,null,null,null,null,null,null,null,"",0,0,{"$f":"IF(G378=Basisgeg.!$C$36,AB378-AB378/(1+Basisgeg.!$C$36),\"\")","v":""},{"$f":"IF(G378=Basisgeg.!$C$37,AB378-AB378/(1+Basisgeg.!$C$37),\"\")","v":""},0,0,"",null,null,"","","","","","",""]
[null,"",null,null,null,null,null,null,null,"","","","","","",null,null,null,null,null,null,null,null,null,null,null,"",0,0,{"$f":"IF(G379=Basisgeg.!$C$36,AB379-AB379/(1+Basisgeg.!$C$36),\"\")","v":""},{"$f":"IF(G379=Basisgeg.!$C$37,AB379-AB379/(1+Basisgeg.!$C$37),\"\")","v":""},0,0,"",null,null,"","","","","","",""]
[null,"",null,null,null,null,null,null,null,"","","","","","",null,null,null,null,null,null,null,null,null,null,null,"",0,0,{"$f":"IF(G380=Basisgeg.!$C$36,AB380-AB380/(1+Basisgeg.!$C$36),\"\")","v":""},{"$f":"IF(G380=Basisgeg.!$C$37,AB380-AB380/(1+Basisgeg.!$C$37),\"\")","v":""},0,0,"",null,null,"","","","","","",""]
[null,"",null,null,null,null,null,null,null,"","","","","","",null,null,null,null,null,null,null,null,null,null,null,"",0,0,{"$f":"IF(G381=Basisgeg.!$C$36,AB381-AB381/(1+Basisgeg.!$C$36),\"\")","v":""},{"$f":"IF(G381=Basisgeg.!$C$37,AB381-AB381/(1+Basisgeg.!$C$37),\"\")","v":""},0,0,"",null,null,"","","","","","",""]
[null,"",null,null,null,null,null,null,null,"","","","","","",null,null,null,null,null,null,null,null,null,null,null,"",0,0,{"$f":"IF(G382=Basisgeg.!$C$36,AB382-AB382/(1+Basisgeg.!$C$36),\"\")","v":""},{"$f":"IF(G382=Basisgeg.!$C$37,AB382-AB382/(1+Basisgeg.!$C$37),\"\")","v":""},0,0,"",null,null,"","","","","","",""]
[null,"",null,null,null,null,null,null,null,"","","","","","",null,null,null,null,null,null,null,null,null,null,null,"",0,0,{"$f":"IF(G383=Basisgeg.!$C$36,AB383-AB383/(1+Basisgeg.!$C$36),\"\")","v":""},{"$f":"IF(G383=Basisgeg.!$C$37,AB383-AB383/(1+Basisgeg.!$C$37),\"\")","v":""},0,0,"",null,null,"","","","","","",""]
[null,"",null,null,null,null,null,null,null,"","","","","","",null,null,null,null,null,null,null,null,null,null,null,"",0,0,{"$f":"IF(G384=Basisgeg.!$C$36,AB384-AB384/(1+Basisgeg.!$C$36),\"\")","v":""},{"$f":"IF(G384=Basisgeg.!$C$37,AB384-AB384/(1+Basisgeg.!$C$37),\"\")","v":""},0,0,"",null,null,"","","","","","",""]
[null,"",null,null,null,null,null,null,null,"","","","","","",null,null,null,null,null,null,null,null,null,null,null,"",0,0,{"$f":"IF(G385=Basisgeg.!$C$36,AB385-AB385/(1+Basisgeg.!$C$36),\"\")","v":""},{"$f":"IF(G385=Basisgeg.!$C$37,AB385-AB385/(1+Basisgeg.!$C$37),\"\")","v":""},0,0,"",null,null,"","","","","","",""]
[null,"",null,null,null,null,null,null,null,"","","","","","",null,null,null,null,null,null,null,null,null,null,null,"",0,0,{"$f":"IF(G386=Basisgeg.!$C$36,AB386-AB386/(1+Basisgeg.!$C$36),\"\")","v":""},{"$f":"IF(G386=Basisgeg.!$C$37,AB386-AB386/(1+Basisgeg.!$C$37),\"\")","v":""},0,0,"",null,null,"","","","","","",""]
[null,"",null,null,null,null,null,null,null,"","","","","","",null,null,null,null,null,null,null,null,null,null,null,"",0,0,{"$f":"IF(G387=Basisgeg.!$C$36,AB387-AB387/(1+Basisgeg.!$C$36),\"\")","v":""},{"$f":"IF(G387=Basisgeg.!$C$37,AB387-AB387/(1+Basisgeg.!$C$37),\"\")","v":""},0,0,"",null,null,"","","","","","",""]
[null,"",null,null,null,null,null,null,null,"","","","","","",null,null,null,null,null,null,null,null,null,null,null,"",0,0,{"$f":"IF(G388=Basisgeg.!$C$36,AB388-AB388/(1+Basisgeg.!$C$36),\"\")","v":""},{"$f":"IF(G388=Basisgeg.!$C$37,AB388-AB388/(1+Basisgeg.!$C$37),\"\")","v":""},0,0,"",null,null,"","","","","","",""]
[null,"",null,null,null,null,null,null,null,"","","","","","",null,null,null,null,null,null,null,null,null,null,null,{"$f":"IF(C389<>\"\",MONTH(C389),\"\")","v":""},{"$f":"+H389","v":0},{"$f":"E389","v":0},{"$f":"IF(G389=Basisgeg.!$C$36,AB389-AB389/(1+Basisgeg.!$C$36),\"\")","v":""},{"$f":"IF(G389=Basisgeg.!$C$37,AB389-AB389/(1+Basisgeg.!$C$37),\"\")","v":""},{"$f":"I389","v":0},{"$f":"F389","v":0},{"$f":"L389","v":""},null,null,"","","","","","",""]
[null,{"$f":"IF(C390=\"\",\"\",IF(B389=\"Nr.\",1,B389+1))","v":""},null,null,null,null,null,null,null,"",{"$f":"IF(H390=\"\",\"\",(H390/((1+$G390)*100))*($G390*100))","v":""},{"$f":"IF(I390=\"\",\"\",(I390/((1+$G390)*100))*($G390*100))","v":""},{"$f":"IF(H390=\"\",\"\",+H390-K390)","v":""},{"$f":"IF(I390=\"\",\"\",+I390-L390)","v":""},{"$f":"IF(C390=\"\",\"\",MONTH(C390))","v":""},null,null,null,null,null,null,null,null,null,null,null,"",0,0,{"$f":"IF(G390=Basisgeg.!$C$36,AB390-AB390/(1+Basisgeg.!$C$36),\"\")","v":""},{"$f":"IF(G390=Basisgeg.!$C$37,AB390-AB390/(1+Basisgeg.!$C$37),\"\")","v":""},0,0,"",null,null,"","","","","","",""]
[null,"",null,null,null,null,null,null,null,"","","","","","",null,null,null,null,null,null,null,null,null,null,null,"",0,0,{"$f":"IF(G391=Basisgeg.!$C$36,AB391-AB391/(1+Basisgeg.!$C$36),\"\")","v":""},{"$f":"IF(G391=Basisgeg.!$C$37,AB391-AB391/(1+Basisgeg.!$C$37),\"\")","v":""},0,0,"",null,null,"","","","","","",""]
[null,"",null,null,null,null,null,null,null,"","","","","","",null,null,null,null,null,null,null,null,null,null,null,"",0,0,{"$f":"IF(G392=Basisgeg.!$C$36,AB392-AB392/(1+Basisgeg.!$C$36),\"\")","v":""},{"$f":"IF(G392=Basisgeg.!$C$37,AB392-AB392/(1+Basisgeg.!$C$37),\"\")","v":""},0,0,"",null,null,"","","","","","",""]
[null,"",null,null,null,null,null,null,null,"","","","","","",null,null,null,null,null,null,null,null,null,null,null,"",0,0,{"$f":"IF(G393=Basisgeg.!$C$36,AB393-AB393/(1+Basisgeg.!$C$36),\"\")","v":""},{"$f":"IF(G393=Basisgeg.!$C$37,AB393-AB393/(1+Basisgeg.!$C$37),\"\")","v":""},0,0,"",null,null,"","","","","","",""]
[null,"",null,null,null,null,null,null,null,"","","","","","",null,null,null,null,null,null,null,null,null,null,null,"",0,0,{"$f":"IF(G394=Basisgeg.!$C$36,AB394-AB394/(1+Basisgeg.!$C$36),\"\")","v":""},{"$f":"IF(G394=Basisgeg.!$C$37,AB394-AB394/(1+Basisgeg.!$C$37),\"\")","v":""},0,0,"",null,null,"","","","","","",""]
[null,"",null,null,null,null,null,null,null,"","","","","","",null,null,null,null,null,null,null,null,null,null,null,"",0,0,{"$f":"IF(G395=Basisgeg.!$C$36,AB395-AB395/(1+Basisgeg.!$C$36),\"\")","v":""},{"$f":"IF(G395=Basisgeg.!$C$37,AB395-AB395/(1+Basisgeg.!$C$37),\"\")","v":""},0,0,"",null,null,"","","","","","",""]
[null,"",null,null,null,null,null,null,null,"","","","","","",null,null,null,null,null,null,null,null,null,null,null,"",0,0,{"$f":"IF(G396=Basisgeg.!$C$36,AB396-AB396/(1+Basisgeg.!$C$36),\"\")","v":""},{"$f":"IF(G396=Basisgeg.!$C$37,AB396-AB396/(1+Basisgeg.!$C$37),\"\")","v":""},0,0,"",null,null,"","","","","","",""]
[null,"",null,null,null,null,null,null,null,"","","","","","",null,null,null,null,null,null,null,null,null,null,null,"",0,0,{"$f":"IF(G397=Basisgeg.!$C$36,AB397-AB397/(1+Basisgeg.!$C$36),\"\")","v":""},{"$f":"IF(G397=Basisgeg.!$C$37,AB397-AB397/(1+Basisgeg.!$C$37),\"\")","v":""},0,0,"",null,null,"","","","","","",""]
[null,"",null,null,null,null,null,null,null,"","","","","","",null,null,null,null,null,null,null,null,null,null,null,"",0,0,{"$f":"IF(G398=Basisgeg.!$C$36,AB398-AB398/(1+Basisgeg.!$C$36),\"\")","v":""},{"$f":"IF(G398=Basisgeg.!$C$37,AB398-AB398/(1+Basisgeg.!$C$37),\"\")","v":""},0,0,"",null,null,"","","","","","",""]
[null,"",null,null,null,null,null,null,null,"","","","","","",null,null,null,null,null,null,null,null,null,null,null,"",0,0,{"$f":"IF(G399=Basisgeg.!$C$36,AB399-AB399/(1+Basisgeg.!$C$36),\"\")","v":""},{"$f":"IF(G399=Basisgeg.!$C$37,AB399-AB399/(1+Basisgeg.!$C$37),\"\")","v":""},0,0,"",null,null,"","","","","","",""]
[null,"",null,null,null,null,null,null,null,"","","","","","",null,null,null,null,null,null,null,null,null,null,null,"",0,0,{"$f":"IF(G400=Basisgeg.!$C$36,AB400-AB400/(1+Basisgeg.!$C$36),\"\")","v":""},{"$f":"IF(G400=Basisgeg.!$C$37,AB400-AB400/(1+Basisgeg.!$C$37),\"\")","v":""},0,0,"",null,null,"","","","","","",""]
[null,"",null,null,null,null,null,null,null,"","","","","","",null,null,null,null,null,null,null,null,null,null,null,"",0,0,{"$f":"IF(G401=Basisgeg.!$C$36,AB401-AB401/(1+Basisgeg.!$C$36),\"\")","v":""},{"$f":"IF(G401=Basisgeg.!$C$37,AB401-AB401/(1+Basisgeg.!$C$37),\"\")","v":""},0,0,"",null,null,"","","","","","",""]
[null,"",null,null,null,null,null,null,null,"","","","","","",null,null,null,null,null,null,null,null,null,null,null,"",0,0,{"$f":"IF(G402=Basisgeg.!$C$36,AB402-AB402/(1+Basisgeg.!$C$36),\"\")","v":""},{"$f":"IF(G402=Basisgeg.!$C$37,AB402-AB402/(1+Basisgeg.!$C$37),\"\")","v":""},0,0,"",null,null,"","","","","","",""]
[null,"",null,null,null,null,null,null,null,"","","","","","",null,null,null,null,null,null,null,null,null,null,null,"",0,0,{"$f":"IF(G403=Basisgeg.!$C$36,AB403-AB403/(1+Basisgeg.!$C$36),\"\")","v":""},{"$f":"IF(G403=Basisgeg.!$C$37,AB403-AB403/(1+Basisgeg.!$C$37),\"\")","v":""},0,0,"",null,null,"","","","","","",""]
[null,"",null,null,null,null,null,null,null,"","","","","","",null,null,null,null,null,null,null,null,null,null,null,"",0,0,{"$f":"IF(G404=Basisgeg.!$C$36,AB404-AB404/(1+Basisgeg.!$C$36),\"\")","v":""},{"$f":"IF(G404=Basisgeg.!$C$37,AB404-AB404/(1+Basisgeg.!$C$37),\"\")","v":""},0,0,"",null,null,"","","","","","",""]
[null,"",null,null,null,null,null,null,null,"","","","","","",null,null,null,null,null,null,null,null,null,null,null,"",0,0,{"$f":"IF(G405=Basisgeg.!$C$36,AB405-AB405/(1+Basisgeg.!$C$36),\"\")","v":""},{"$f":"IF(G405=Basisgeg.!$C$37,AB405-AB405/(1+Basisgeg.!$C$37),\"\")","v":""},0,0,"",null,null,"","","","","","",""]
[null,"",null,null,null,null,null,null,null,"","","","","","",null,null,null,null,null,null,null,null,null,null,null,"",0,0,{"$f":"IF(G406=Basisgeg.!$C$36,AB406-AB406/(1+Basisgeg.!$C$36),\"\")","v":""},{"$f":"IF(G406=Basisgeg.!$C$37,AB406-AB406/(1+Basisgeg.!$C$37),\"\")","v":""},0,0,"",null,null,"","","","","","",""]
[null,"",null,null,null,null,null,null,null,"","","","","","",null,null,null,null,null,null,null,null,null,null,null,"",0,0,{"$f":"IF(G407=Basisgeg.!$C$36,AB407-AB407/(1+Basisgeg.!$C$36),\"\")","v":""},{"$f":"IF(G407=Basisgeg.!$C$37,AB407-AB407/(1+Basisgeg.!$C$37),\"\")","v":""},0,0,"",null,null,"","","","","","",""]
[null,"",null,null,null,null,null,null,null,"","","","","","",null,null,null,null,null,null,null,null,null,null,null,"",0,0,{"$f":"IF(G408=Basisgeg.!$C$36,AB408-AB408/(1+Basisgeg.!$C$36),\"\")","v":""},{"$f":"IF(G408=Basisgeg.!$C$37,AB408-AB408/(1+Basisgeg.!$C$37),\"\")","v":""},0,0,"",null,null,"","","","","","",""]
[null,"",null,null,null,null,null,null,null,"","","","","","",null,null,null,null,null,null,null,null,null,null,null,"",0,0,{"$f":"IF(G409=Basisgeg.!$C$36,AB409-AB409/(1+Basisgeg.!$C$36),\"\")","v":""},{"$f":"IF(G409=Basisgeg.!$C$37,AB409-AB409/(1+Basisgeg.!$C$37),\"\")","v":""},0,0,"",null,null,"","","","","","",""]
[null,"",null,null,null,null,null,null,null,"","","","","","",null,null,null,null,null,null,null,null,null,null,null,"",0,0,{"$f":"IF(G410=Basisgeg.!$C$36,AB410-AB410/(1+Basisgeg.!$C$36),\"\")","v":""},{"$f":"IF(G410=Basisgeg.!$C$37,AB410-AB410/(1+Basisgeg.!$C$37),\"\")","v":""},0,0,"",null,null,"","","","","","",""]
[null,"",null,null,null,null,null,null,null,"","","","","","",null,null,null,null,null,null,null,null,null,null,null,"",0,0,{"$f":"IF(G411=Basisgeg.!$C$36,AB411-AB411/(1+Basisgeg.!$C$36),\"\")","v":""},{"$f":"IF(G411=Basisgeg.!$C$37,AB411-AB411/(1+Basisgeg.!$C$37),\"\")","v":""},0,0,"",null,null,"","","","","","",""]
[null,"",null,null,null,null,null,null,null,"","","","","","",null,null,null,null,null,null,null,null,null,null,null,"",0,0,{"$f":"IF(G412=Basisgeg.!$C$36,AB412-AB412/(1+Basisgeg.!$C$36),\"\")","v":""},{"$f":"IF(G412=Basisgeg.!$C$37,AB412-AB412/(1+Basisgeg.!$C$37),\"\")","v":""},0,0,"",null,null,"","","","","","",""]
[null,"",null,null,null,null,null,null,null,"","","","","","",null,null,null,null,null,null,null,null,null,null,null,"",0,0,{"$f":"IF(G413=Basisgeg.!$C$36,AB413-AB413/(1+Basisgeg.!$C$36),\"\")","v":""},{"$f":"IF(G413=Basisgeg.!$C$37,AB413-AB413/(1+Basisgeg.!$C$37),\"\")","v":""},0,0,"",null,null,"","","","","","",""]
[null,"",null,null,null,null,null,null,null,"","","","","","",null,null,null,null,null,null,null,null,null,null,null,"",0,0,{"$f":"IF(G414=Basisgeg.!$C$36,AB414-AB414/(1+Basisgeg.!$C$36),\"\")","v":""},{"$f":"IF(G414=Basisgeg.!$C$37,AB414-AB414/(1+Basisgeg.!$C$37),\"\")","v":""},0,0,"",null,null,"","","","","","",""]
[null,"",null,null,null,null,null,null,null,"","","","","","",null,null,null,null,null,null,null,null,null,null,null,"",0,0,{"$f":"IF(G415=Basisgeg.!$C$36,AB415-AB415/(1+Basisgeg.!$C$36),\"\")","v":""},{"$f":"IF(G415=Basisgeg.!$C$37,AB415-AB415/(1+Basisgeg.!$C$37),\"\")","v":""},0,0,"",null,null,"","","","","","",""]
[null,"",null,null,null,null,null,null,null,"","","","","","",null,null,null,null,null,null,null,null,null,null,null,"",0,0,{"$f":"IF(G416=Basisgeg.!$C$36,AB416-AB416/(1+Basisgeg.!$C$36),\"\")","v":""},{"$f":"IF(G416=Basisgeg.!$C$37,AB416-AB416/(1+Basisgeg.!$C$37),\"\")","v":""},0,0,"",null,null,"","","","","","",""]
[null,"",null,null,null,null,null,null,null,"","","","","","",null,null,null,null,null,null,null,null,null,null,null,"",0,0,{"$f":"IF(G417=Basisgeg.!$C$36,AB417-AB417/(1+Basisgeg.!$C$36),\"\")","v":""},{"$f":"IF(G417=Basisgeg.!$C$37,AB417-AB417/(1+Basisgeg.!$C$37),\"\")","v":""},0,0,"",null,null,"","","","","","",""]
[null,"",null,null,null,null,null,null,null,"","","","","","",null,null,null,null,null,null,null,null,null,null,null,"",0,0,{"$f":"IF(G418=Basisgeg.!$C$36,AB418-AB418/(1+Basisgeg.!$C$36),\"\")","v":""},{"$f":"IF(G418=Basisgeg.!$C$37,AB418-AB418/(1+Basisgeg.!$C$37),\"\")","v":""},0,0,"",null,null,"","","","","","",""]
[null,"",null,null,null,null,null,null,null,"","","","","","",null,null,null,null,null,null,null,null,null,null,null,"",0,0,{"$f":"IF(G419=Basisgeg.!$C$36,AB419-AB419/(1+Basisgeg.!$C$36),\"\")","v":""},{"$f":"IF(G419=Basisgeg.!$C$37,AB419-AB419/(1+Basisgeg.!$C$37),\"\")","v":""},0,0,"",null,null,"","","","","","",""]
[null,"",null,null,null,null,null,null,null,"","","","","","",null,null,null,null,null,null,null,null,null,null,null,"",0,0,{"$f":"IF(G420=Basisgeg.!$C$36,AB420-AB420/(1+Basisgeg.!$C$36),\"\")","v":""},{"$f":"IF(G420=Basisgeg.!$C$37,AB420-AB420/(1+Basisgeg.!$C$37),\"\")","v":""},0,0,"",null,null,"","","","","","",""]
[null,"",null,null,null,null,null,null,null,"","","","","","",null,null,null,null,null,null,null,null,null,null,null,"",0,0,{"$f":"IF(G421=Basisgeg.!$C$36,AB421-AB421/(1+Basisgeg.!$C$36),\"\")","v":""},{"$f":"IF(G421=Basisgeg.!$C$37,AB421-AB421/(1+Basisgeg.!$C$37),\"\")","v":""},0,0,"",null,null,"","","","","","",""]
[null,"",null,null,null,null,null,null,null,"","","","","","",null,null,null,null,null,null,null,null,null,null,null,"",0,0,{"$f":"IF(G422=Basisgeg.!$C$36,AB422-AB422/(1+Basisgeg.!$C$36),\"\")","v":""},{"$f":"IF(G422=Basisgeg.!$C$37,AB422-AB422/(1+Basisgeg.!$C$37),\"\")","v":""},0,0,"",null,null,"","","","","","",""]
[null,"",null,null,null,null,null,null,null,"","","","","","",null,null,null,null,null,null,null,null,null,null,null,"",0,0,{"$f":"IF(G423=Basisgeg.!$C$36,AB423-AB423/(1+Basisgeg.!$C$36),\"\")","v":""},{"$f":"IF(G423=Basisgeg.!$C$37,AB423-AB423/(1+Basisgeg.!$C$37),\"\")","v":""},0,0,"",null,null,"","","","","","",""]
[null,"",null,null,null,null,null,null,null,"","","","","","",null,null,null,null,null,null,null,null,null,null,null,"",0,0,{"$f":"IF(G424=Basisgeg.!$C$36,AB424-AB424/(1+Basisgeg.!$C$36),\"\")","v":""},{"$f":"IF(G424=Basisgeg.!$C$37,AB424-AB424/(1+Basisgeg.!$C$37),\"\")","v":""},0,0,"",null,null,"","","","","","",""]
[null,"",null,null,null,null,null,null,null,"","","","","","",null,null,null,null,null,null,null,null,null,null,null,"",0,0,{"$f":"IF(G425=Basisgeg.!$C$36,AB425-AB425/(1+Basisgeg.!$C$36),\"\")","v":""},{"$f":"IF(G425=Basisgeg.!$C$37,AB425-AB425/(1+Basisgeg.!$C$37),\"\")","v":""},0,0,"",null,null,"","","","","","",""]
[null,"",null,null,null,null,null,null,null,"","","","","","",null,null,null,null,null,null,null,null,null,null,null,"",0,0,{"$f":"IF(G426=Basisgeg.!$C$36,AB426-AB426/(1+Basisgeg.!$C$36),\"\")","v":""},{"$f":"IF(G426=Basisgeg.!$C$37,AB426-AB426/(1+Basisgeg.!$C$37),\"\")","v":""},0,0,"",null,null,"","","","","","",""]
[null,"",null,null,null,null,null,null,null,"","","","","","",null,null,null,null,null,null,null,null,null,null,null,"",0,0,{"$f":"IF(G427=Basisgeg.!$C$36,AB427-AB427/(1+Basisgeg.!$C$36),\"\")","v":""},{"$f":"IF(G427=Basisgeg.!$C$37,AB427-AB427/(1+Basisgeg.!$C$37),\"\")","v":""},0,0,"",null,null,"","","","","","",""]
[null,"",null,null,null,null,null,null,null,"","","","","","",null,null,null,null,null,null,null,null,null,null,null,"",0,0,{"$f":"IF(G428=Basisgeg.!$C$36,AB428-AB428/(1+Basisgeg.!$C$36),\"\")","v":""},{"$f":"IF(G428=Basisgeg.!$C$37,AB428-AB428/(1+Basisgeg.!$C$37),\"\")","v":""},0,0,"",null,null,"","","","","","",""]
[null,"",null,null,null,null,null,null,null,"","","","","","",null,null,null,null,null,null,null,null,null,null,null,"",0,0,{"$f":"IF(G429=Basisgeg.!$C$36,AB429-AB429/(1+Basisgeg.!$C$36),\"\")","v":""},{"$f":"IF(G429=Basisgeg.!$C$37,AB429-AB429/(1+Basisgeg.!$C$37),\"\")","v":""},0,0,"",null,null,"","","","","","",""]
[null,"",null,null,null,null,null,null,null,"","","","","","",null,null,null,null,null,null,null,null,null,null,null,"",0,0,{"$f":"IF(G430=Basisgeg.!$C$36,AB430-AB430/(1+Basisgeg.!$C$36),\"\")","v":""},{"$f":"IF(G430=Basisgeg.!$C$37,AB430-AB430/(1+Basisgeg.!$C$37),\"\")","v":""},0,0,"",null,null,"","","","","","",""]
[null,"",null,null,null,null,null,null,null,"","","","","","",null,null,null,null,null,null,null,null,null,null,null,"",0,0,{"$f":"IF(G431=Basisgeg.!$C$36,AB431-AB431/(1+Basisgeg.!$C$36),\"\")","v":""},{"$f":"IF(G431=Basisgeg.!$C$37,AB431-AB431/(1+Basisgeg.!$C$37),\"\")","v":""},0,0,"",null,null,"","","","","","",""]
[null,"",null,null,null,null,null,null,null,{"$f":"IF(B432=\"\",\"\",IF(AND(H432=\"\",I432=\"\"),\"\",IF(AND(E432<>\"\",F432<>\"\"),\"FOUT\",IF(AND(E432=\"\",H432<>\"\"),\"FOUT\",IF(AND(F432=\"\",I432<>\"\"),\"FOUT\",IF(G432=\"\",\"BTW ?\",\"OK\"))))))","v":""},"","","","","",null,null,null,null,null,null,null,null,null,null,null,"",0,0,{"$f":"IF(G432=Basisgeg.!$C$36,AB432-AB432/(1+Basisgeg.!$C$36),\"\")","v":""},{"$f":"IF(G432=Basisgeg.!$C$37,AB432-AB432/(1+Basisgeg.!$C$37),\"\")","v":""},0,0,"",null,null,{"$f":"IF($AA432=$AJ$5,AB432,\"\")","v":""},{"$f":"IF($AA432=$AJ$5,AC432,\"\")","v":""},{"$f":"IF($AA432=$AJ$5,AD432,\"\")","v":""},{"$f":"IF($AA432=$AJ$5,AE432,\"\")","v":""},{"$f":"IF($AA432=$AJ$5,AF432,\"\")","v":""},{"$f":"IF($AA432=$AJ$5,AG432,\"\")","v":""},{"$f":"IF($AA432=$AJ$5,AH432,\"\")","v":""}]
[null,"",null,null,null,null,null,null,null,"","","","","","",null,null,null,null,null,null,null,null,null,null,null,"",0,0,{"$f":"IF(G433=Basisgeg.!$C$36,AB433-AB433/(1+Basisgeg.!$C$36),\"\")","v":""},{"$f":"IF(G433=Basisgeg.!$C$37,AB433-AB433/(1+Basisgeg.!$C$37),\"\")","v":""},0,0,"",null,null,"","","","","","",""]
[null,"",null,null,null,null,null,null,null,"","","","","","",null,null,null,null,null,null,null,null,null,null,null,"",0,0,{"$f":"IF(G434=Basisgeg.!$C$36,AB434-AB434/(1+Basisgeg.!$C$36),\"\")","v":""},{"$f":"IF(G434=Basisgeg.!$C$37,AB434-AB434/(1+Basisgeg.!$C$37),\"\")","v":""},0,0,"",null,null,"","","","","","",""]
[null,"",null,null,null,null,null,null,null,"","","","","","",null,null,null,null,null,null,null,null,null,null,null,"",0,0,{"$f":"IF(G435=Basisgeg.!$C$36,AB435-AB435/(1+Basisgeg.!$C$36),\"\")","v":""},{"$f":"IF(G435=Basisgeg.!$C$37,AB435-AB435/(1+Basisgeg.!$C$37),\"\")","v":""},0,0,"",null,null,"","","","","","",""]
[null,"",null,null,null,null,null,null,null,"","","","","","",null,null,null,null,null,null,null,null,null,null,null,"",0,0,{"$f":"IF(G436=Basisgeg.!$C$36,AB436-AB436/(1+Basisgeg.!$C$36),\"\")","v":""},{"$f":"IF(G436=Basisgeg.!$C$37,AB436-AB436/(1+Basisgeg.!$C$37),\"\")","v":""},0,0,"",null,null,"","","","","","",""]
[null,"",null,null,null,null,null,null,null,"","","","","","",null,null,null,null,null,null,null,null,null,null,null,"",0,0,{"$f":"IF(G437=Basisgeg.!$C$36,AB437-AB437/(1+Basisgeg.!$C$36),\"\")","v":""},{"$f":"IF(G437=Basisgeg.!$C$37,AB437-AB437/(1+Basisgeg.!$C$37),\"\")","v":""},0,0,"",null,null,"","","","","","",""]
[null,"",null,null,null,null,null,null,null,"","","","","","",null,null,null,null,null,null,null,null,null,null,null,"",0,0,{"$f":"IF(G438=Basisgeg.!$C$36,AB438-AB438/(1+Basisgeg.!$C$36),\"\")","v":""},{"$f":"IF(G438=Basisgeg.!$C$37,AB438-AB438/(1+Basisgeg.!$C$37),\"\")","v":""},0,0,"",null,null,"","","","","","",""]
[null,"",null,null,null,null,null,null,null,"","","","","","",null,null,null,null,null,null,null,null,null,null,null,"",0,0,{"$f":"IF(G439=Basisgeg.!$C$36,AB439-AB439/(1+Basisgeg.!$C$36),\"\")","v":""},{"$f":"IF(G439=Basisgeg.!$C$37,AB439-AB439/(1+Basisgeg.!$C$37),\"\")","v":""},0,0,"",null,null,"","","","","","",""]
[null,"",null,null,null,null,null,null,null,"","","","","","",null,null,null,null,null,null,null,null,null,null,null,"",0,0,{"$f":"IF(G440=Basisgeg.!$C$36,AB440-AB440/(1+Basisgeg.!$C$36),\"\")","v":""},{"$f":"IF(G440=Basisgeg.!$C$37,AB440-AB440/(1+Basisgeg.!$C$37),\"\")","v":""},0,0,"",null,null,"","","","","","",""]
[null,"",null,null,null,null,null,null,null,"","","","","","",null,null,null,null,null,null,null,null,null,null,null,"",0,0,{"$f":"IF(G441=Basisgeg.!$C$36,AB441-AB441/(1+Basisgeg.!$C$36),\"\")","v":""},{"$f":"IF(G441=Basisgeg.!$C$37,AB441-AB441/(1+Basisgeg.!$C$37),\"\")","v":""},0,0,"",null,null,"","","","","","",""]
[null,"",null,null,null,null,null,null,null,"","","","","","",null,null,null,null,null,null,null,null,null,null,null,"",0,0,{"$f":"IF(G442=Basisgeg.!$C$36,AB442-AB442/(1+Basisgeg.!$C$36),\"\")","v":""},{"$f":"IF(G442=Basisgeg.!$C$37,AB442-AB442/(1+Basisgeg.!$C$37),\"\")","v":""},0,0,"",null,null,"","","","","","",""]
[null,"",null,null,null,null,null,null,null,"","","","","","",null,null,null,null,null,null,null,null,null,null,null,"",0,0,{"$f":"IF(G443=Basisgeg.!$C$36,AB443-AB443/(1+Basisgeg.!$C$36),\"\")","v":""},{"$f":"IF(G443=Basisgeg.!$C$37,AB443-AB443/(1+Basisgeg.!$C$37),\"\")","v":""},0,0,"",null,null,"","","","","","",""]
[null,"",null,null,null,null,null,null,null,"","","","","","",null,null,null,null,null,null,null,null,null,null,null,"",0,0,{"$f":"IF(G444=Basisgeg.!$C$36,AB444-AB444/(1+Basisgeg.!$C$36),\"\")","v":""},{"$f":"IF(G444=Basisgeg.!$C$37,AB444-AB444/(1+Basisgeg.!$C$37),\"\")","v":""},0,0,"",null,null,"","","","","","",""]
[null,"",null,null,null,null,null,null,null,"","","","","","",null,null,null,null,null,null,null,null,null,null,null,"",0,0,{"$f":"IF(G445=Basisgeg.!$C$36,AB445-AB445/(1+Basisgeg.!$C$36),\"\")","v":""},{"$f":"IF(G445=Basisgeg.!$C$37,AB445-AB445/(1+Basisgeg.!$C$37),\"\")","v":""},0,0,"",null,null,"","","","","","",""]
[null,"",null,null,null,null,null,null,null,"","","","","","",null,null,null,null,null,null,null,null,null,null,null,"",0,0,{"$f":"IF(G446=Basisgeg.!$C$36,AB446-AB446/(1+Basisgeg.!$C$36),\"\")","v":""},{"$f":"IF(G446=Basisgeg.!$C$37,AB446-AB446/(1+Basisgeg.!$C$37),\"\")","v":""},0,0,"",null,null,"","","","","","",""]
[null,"",null,null,null,null,null,null,null,"","","","","","",null,null,null,null,null,null,null,null,null,null,null,"",0,0,{"$f":"IF(G447=Basisgeg.!$C$36,AB447-AB447/(1+Basisgeg.!$C$36),\"\")","v":""},{"$f":"IF(G447=Basisgeg.!$C$37,AB447-AB447/(1+Basisgeg.!$C$37),\"\")","v":""},0,0,"",null,null,"","","","","","",""]
[null,"",null,null,null,null,null,null,null,"","","","","","",null,null,null,null,null,null,null,null,null,null,null,"",0,0,{"$f":"IF(G448=Basisgeg.!$C$36,AB448-AB448/(1+Basisgeg.!$C$36),\"\")","v":""},{"$f":"IF(G448=Basisgeg.!$C$37,AB448-AB448/(1+Basisgeg.!$C$37),\"\")","v":""},0,0,"",null,null,"","","","","","",""]
[null,"",null,null,null,null,null,null,null,"","","","","","",null,null,null,null,null,null,null,null,null,null,null,"",0,0,{"$f":"IF(G449=Basisgeg.!$C$36,AB449-AB449/(1+Basisgeg.!$C$36),\"\")","v":""},{"$f":"IF(G449=Basisgeg.!$C$37,AB449-AB449/(1+Basisgeg.!$C$37),\"\")","v":""},0,0,"",null,null,"","","","","","",""]
[null,"",null,null,null,null,null,null,null,"","","","","","",null,null,null,null,null,null,null,null,null,null,null,"",0,0,{"$f":"IF(G450=Basisgeg.!$C$36,AB450-AB450/(1+Basisgeg.!$C$36),\"\")","v":""},{"$f":"IF(G450=Basisgeg.!$C$37,AB450-AB450/(1+Basisgeg.!$C$37),\"\")","v":""},0,0,"",null,null,"","","","","","",""]
[null,"",null,null,null,null,null,null,null,"","","","","","",null,null,null,null,null,null,null,null,null,null,null,"",0,0,{"$f":"IF(G451=Basisgeg.!$C$36,AB451-AB451/(1+Basisgeg.!$C$36),\"\")","v":""},{"$f":"IF(G451=Basisgeg.!$C$37,AB451-AB451/(1+Basisgeg.!$C$37),\"\")","v":""},0,0,"",null,null,"","","","","","",""]
[null,"",null,null,null,null,null,null,null,"","","","","","",null,null,null,null,null,null,null,null,null,null,null,"",0,0,{"$f":"IF(G452=Basisgeg.!$C$36,AB452-AB452/(1+Basisgeg.!$C$36),\"\")","v":""},{"$f":"IF(G452=Basisgeg.!$C$37,AB452-AB452/(1+Basisgeg.!$C$37),\"\")","v":""},0,0,"",null,null,"","","","","","",""]
[null,"",null,null,null,null,null,null,null,"","","","","","",null,null,null,null,null,null,null,null,null,null,null,{"$f":"IF(C453<>\"\",MONTH(C453),\"\")","v":""},{"$f":"+H453","v":0},{"$f":"E453","v":0},{"$f":"IF(G453=Basisgeg.!$C$36,AB453-AB453/(1+Basisgeg.!$C$36),\"\")","v":""},{"$f":"IF(G453=Basisgeg.!$C$37,AB453-AB453/(1+Basisgeg.!$C$37),\"\")","v":""},{"$f":"I453","v":0},{"$f":"F453","v":0},{"$f":"L453","v":""},null,null,"","","","","","",""]
[null,{"$f":"IF(C454=\"\",\"\",IF(B453=\"Nr.\",1,B453+1))","v":""},null,null,null,null,null,null,null,"",{"$f":"IF(H454=\"\",\"\",(H454/((1+$G454)*100))*($G454*100))","v":""},{"$f":"IF(I454=\"\",\"\",(I454/((1+$G454)*100))*($G454*100))","v":""},{"$f":"IF(H454=\"\",\"\",+H454-K454)","v":""},{"$f":"IF(I454=\"\",\"\",+I454-L454)","v":""},{"$f":"IF(C454=\"\",\"\",MONTH(C454))","v":""},null,null,null,null,null,null,null,null,null,null,null,"",0,0,{"$f":"IF(G454=Basisgeg.!$C$36,AB454-AB454/(1+Basisgeg.!$C$36),\"\")","v":""},{"$f":"IF(G454=Basisgeg.!$C$37,AB454-AB454/(1+Basisgeg.!$C$37),\"\")","v":""},0,0,"",null,null,"","","","","","",""]
[null,"",null,null,null,null,null,null,null,"","","","","","",null,null,null,null,null,null,null,null,null,null,null,"",0,0,{"$f":"IF(G455=Basisgeg.!$C$36,AB455-AB455/(1+Basisgeg.!$C$36),\"\")","v":""},{"$f":"IF(G455=Basisgeg.!$C$37,AB455-AB455/(1+Basisgeg.!$C$37),\"\")","v":""},0,0,"",null,null,"","","","","","",""]
[null,"",null,null,null,null,null,null,null,"","","","","","",null,null,null,null,null,null,null,null,null,null,null,"",0,0,{"$f":"IF(G456=Basisgeg.!$C$36,AB456-AB456/(1+Basisgeg.!$C$36),\"\")","v":""},{"$f":"IF(G456=Basisgeg.!$C$37,AB456-AB456/(1+Basisgeg.!$C$37),\"\")","v":""},0,0,"",null,null,"","","","","","",""]
[null,"",null,null,null,null,null,null,null,"","","","","","",null,null,null,null,null,null,null,null,null,null,null,"",0,0,{"$f":"IF(G457=Basisgeg.!$C$36,AB457-AB457/(1+Basisgeg.!$C$36),\"\")","v":""},{"$f":"IF(G457=Basisgeg.!$C$37,AB457-AB457/(1+Basisgeg.!$C$37),\"\")","v":""},0,0,"",null,null,"","","","","","",""]
[null,"",null,null,null,null,null,null,null,"","","","","","",null,null,null,null,null,null,null,null,null,null,null,"",0,0,{"$f":"IF(G458=Basisgeg.!$C$36,AB458-AB458/(1+Basisgeg.!$C$36),\"\")","v":""},{"$f":"IF(G458=Basisgeg.!$C$37,AB458-AB458/(1+Basisgeg.!$C$37),\"\")","v":""},0,0,"",null,null,"","","","","","",""]
[null,"",null,null,null,null,null,null,null,"","","","","","",null,null,null,null,null,null,null,null,null,null,null,"",0,0,{"$f":"IF(G459=Basisgeg.!$C$36,AB459-AB459/(1+Basisgeg.!$C$36),\"\")","v":""},{"$f":"IF(G459=Basisgeg.!$C$37,AB459-AB459/(1+Basisgeg.!$C$37),\"\")","v":""},0,0,"",null,null,"","","","","","",""]
[null,"",null,null,null,null,null,null,null,"","","","","","",null,null,null,null,null,null,null,null,null,null,null,"",0,0,{"$f":"IF(G460=Basisgeg.!$C$36,AB460-AB460/(1+Basisgeg.!$C$36),\"\")","v":""},{"$f":"IF(G460=Basisgeg.!$C$37,AB460-AB460/(1+Basisgeg.!$C$37),\"\")","v":""},0,0,"",null,null,"","","","","","",""]
[null,"",null,null,null,null,null,null,null,"","","","","","",null,null,null,null,null,null,null,null,null,null,null,"",0,0,{"$f":"IF(G461=Basisgeg.!$C$36,AB461-AB461/(1+Basisgeg.!$C$36),\"\")","v":""},{"$f":"IF(G461=Basisgeg.!$C$37,AB461-AB461/(1+Basisgeg.!$C$37),\"\")","v":""},0,0,"",null,null,"","","","","","",""]
[null,"",null,null,null,null,null,null,null,"","","","","","",null,null,null,null,null,null,null,null,null,null,null,"",0,0,{"$f":"IF(G462=Basisgeg.!$C$36,AB462-AB462/(1+Basisgeg.!$C$36),\"\")","v":""},{"$f":"IF(G462=Basisgeg.!$C$37,AB462-AB462/(1+Basisgeg.!$C$37),\"\")","v":""},0,0,"",null,null,"","","","","","",""]
[null,"",null,null,null,null,null,null,null,"","","","","","",null,null,null,null,null,null,null,null,null,null,null,"",0,0,{"$f":"IF(G463=Basisgeg.!$C$36,AB463-AB463/(1+Basisgeg.!$C$36),\"\")","v":""},{"$f":"IF(G463=Basisgeg.!$C$37,AB463-AB463/(1+Basisgeg.!$C$37),\"\")","v":""},0,0,"",null,null,"","","","","","",""]
[null,"",null,null,null,null,null,null,null,"","","","","","",null,null,null,null,null,null,null,null,null,null,null,"",0,0,{"$f":"IF(G464=Basisgeg.!$C$36,AB464-AB464/(1+Basisgeg.!$C$36),\"\")","v":""},{"$f":"IF(G464=Basisgeg.!$C$37,AB464-AB464/(1+Basisgeg.!$C$37),\"\")","v":""},0,0,"",null,null,"","","","","","",""]
[null,"",null,null,null,null,null,null,null,"","","","","","",null,null,null,null,null,null,null,null,null,null,null,"",0,0,{"$f":"IF(G465=Basisgeg.!$C$36,AB465-AB465/(1+Basisgeg.!$C$36),\"\")","v":""},{"$f":"IF(G465=Basisgeg.!$C$37,AB465-AB465/(1+Basisgeg.!$C$37),\"\")","v":""},0,0,"",null,null,"","","","","","",""]
[null,"",null,null,null,null,null,null,null,"","","","","","",null,null,null,null,null,null,null,null,null,null,null,"",0,0,{"$f":"IF(G466=Basisgeg.!$C$36,AB466-AB466/(1+Basisgeg.!$C$36),\"\")","v":""},{"$f":"IF(G466=Basisgeg.!$C$37,AB466-AB466/(1+Basisgeg.!$C$37),\"\")","v":""},0,0,"",null,null,"","","","","","",""]
[null,"",null,null,null,null,null,null,null,"","","","","","",null,null,null,null,null,null,null,null,null,null,null,"",0,0,{"$f":"IF(G467=Basisgeg.!$C$36,AB467-AB467/(1+Basisgeg.!$C$36),\"\")","v":""},{"$f":"IF(G467=Basisgeg.!$C$37,AB467-AB467/(1+Basisgeg.!$C$37),\"\")","v":""},0,0,"",null,null,"","","","","","",""]
[null,"",null,null,null,null,null,null,null,"","","","","","",null,null,null,null,null,null,null,null,null,null,null,"",0,0,{"$f":"IF(G468=Basisgeg.!$C$36,AB468-AB468/(1+Basisgeg.!$C$36),\"\")","v":""},{"$f":"IF(G468=Basisgeg.!$C$37,AB468-AB468/(1+Basisgeg.!$C$37),\"\")","v":""},0,0,"",null,null,"","","","","","",""]
[null,"",null,null,null,null,null,null,null,"","","","","","",null,null,null,null,null,null,null,null,null,null,null,"",0,0,{"$f":"IF(G469=Basisgeg.!$C$36,AB469-AB469/(1+Basisgeg.!$C$36),\"\")","v":""},{"$f":"IF(G469=Basisgeg.!$C$37,AB469-AB469/(1+Basisgeg.!$C$37),\"\")","v":""},0,0,"",null,null,"","","","","","",""]
[null,"",null,null,null,null,null,null,null,"","","","","","",null,null,null,null,null,null,null,null,null,null,null,"",0,0,{"$f":"IF(G470=Basisgeg.!$C$36,AB470-AB470/(1+Basisgeg.!$C$36),\"\")","v":""},{"$f":"IF(G470=Basisgeg.!$C$37,AB470-AB470/(1+Basisgeg.!$C$37),\"\")","v":""},0,0,"",null,null,"","","","","","",""]
[null,"",null,null,null,null,null,null,null,"","","","","","",null,null,null,null,null,null,null,null,null,null,null,"",0,0,{"$f":"IF(G471=Basisgeg.!$C$36,AB471-AB471/(1+Basisgeg.!$C$36),\"\")","v":""},{"$f":"IF(G471=Basisgeg.!$C$37,AB471-AB471/(1+Basisgeg.!$C$37),\"\")","v":""},0,0,"",null,null,"","","","","","",""]
[null,"",null,null,null,null,null,null,null,"","","","","","",null,null,null,null,null,null,null,null,null,null,null,"",0,0,{"$f":"IF(G472=Basisgeg.!$C$36,AB472-AB472/(1+Basisgeg.!$C$36),\"\")","v":""},{"$f":"IF(G472=Basisgeg.!$C$37,AB472-AB472/(1+Basisgeg.!$C$37),\"\")","v":""},0,0,"",null,null,"","","","","","",""]
[null,"",null,null,null,null,null,null,null,"","","","","","",null,null,null,null,null,null,null,null,null,null,null,"",0,0,{"$f":"IF(G473=Basisgeg.!$C$36,AB473-AB473/(1+Basisgeg.!$C$36),\"\")","v":""},{"$f":"IF(G473=Basisgeg.!$C$37,AB473-AB473/(1+Basisgeg.!$C$37),\"\")","v":""},0,0,"",null,null,"","","","","","",""]
[null,"",null,null,null,null,null,null,null,"","","","","","",null,null,null,null,null,null,null,null,null,null,null,"",0,0,{"$f":"IF(G474=Basisgeg.!$C$36,AB474-AB474/(1+Basisgeg.!$C$36),\"\")","v":""},{"$f":"IF(G474=Basisgeg.!$C$37,AB474-AB474/(1+Basisgeg.!$C$37),\"\")","v":""},0,0,"",null,null,"","","","","","",""]
[null,"",null,null,null,null,null,null,null,"","","","","","",null,null,null,null,null,null,null,null,null,null,null,"",0,0,{"$f":"IF(G475=Basisgeg.!$C$36,AB475-AB475/(1+Basisgeg.!$C$36),\"\")","v":""},{"$f":"IF(G475=Basisgeg.!$C$37,AB475-AB475/(1+Basisgeg.!$C$37),\"\")","v":""},0,0,"",null,null,"","","","","","",""]
[null,"",null,null,null,null,null,null,null,"","","","","","",null,null,null,null,null,null,null,null,null,null,null,"",0,0,{"$f":"IF(G476=Basisgeg.!$C$36,AB476-AB476/(1+Basisgeg.!$C$36),\"\")","v":""},{"$f":"IF(G476=Basisgeg.!$C$37,AB476-AB476/(1+Basisgeg.!$C$37),\"\")","v":""},0,0,"",null,null,"","","","","","",""]
[null,"",null,null,null,null,null,null,null,"","","","","","",null,null,null,null,null,null,null,null,null,null,null,"",0,0,{"$f":"IF(G477=Basisgeg.!$C$36,AB477-AB477/(1+Basisgeg.!$C$36),\"\")","v":""},{"$f":"IF(G477=Basisgeg.!$C$37,AB477-AB477/(1+Basisgeg.!$C$37),\"\")","v":""},0,0,"",null,null,"","","","","","",""]
[null,"",null,null,null,null,null,null,null,"","","","","","",null,null,null,null,null,null,null,null,null,null,null,"",0,0,{"$f":"IF(G478=Basisgeg.!$C$36,AB478-AB478/(1+Basisgeg.!$C$36),\"\")","v":""},{"$f":"IF(G478=Basisgeg.!$C$37,AB478-AB478/(1+Basisgeg.!$C$37),\"\")","v":""},0,0,"",null,null,"","","","","","",""]
[null,"",null,null,null,null,null,null,null,"","","","","","",null,null,null,null,null,null,null,null,null,null,null,"",0,0,{"$f":"IF(G479=Basisgeg.!$C$36,AB479-AB479/(1+Basisgeg.!$C$36),\"\")","v":""},{"$f":"IF(G479=Basisgeg.!$C$37,AB479-AB479/(1+Basisgeg.!$C$37),\"\")","v":""},0,0,"",null,null,"","","","","","",""]
[null,"",null,null,null,null,null,null,null,"","","","","","",null,null,null,null,null,null,null,null,null,null,null,"",0,0,{"$f":"IF(G480=Basisgeg.!$C$36,AB480-AB480/(1+Basisgeg.!$C$36),\"\")","v":""},{"$f":"IF(G480=Basisgeg.!$C$37,AB480-AB480/(1+Basisgeg.!$C$37),\"\")","v":""},0,0,"",null,null,"","","","","","",""]
[null,"",null,null,null,null,null,null,null,"","","","","","",null,null,null,null,null,null,null,null,null,null,null,"",0,0,{"$f":"IF(G481=Basisgeg.!$C$36,AB481-AB481/(1+Basisgeg.!$C$36),\"\")","v":""},{"$f":"IF(G481=Basisgeg.!$C$37,AB481-AB481/(1+Basisgeg.!$C$37),\"\")","v":""},0,0,"",null,null,"","","","","","",""]
[null,"",null,null,null,null,null,null,null,"","","","","","",null,null,null,null,null,null,null,null,null,null,null,"",0,0,{"$f":"IF(G482=Basisgeg.!$C$36,AB482-AB482/(1+Basisgeg.!$C$36),\"\")","v":""},{"$f":"IF(G482=Basisgeg.!$C$37,AB482-AB482/(1+Basisgeg.!$C$37),\"\")","v":""},0,0,"",null,null,"","","","","","",""]
[null,"",null,null,null,null,null,null,null,"","","","","","",null,null,null,null,null,null,null,null,null,null,null,"",0,0,{"$f":"IF(G483=Basisgeg.!$C$36,AB483-AB483/(1+Basisgeg.!$C$36),\"\")","v":""},{"$f":"IF(G483=Basisgeg.!$C$37,AB483-AB483/(1+Basisgeg.!$C$37),\"\")","v":""},0,0,"",null,null,"","","","","","",""]
[null,"",null,null,null,null,null,null,null,"","","","","","",null,null,null,null,null,null,null,null,null,null,null,"",0,0,{"$f":"IF(G484=Basisgeg.!$C$36,AB484-AB484/(1+Basisgeg.!$C$36),\"\")","v":""},{"$f":"IF(G484=Basisgeg.!$C$37,AB484-AB484/(1+Basisgeg.!$C$37),\"\")","v":""},0,0,"",null,null,"","","","","","",""]
[null,"",null,null,null,null,null,null,null,"","","","","","",null,null,null,null,null,null,null,null,null,null,null,"",0,0,{"$f":"IF(G485=Basisgeg.!$C$36,AB485-AB485/(1+Basisgeg.!$C$36),\"\")","v":""},{"$f":"IF(G485=Basisgeg.!$C$37,AB485-AB485/(1+Basisgeg.!$C$37),\"\")","v":""},0,0,"",null,null,"","","","","","",""]
[null,"",null,null,null,null,null,null,null,"","","","","","",null,null,null,null,null,null,null,null,null,null,null,"",0,0,{"$f":"IF(G486=Basisgeg.!$C$36,AB486-AB486/(1+Basisgeg.!$C$36),\"\")","v":""},{"$f":"IF(G486=Basisgeg.!$C$37,AB486-AB486/(1+Basisgeg.!$C$37),\"\")","v":""},0,0,"",null,null,"","","","","","",""]
[null,"",null,null,null,null,null,null,null,"","","","","","",null,null,null,null,null,null,null,null,null,null,null,"",0,0,{"$f":"IF(G487=Basisgeg.!$C$36,AB487-AB487/(1+Basisgeg.!$C$36),\"\")","v":""},{"$f":"IF(G487=Basisgeg.!$C$37,AB487-AB487/(1+Basisgeg.!$C$37),\"\")","v":""},0,0,"",null,null,"","","","","","",""]
[null,"",null,null,null,null,null,null,null,"","","","","","",null,null,null,null,null,null,null,null,null,null,null,"",0,0,{"$f":"IF(G488=Basisgeg.!$C$36,AB488-AB488/(1+Basisgeg.!$C$36),\"\")","v":""},{"$f":"IF(G488=Basisgeg.!$C$37,AB488-AB488/(1+Basisgeg.!$C$37),\"\")","v":""},0,0,"",null,null,"","","","","","",""]
[null,"",null,null,null,null,null,null,null,"","","","","","",null,null,null,null,null,null,null,null,null,null,null,"",0,0,{"$f":"IF(G489=Basisgeg.!$C$36,AB489-AB489/(1+Basisgeg.!$C$36),\"\")","v":""},{"$f":"IF(G489=Basisgeg.!$C$37,AB489-AB489/(1+Basisgeg.!$C$37),\"\")","v":""},0,0,"",null,null,"","","","","","",""]
[null,"",null,null,null,null,null,null,null,"","","","","","",null,null,null,null,null,null,null,null,null,null,null,"",0,0,{"$f":"IF(G490=Basisgeg.!$C$36,AB490-AB490/(1+Basisgeg.!$C$36),\"\")","v":""},{"$f":"IF(G490=Basisgeg.!$C$37,AB490-AB490/(1+Basisgeg.!$C$37),\"\")","v":""},0,0,"",null,null,"","","","","","",""]
[null,"",null,null,null,null,null,null,null,"","","","","","",null,null,null,null,null,null,null,null,null,null,null,"",0,0,{"$f":"IF(G491=Basisgeg.!$C$36,AB491-AB491/(1+Basisgeg.!$C$36),\"\")","v":""},{"$f":"IF(G491=Basisgeg.!$C$37,AB491-AB491/(1+Basisgeg.!$C$37),\"\")","v":""},0,0,"",null,null,"","","","","","",""]
[null,"",null,null,null,null,null,null,null,"","","","","","",null,null,null,null,null,null,null,null,null,null,null,"",0,0,{"$f":"IF(G492=Basisgeg.!$C$36,AB492-AB492/(1+Basisgeg.!$C$36),\"\")","v":""},{"$f":"IF(G492=Basisgeg.!$C$37,AB492-AB492/(1+Basisgeg.!$C$37),\"\")","v":""},0,0,"",null,null,"","","","","","",""]
[null,"",null,null,null,null,null,null,null,"","","","","","",null,null,null,null,null,null,null,null,null,null,null,"",0,0,{"$f":"IF(G493=Basisgeg.!$C$36,AB493-AB493/(1+Basisgeg.!$C$36),\"\")","v":""},{"$f":"IF(G493=Basisgeg.!$C$37,AB493-AB493/(1+Basisgeg.!$C$37),\"\")","v":""},0,0,"",null,null,"","","","","","",""]
[null,"",null,null,null,null,null,null,null,"","","","","","",null,null,null,null,null,null,null,null,null,null,null,"",0,0,{"$f":"IF(G494=Basisgeg.!$C$36,AB494-AB494/(1+Basisgeg.!$C$36),\"\")","v":""},{"$f":"IF(G494=Basisgeg.!$C$37,AB494-AB494/(1+Basisgeg.!$C$37),\"\")","v":""},0,0,"",null,null,"","","","","","",""]
[null,"",null,null,null,null,null,null,null,"","","","","","",null,null,null,null,null,null,null,null,null,null,null,"",0,0,{"$f":"IF(G495=Basisgeg.!$C$36,AB495-AB495/(1+Basisgeg.!$C$36),\"\")","v":""},{"$f":"IF(G495=Basisgeg.!$C$37,AB495-AB495/(1+Basisgeg.!$C$37),\"\")","v":""},0,0,"",null,null,"","","","","","",""]
[null,"",null,null,null,null,null,null,null,{"$f":"IF(B496=\"\",\"\",IF(AND(H496=\"\",I496=\"\"),\"\",IF(AND(E496<>\"\",F496<>\"\"),\"FOUT\",IF(AND(E496=\"\",H496<>\"\"),\"FOUT\",IF(AND(F496=\"\",I496<>\"\"),\"FOUT\",IF(G496=\"\",\"BTW ?\",\"OK\"))))))","v":""},"","","","","",null,null,null,null,null,null,null,null,null,null,null,"",0,0,{"$f":"IF(G496=Basisgeg.!$C$36,AB496-AB496/(1+Basisgeg.!$C$36),\"\")","v":""},{"$f":"IF(G496=Basisgeg.!$C$37,AB496-AB496/(1+Basisgeg.!$C$37),\"\")","v":""},0,0,"",null,null,{"$f":"IF($AA496=$AJ$5,AB496,\"\")","v":""},{"$f":"IF($AA496=$AJ$5,AC496,\"\")","v":""},{"$f":"IF($AA496=$AJ$5,AD496,\"\")","v":""},{"$f":"IF($AA496=$AJ$5,AE496,\"\")","v":""},{"$f":"IF($AA496=$AJ$5,AF496,\"\")","v":""},{"$f":"IF($AA496=$AJ$5,AG496,\"\")","v":""},{"$f":"IF($AA496=$AJ$5,AH496,\"\")","v":""}]
[null,"",null,null,null,null,null,null,null,"","","","","","",null,null,null,null,null,null,null,null,null,null,null,"",0,0,{"$f":"IF(G497=Basisgeg.!$C$36,AB497-AB497/(1+Basisgeg.!$C$36),\"\")","v":""},{"$f":"IF(G497=Basisgeg.!$C$37,AB497-AB497/(1+Basisgeg.!$C$37),\"\")","v":""},0,0,"",null,null,"","","","","","",""]
[null,"",null,null,null,null,null,null,null,"","","","","","",null,null,null,null,null,null,null,null,null,null,null,"",0,0,{"$f":"IF(G498=Basisgeg.!$C$36,AB498-AB498/(1+Basisgeg.!$C$36),\"\")","v":""},{"$f":"IF(G498=Basisgeg.!$C$37,AB498-AB498/(1+Basisgeg.!$C$37),\"\")","v":""},0,0,"",null,null,"","","","","","",""]
[null,"",null,null,null,null,null,null,null,"","","","","","",null,null,null,null,null,null,null,null,null,null,null,"",0,0,{"$f":"IF(G499=Basisgeg.!$C$36,AB499-AB499/(1+Basisgeg.!$C$36),\"\")","v":""},{"$f":"IF(G499=Basisgeg.!$C$37,AB499-AB499/(1+Basisgeg.!$C$37),\"\")","v":""},0,0,"",null,null,"","","","","","",""]
[null,"",null,null,null,null,null,null,null,"","","","","","",null,null,null,null,null,null,null,null,null,null,null,"",0,0,{"$f":"IF(G500=Basisgeg.!$C$36,AB500-AB500/(1+Basisgeg.!$C$36),\"\")","v":""},{"$f":"IF(G500=Basisgeg.!$C$37,AB500-AB500/(1+Basisgeg.!$C$37),\"\")","v":""},0,0,"",null,null,"","","","","","",""]
[null,"",null,null,null,null,null,null,null,"","","","","","",null,null,null,null,null,null,null,null,null,null,null,"",0,0,{"$f":"IF(G501=Basisgeg.!$C$36,AB501-AB501/(1+Basisgeg.!$C$36),\"\")","v":""},{"$f":"IF(G501=Basisgeg.!$C$37,AB501-AB501/(1+Basisgeg.!$C$37),\"\")","v":""},0,0,"",null,null,"","","","","","",""]
[null,"",null,null,null,null,null,null,null,"","","","","","",null,null,null,null,null,null,null,null,null,null,null,"",0,0,{"$f":"IF(G502=Basisgeg.!$C$36,AB502-AB502/(1+Basisgeg.!$C$36),\"\")","v":""},{"$f":"IF(G502=Basisgeg.!$C$37,AB502-AB502/(1+Basisgeg.!$C$37),\"\")","v":""},0,0,"",null,null,"","","","","","",""]
[null,"",null,null,null,null,null,null,null,"","","","","","",null,null,null,null,null,null,null,null,null,null,null,"",0,0,{"$f":"IF(G503=Basisgeg.!$C$36,AB503-AB503/(1+Basisgeg.!$C$36),\"\")","v":""},{"$f":"IF(G503=Basisgeg.!$C$37,AB503-AB503/(1+Basisgeg.!$C$37),\"\")","v":""},0,0,"",null,null,"","","","","","",""]
[null,"",null,null,null,null,null,null,null,"","","","","","",null,null,null,null,null,null,null,null,null,null,null,"",0,0,{"$f":"IF(G504=Basisgeg.!$C$36,AB504-AB504/(1+Basisgeg.!$C$36),\"\")","v":""},{"$f":"IF(G504=Basisgeg.!$C$37,AB504-AB504/(1+Basisgeg.!$C$37),\"\")","v":""},0,0,"",null,null,"","","","","","",""]
[null,"",null,null,null,null,null,null,null,"","","","","","",null,null,null,null,null,null,null,null,null,null,null,"",0,0,{"$f":"IF(G505=Basisgeg.!$C$36,AB505-AB505/(1+Basisgeg.!$C$36),\"\")","v":""},{"$f":"IF(G505=Basisgeg.!$C$37,AB505-AB505/(1+Basisgeg.!$C$37),\"\")","v":""},0,0,"",null,null,"","","","","","",""]
[null,"",null,null,null,null,null,null,null,"","","","","","",null,null,null,null,null,null,null,null,null,null,null,"",0,0,{"$f":"IF(G506=Basisgeg.!$C$36,AB506-AB506/(1+Basisgeg.!$C$36),\"\")","v":""},{"$f":"IF(G506=Basisgeg.!$C$37,AB506-AB506/(1+Basisgeg.!$C$37),\"\")","v":""},0,0,"",null,null,"","","","","","",""]
[null,"",null,null,null,null,null,null,null,"","","","","","",null,null,null,null,null,null,null,null,null,null,null,"",0,0,{"$f":"IF(G507=Basisgeg.!$C$36,AB507-AB507/(1+Basisgeg.!$C$36),\"\")","v":""},{"$f":"IF(G507=Basisgeg.!$C$37,AB507-AB507/(1+Basisgeg.!$C$37),\"\")","v":""},0,0,"",null,null,"","","","","","",""]
[null,"",null,null,null,null,null,null,null,"","","","","","",null,null,null,null,null,null,null,null,null,null,null,"",0,0,{"$f":"IF(G508=Basisgeg.!$C$36,AB508-AB508/(1+Basisgeg.!$C$36),\"\")","v":""},{"$f":"IF(G508=Basisgeg.!$C$37,AB508-AB508/(1+Basisgeg.!$C$37),\"\")","v":""},0,0,"",null,null,"","","","","","",""]
[null,"",null,null,null,null,null,null,null,"","","","","","",null,null,null,null,null,null,null,null,null,null,null,"",0,0,{"$f":"IF(G509=Basisgeg.!$C$36,AB509-AB509/(1+Basisgeg.!$C$36),\"\")","v":""},{"$f":"IF(G509=Basisgeg.!$C$37,AB509-AB509/(1+Basisgeg.!$C$37),\"\")","v":""},0,0,"",null,null,"","","","","","",""]
[null,"",null,null,null,null,null,null,null,"","","","","","",null,null,null,null,null,null,null,null,null,null,null,"",0,0,{"$f":"IF(G510=Basisgeg.!$C$36,AB510-AB510/(1+Basisgeg.!$C$36),\"\")","v":""},{"$f":"IF(G510=Basisgeg.!$C$37,AB510-AB510/(1+Basisgeg.!$C$37),\"\")","v":""},0,0,"",null,null,"","","","","","",""]
[null,"",null,null,null,null,null,null,null,"","","","","","",null,null,null,null,null,null,null,null,null,null,null,"",0,0,{"$f":"IF(G511=Basisgeg.!$C$36,AB511-AB511/(1+Basisgeg.!$C$36),\"\")","v":""},{"$f":"IF(G511=Basisgeg.!$C$37,AB511-AB511/(1+Basisgeg.!$C$37),\"\")","v":""},0,0,"",null,null,"","","","","","",""]
[null,"",null,null,null,null,null,null,null,"","","","","","",null,null,null,null,null,null,null,null,null,null,null,"",0,0,{"$f":"IF(G512=Basisgeg.!$C$36,AB512-AB512/(1+Basisgeg.!$C$36),\"\")","v":""},{"$f":"IF(G512=Basisgeg.!$C$37,AB512-AB512/(1+Basisgeg.!$C$37),\"\")","v":""},0,0,"",null,null,"","","","","","",""]
[null,"",null,null,null,null,null,null,null,"","","","","","",null,null,null,null,null,null,null,null,null,null,null,"",0,0,{"$f":"IF(G513=Basisgeg.!$C$36,AB513-AB513/(1+Basisgeg.!$C$36),\"\")","v":""},{"$f":"IF(G513=Basisgeg.!$C$37,AB513-AB513/(1+Basisgeg.!$C$37),\"\")","v":""},0,0,"",null,null,"","","","","","",""]
[null,"",null,null,null,null,null,null,null,"","","","","","",null,null,null,null,null,null,null,null,null,null,null,"",0,0,{"$f":"IF(G514=Basisgeg.!$C$36,AB514-AB514/(1+Basisgeg.!$C$36),\"\")","v":""},{"$f":"IF(G514=Basisgeg.!$C$37,AB514-AB514/(1+Basisgeg.!$C$37),\"\")","v":""},0,0,"",null,null,"","","","","","",""]
[null,"",null,null,null,null,null,null,null,"","","","","","",null,null,null,null,null,null,null,null,null,null,null,"",0,0,{"$f":"IF(G515=Basisgeg.!$C$36,AB515-AB515/(1+Basisgeg.!$C$36),\"\")","v":""},{"$f":"IF(G515=Basisgeg.!$C$37,AB515-AB515/(1+Basisgeg.!$C$37),\"\")","v":""},0,0,"",null,null,"","","","","","",""]
[null,"",null,null,null,null,null,null,null,"","","","","","",null,null,null,null,null,null,null,null,null,null,null,"",0,0,{"$f":"IF(G516=Basisgeg.!$C$36,AB516-AB516/(1+Basisgeg.!$C$36),\"\")","v":""},{"$f":"IF(G516=Basisgeg.!$C$37,AB516-AB516/(1+Basisgeg.!$C$37),\"\")","v":""},0,0,"",null,null,"","","","","","",""]
[null,"",null,null,null,null,null,null,null,"","","","","","",null,null,null,null,null,null,null,null,null,null,null,{"$f":"IF(C517<>\"\",MONTH(C517),\"\")","v":""},{"$f":"+H517","v":0},{"$f":"E517","v":0},{"$f":"IF(G517=Basisgeg.!$C$36,AB517-AB517/(1+Basisgeg.!$C$36),\"\")","v":""},{"$f":"IF(G517=Basisgeg.!$C$37,AB517-AB517/(1+Basisgeg.!$C$37),\"\")","v":""},{"$f":"I517","v":0},{"$f":"F517","v":0},{"$f":"L517","v":""},null,null,"","","","","","",""]
[null,{"$f":"IF(C518=\"\",\"\",IF(B517=\"Nr.\",1,B517+1))","v":""},null,null,null,null,null,null,null,"",{"$f":"IF(H518=\"\",\"\",(H518/((1+$G518)*100))*($G518*100))","v":""},{"$f":"IF(I518=\"\",\"\",(I518/((1+$G518)*100))*($G518*100))","v":""},{"$f":"IF(H518=\"\",\"\",+H518-K518)","v":""},{"$f":"IF(I518=\"\",\"\",+I518-L518)","v":""},{"$f":"IF(C518=\"\",\"\",MONTH(C518))","v":""},null,null,null,null,null,null,null,null,null,null,null,"",0,0,{"$f":"IF(G518=Basisgeg.!$C$36,AB518-AB518/(1+Basisgeg.!$C$36),\"\")","v":""},{"$f":"IF(G518=Basisgeg.!$C$37,AB518-AB518/(1+Basisgeg.!$C$37),\"\")","v":""},0,0,"",null,null,"","","","","","",""]
[null,"",null,null,null,null,null,null,null,"","","","","","",null,null,null,null,null,null,null,null,null,null,null,"",0,0,{"$f":"IF(G519=Basisgeg.!$C$36,AB519-AB519/(1+Basisgeg.!$C$36),\"\")","v":""},{"$f":"IF(G519=Basisgeg.!$C$37,AB519-AB519/(1+Basisgeg.!$C$37),\"\")","v":""},0,0,"",null,null,"","","","","","",""]
[null,"",null,null,null,null,null,null,null,"","","","","","",null,null,null,null,null,null,null,null,null,null,null,"",0,0,{"$f":"IF(G520=Basisgeg.!$C$36,AB520-AB520/(1+Basisgeg.!$C$36),\"\")","v":""},{"$f":"IF(G520=Basisgeg.!$C$37,AB520-AB520/(1+Basisgeg.!$C$37),\"\")","v":""},0,0,"",null,null,"","","","","","",""]
[null,"",null,null,null,null,null,null,null,"","","","","","",null,null,null,null,null,null,null,null,null,null,null,"",0,0,{"$f":"IF(G521=Basisgeg.!$C$36,AB521-AB521/(1+Basisgeg.!$C$36),\"\")","v":""},{"$f":"IF(G521=Basisgeg.!$C$37,AB521-AB521/(1+Basisgeg.!$C$37),\"\")","v":""},0,0,"",null,null,"","","","","","",""]
[null,"",null,null,null,null,null,null,null,"","","","","","",null,null,null,null,null,null,null,null,null,null,null,"",0,0,{"$f":"IF(G522=Basisgeg.!$C$36,AB522-AB522/(1+Basisgeg.!$C$36),\"\")","v":""},{"$f":"IF(G522=Basisgeg.!$C$37,AB522-AB522/(1+Basisgeg.!$C$37),\"\")","v":""},0,0,"",null,null,"","","","","","",""]
[null,"",null,null,null,null,null,null,null,"","","","","","",null,null,null,null,null,null,null,null,null,null,null,"",0,0,{"$f":"IF(G523=Basisgeg.!$C$36,AB523-AB523/(1+Basisgeg.!$C$36),\"\")","v":""},{"$f":"IF(G523=Basisgeg.!$C$37,AB523-AB523/(1+Basisgeg.!$C$37),\"\")","v":""},0,0,"",null,null,"","","","","","",""]
[null,"",null,null,null,null,null,null,null,"","","","","","",null,null,null,null,null,null,null,null,null,null,null,"",0,0,{"$f":"IF(G524=Basisgeg.!$C$36,AB524-AB524/(1+Basisgeg.!$C$36),\"\")","v":""},{"$f":"IF(G524=Basisgeg.!$C$37,AB524-AB524/(1+Basisgeg.!$C$37),\"\")","v":""},0,0,"",null,null,"","","","","","",""]
[null,"",null,null,null,null,null,null,null,"","","","","","",null,null,null,null,null,null,null,null,null,null,null,"",0,0,{"$f":"IF(G525=Basisgeg.!$C$36,AB525-AB525/(1+Basisgeg.!$C$36),\"\")","v":""},{"$f":"IF(G525=Basisgeg.!$C$37,AB525-AB525/(1+Basisgeg.!$C$37),\"\")","v":""},0,0,"",null,null,"","","","","","",""]
[null,"",null,null,null,null,null,null,null,"","","","","","",null,null,null,null,null,null,null,null,null,null,null,"",0,0,{"$f":"IF(G526=Basisgeg.!$C$36,AB526-AB526/(1+Basisgeg.!$C$36),\"\")","v":""},{"$f":"IF(G526=Basisgeg.!$C$37,AB526-AB526/(1+Basisgeg.!$C$37),\"\")","v":""},0,0,"",null,null,"","","","","","",""]
[null,"",null,null,null,null,null,null,null,"","","","","","",null,null,null,null,null,null,null,null,null,null,null,"",0,0,{"$f":"IF(G527=Basisgeg.!$C$36,AB527-AB527/(1+Basisgeg.!$C$36),\"\")","v":""},{"$f":"IF(G527=Basisgeg.!$C$37,AB527-AB527/(1+Basisgeg.!$C$37),\"\")","v":""},0,0,"",null,null,"","","","","","",""]
[null,"",null,null,null,null,null,null,null,"","","","","","",null,null,null,null,null,null,null,null,null,null,null,"",0,0,{"$f":"IF(G528=Basisgeg.!$C$36,AB528-AB528/(1+Basisgeg.!$C$36),\"\")","v":""},{"$f":"IF(G528=Basisgeg.!$C$37,AB528-AB528/(1+Basisgeg.!$C$37),\"\")","v":""},0,0,"",null,null,"","","","","","",""]
[null,"",null,null,null,null,null,null,null,"","","","","","",null,null,null,null,null,null,null,null,null,null,null,"",0,0,{"$f":"IF(G529=Basisgeg.!$C$36,AB529-AB529/(1+Basisgeg.!$C$36),\"\")","v":""},{"$f":"IF(G529=Basisgeg.!$C$37,AB529-AB529/(1+Basisgeg.!$C$37),\"\")","v":""},0,0,"",null,null,"","","","","","",""]
[null,"",null,null,null,null,null,null,null,"","","","","","",null,null,null,null,null,null,null,null,null,null,null,"",0,0,{"$f":"IF(G530=Basisgeg.!$C$36,AB530-AB530/(1+Basisgeg.!$C$36),\"\")","v":""},{"$f":"IF(G530=Basisgeg.!$C$37,AB530-AB530/(1+Basisgeg.!$C$37),\"\")","v":""},0,0,"",null,null,"","","","","","",""]
[null,"",null,null,null,null,null,null,null,"","","","","","",null,null,null,null,null,null,null,null,null,null,null,"",0,0,{"$f":"IF(G531=Basisgeg.!$C$36,AB531-AB531/(1+Basisgeg.!$C$36),\"\")","v":""},{"$f":"IF(G531=Basisgeg.!$C$37,AB531-AB531/(1+Basisgeg.!$C$37),\"\")","v":""},0,0,"",null,null,"","","","","","",""]
[null,"",null,null,null,null,null,null,null,"","","","","","",null,null,null,null,null,null,null,null,null,null,null,"",0,0,{"$f":"IF(G532=Basisgeg.!$C$36,AB532-AB532/(1+Basisgeg.!$C$36),\"\")","v":""},{"$f":"IF(G532=Basisgeg.!$C$37,AB532-AB532/(1+Basisgeg.!$C$37),\"\")","v":""},0,0,"",null,null,"","","","","","",""]
[null,"",null,null,null,null,null,null,null,"","","","","","",null,null,null,null,null,null,null,null,null,null,null,"",0,0,{"$f":"IF(G533=Basisgeg.!$C$36,AB533-AB533/(1+Basisgeg.!$C$36),\"\")","v":""},{"$f":"IF(G533=Basisgeg.!$C$37,AB533-AB533/(1+Basisgeg.!$C$37),\"\")","v":""},0,0,"",null,null,"","","","","","",""]
[null,"",null,null,null,null,null,null,null,"","","","","","",null,null,null,null,null,null,null,null,null,null,null,"",0,0,{"$f":"IF(G534=Basisgeg.!$C$36,AB534-AB534/(1+Basisgeg.!$C$36),\"\")","v":""},{"$f":"IF(G534=Basisgeg.!$C$37,AB534-AB534/(1+Basisgeg.!$C$37),\"\")","v":""},0,0,"",null,null,"","","","","","",""]
[null,"",null,null,null,null,null,null,null,"","","","","","",null,null,null,null,null,null,null,null,null,null,null,"",0,0,{"$f":"IF(G535=Basisgeg.!$C$36,AB535-AB535/(1+Basisgeg.!$C$36),\"\")","v":""},{"$f":"IF(G535=Basisgeg.!$C$37,AB535-AB535/(1+Basisgeg.!$C$37),\"\")","v":""},0,0,"",null,null,"","","","","","",""]
[null,"",null,null,null,null,null,null,null,"","","","","","",null,null,null,null,null,null,null,null,null,null,null,"",0,0,{"$f":"IF(G536=Basisgeg.!$C$36,AB536-AB536/(1+Basisgeg.!$C$36),\"\")","v":""},{"$f":"IF(G536=Basisgeg.!$C$37,AB536-AB536/(1+Basisgeg.!$C$37),\"\")","v":""},0,0,"",null,null,"","","","","","",""]
[null,"",null,null,null,null,null,null,null,"","","","","","",null,null,null,null,null,null,null,null,null,null,null,"",0,0,{"$f":"IF(G537=Basisgeg.!$C$36,AB537-AB537/(1+Basisgeg.!$C$36),\"\")","v":""},{"$f":"IF(G537=Basisgeg.!$C$37,AB537-AB537/(1+Basisgeg.!$C$37),\"\")","v":""},0,0,"",null,null,"","","","","","",""]
[null,"",null,null,null,null,null,null,null,"","","","","","",null,null,null,null,null,null,null,null,null,null,null,"",0,0,{"$f":"IF(G538=Basisgeg.!$C$36,AB538-AB538/(1+Basisgeg.!$C$36),\"\")","v":""},{"$f":"IF(G538=Basisgeg.!$C$37,AB538-AB538/(1+Basisgeg.!$C$37),\"\")","v":""},0,0,"",null,null,"","","","","","",""]
[null,"",null,null,null,null,null,null,null,"","","","","","",null,null,null,null,null,null,null,null,null,null,null,"",0,0,{"$f":"IF(G539=Basisgeg.!$C$36,AB539-AB539/(1+Basisgeg.!$C$36),\"\")","v":""},{"$f":"IF(G539=Basisgeg.!$C$37,AB539-AB539/(1+Basisgeg.!$C$37),\"\")","v":""},0,0,"",null,null,"","","","","","",""]
[null,"",null,null,null,null,null,null,null,"","","","","","",null,null,null,null,null,null,null,null,null,null,null,"",0,0,{"$f":"IF(G540=Basisgeg.!$C$36,AB540-AB540/(1+Basisgeg.!$C$36),\"\")","v":""},{"$f":"IF(G540=Basisgeg.!$C$37,AB540-AB540/(1+Basisgeg.!$C$37),\"\")","v":""},0,0,"",null,null,"","","","","","",""]
[null,"",null,null,null,null,null,null,null,"","","","","","",null,null,null,null,null,null,null,null,null,null,null,"",0,0,{"$f":"IF(G541=Basisgeg.!$C$36,AB541-AB541/(1+Basisgeg.!$C$36),\"\")","v":""},{"$f":"IF(G541=Basisgeg.!$C$37,AB541-AB541/(1+Basisgeg.!$C$37),\"\")","v":""},0,0,"",null,null,"","","","","","",""]
[null,"",null,null,null,null,null,null,null,"","","","","","",null,null,null,null,null,null,null,null,null,null,null,"",0,0,{"$f":"IF(G542=Basisgeg.!$C$36,AB542-AB542/(1+Basisgeg.!$C$36),\"\")","v":""},{"$f":"IF(G542=Basisgeg.!$C$37,AB542-AB542/(1+Basisgeg.!$C$37),\"\")","v":""},0,0,"",null,null,"","","","","","",""]
[null,"",null,null,null,null,null,null,null,"","","","","","",null,null,null,null,null,null,null,null,null,null,null,"",0,0,{"$f":"IF(G543=Basisgeg.!$C$36,AB543-AB543/(1+Basisgeg.!$C$36),\"\")","v":""},{"$f":"IF(G543=Basisgeg.!$C$37,AB543-AB543/(1+Basisgeg.!$C$37),\"\")","v":""},0,0,"",null,null,"","","","","","",""]
[null,"",null,null,null,null,null,null,null,"","","","","","",null,null,null,null,null,null,null,null,null,null,null,"",0,0,{"$f":"IF(G544=Basisgeg.!$C$36,AB544-AB544/(1+Basisgeg.!$C$36),\"\")","v":""},{"$f":"IF(G544=Basisgeg.!$C$37,AB544-AB544/(1+Basisgeg.!$C$37),\"\")","v":""},0,0,"",null,null,"","","","","","",""]
[null,"",null,null,null,null,null,null,null,"","","","","","",null,null,null,null,null,null,null,null,null,null,null,"",0,0,{"$f":"IF(G545=Basisgeg.!$C$36,AB545-AB545/(1+Basisgeg.!$C$36),\"\")","v":""},{"$f":"IF(G545=Basisgeg.!$C$37,AB545-AB545/(1+Basisgeg.!$C$37),\"\")","v":""},0,0,"",null,null,"","","","","","",""]
[null,"",null,null,null,null,null,null,null,"","","","","","",null,null,null,null,null,null,null,null,null,null,null,"",0,0,{"$f":"IF(G546=Basisgeg.!$C$36,AB546-AB546/(1+Basisgeg.!$C$36),\"\")","v":""},{"$f":"IF(G546=Basisgeg.!$C$37,AB546-AB546/(1+Basisgeg.!$C$37),\"\")","v":""},0,0,"",null,null,"","","","","","",""]
[null,"",null,null,null,null,null,null,null,"","","","","","",null,null,null,null,null,null,null,null,null,null,null,"",0,0,{"$f":"IF(G547=Basisgeg.!$C$36,AB547-AB547/(1+Basisgeg.!$C$36),\"\")","v":""},{"$f":"IF(G547=Basisgeg.!$C$37,AB547-AB547/(1+Basisgeg.!$C$37),\"\")","v":""},0,0,"",null,null,"","","","","","",""]
[null,"",null,null,null,null,null,null,null,"","","","","","",null,null,null,null,null,null,null,null,null,null,null,"",0,0,{"$f":"IF(G548=Basisgeg.!$C$36,AB548-AB548/(1+Basisgeg.!$C$36),\"\")","v":""},{"$f":"IF(G548=Basisgeg.!$C$37,AB548-AB548/(1+Basisgeg.!$C$37),\"\")","v":""},0,0,"",null,null,"","","","","","",""]
[null,"",null,null,null,null,null,null,null,"","","","","","",null,null,null,null,null,null,null,null,null,null,null,"",0,0,{"$f":"IF(G549=Basisgeg.!$C$36,AB549-AB549/(1+Basisgeg.!$C$36),\"\")","v":""},{"$f":"IF(G549=Basisgeg.!$C$37,AB549-AB549/(1+Basisgeg.!$C$37),\"\")","v":""},0,0,"",null,null,"","","","","","",""]
[null,"",null,null,null,null,null,null,null,"","","","","","",null,null,null,null,null,null,null,null,null,null,null,"",0,0,{"$f":"IF(G550=Basisgeg.!$C$36,AB550-AB550/(1+Basisgeg.!$C$36),\"\")","v":""},{"$f":"IF(G550=Basisgeg.!$C$37,AB550-AB550/(1+Basisgeg.!$C$37),\"\")","v":""},0,0,"",null,null,"","","","","","",""]
[null,"",null,null,null,null,null,null,null,"","","","","","",null,null,null,null,null,null,null,null,null,null,null,"",0,0,{"$f":"IF(G551=Basisgeg.!$C$36,AB551-AB551/(1+Basisgeg.!$C$36),\"\")","v":""},{"$f":"IF(G551=Basisgeg.!$C$37,AB551-AB551/(1+Basisgeg.!$C$37),\"\")","v":""},0,0,"",null,null,"","","","","","",""]
[null,"",null,null,null,null,null,null,null,"","","","","","",null,null,null,null,null,null,null,null,null,null,null,"",0,0,{"$f":"IF(G552=Basisgeg.!$C$36,AB552-AB552/(1+Basisgeg.!$C$36),\"\")","v":""},{"$f":"IF(G552=Basisgeg.!$C$37,AB552-AB552/(1+Basisgeg.!$C$37),\"\")","v":""},0,0,"",null,null,"","","","","","",""]
[null,"",null,null,null,null,null,null,null,"","","","","","",null,null,null,null,null,null,null,null,null,null,null,"",0,0,{"$f":"IF(G553=Basisgeg.!$C$36,AB553-AB553/(1+Basisgeg.!$C$36),\"\")","v":""},{"$f":"IF(G553=Basisgeg.!$C$37,AB553-AB553/(1+Basisgeg.!$C$37),\"\")","v":""},0,0,"",null,null,"","","","","","",""]
[null,"",null,null,null,null,null,null,null,"","","","","","",null,null,null,null,null,null,null,null,null,null,null,"",0,0,{"$f":"IF(G554=Basisgeg.!$C$36,AB554-AB554/(1+Basisgeg.!$C$36),\"\")","v":""},{"$f":"IF(G554=Basisgeg.!$C$37,AB554-AB554/(1+Basisgeg.!$C$37),\"\")","v":""},0,0,"",null,null,"","","","","","",""]
[null,"",null,null,null,null,null,null,null,"","","","","","",null,null,null,null,null,null,null,null,null,null,null,"",0,0,{"$f":"IF(G555=Basisgeg.!$C$36,AB555-AB555/(1+Basisgeg.!$C$36),\"\")","v":""},{"$f":"IF(G555=Basisgeg.!$C$37,AB555-AB555/(1+Basisgeg.!$C$37),\"\")","v":""},0,0,"",null,null,"","","","","","",""]
[null,"",null,null,null,null,null,null,null,"","","","","","",null,null,null,null,null,null,null,null,null,null,null,"",0,0,{"$f":"IF(G556=Basisgeg.!$C$36,AB556-AB556/(1+Basisgeg.!$C$36),\"\")","v":""},{"$f":"IF(G556=Basisgeg.!$C$37,AB556-AB556/(1+Basisgeg.!$C$37),\"\")","v":""},0,0,"",null,null,"","","","","","",""]
[null,"",null,null,null,null,null,null,null,"","","","","","",null,null,null,null,null,null,null,null,null,null,null,"",0,0,{"$f":"IF(G557=Basisgeg.!$C$36,AB557-AB557/(1+Basisgeg.!$C$36),\"\")","v":""},{"$f":"IF(G557=Basisgeg.!$C$37,AB557-AB557/(1+Basisgeg.!$C$37),\"\")","v":""},0,0,"",null,null,"","","","","","",""]
[null,"",null,null,null,null,null,null,null,"","","","","","",null,null,null,null,null,null,null,null,null,null,null,"",0,0,{"$f":"IF(G558=Basisgeg.!$C$36,AB558-AB558/(1+Basisgeg.!$C$36),\"\")","v":""},{"$f":"IF(G558=Basisgeg.!$C$37,AB558-AB558/(1+Basisgeg.!$C$37),\"\")","v":""},0,0,"",null,null,"","","","","","",""]
[null,"",null,null,null,null,null,null,null,"","","","","","",null,null,null,null,null,null,null,null,null,null,null,"",0,0,{"$f":"IF(G559=Basisgeg.!$C$36,AB559-AB559/(1+Basisgeg.!$C$36),\"\")","v":""},{"$f":"IF(G559=Basisgeg.!$C$37,AB559-AB559/(1+Basisgeg.!$C$37),\"\")","v":""},0,0,"",null,null,"","","","","","",""]
[null,"",null,null,null,null,null,null,null,{"$f":"IF(B560=\"\",\"\",IF(AND(H560=\"\",I560=\"\"),\"\",IF(AND(E560<>\"\",F560<>\"\"),\"FOUT\",IF(AND(E560=\"\",H560<>\"\"),\"FOUT\",IF(AND(F560=\"\",I560<>\"\"),\"FOUT\",IF(G560=\"\",\"BTW ?\",\"OK\"))))))","v":""},"","","","","",null,null,null,null,null,null,null,null,null,null,null,"",0,0,{"$f":"IF(G560=Basisgeg.!$C$36,AB560-AB560/(1+Basisgeg.!$C$36),\"\")","v":""},{"$f":"IF(G560=Basisgeg.!$C$37,AB560-AB560/(1+Basisgeg.!$C$37),\"\")","v":""},0,0,"",null,null,{"$f":"IF($AA560=$AJ$5,AB560,\"\")","v":""},{"$f":"IF($AA560=$AJ$5,AC560,\"\")","v":""},{"$f":"IF($AA560=$AJ$5,AD560,\"\")","v":""},{"$f":"IF($AA560=$AJ$5,AE560,\"\")","v":""},{"$f":"IF($AA560=$AJ$5,AF560,\"\")","v":""},{"$f":"IF($AA560=$AJ$5,AG560,\"\")","v":""},{"$f":"IF($AA560=$AJ$5,AH560,\"\")","v":""}]
[null,"",null,null,null,null,null,null,null,"","","","","","",null,null,null,null,null,null,null,null,null,null,null,"",0,0,{"$f":"IF(G561=Basisgeg.!$C$36,AB561-AB561/(1+Basisgeg.!$C$36),\"\")","v":""},{"$f":"IF(G561=Basisgeg.!$C$37,AB561-AB561/(1+Basisgeg.!$C$37),\"\")","v":""},0,0,"",null,null,"","","","","","",""]
[null,"",null,null,null,null,null,null,null,"","","","","","",null,null,null,null,null,null,null,null,null,null,null,"",0,0,{"$f":"IF(G562=Basisgeg.!$C$36,AB562-AB562/(1+Basisgeg.!$C$36),\"\")","v":""},{"$f":"IF(G562=Basisgeg.!$C$37,AB562-AB562/(1+Basisgeg.!$C$37),\"\")","v":""},0,0,"",null,null,"","","","","","",""]
[null,"",null,null,null,null,null,null,null,"","","","","","",null,null,null,null,null,null,null,null,null,null,null,"",0,0,{"$f":"IF(G563=Basisgeg.!$C$36,AB563-AB563/(1+Basisgeg.!$C$36),\"\")","v":""},{"$f":"IF(G563=Basisgeg.!$C$37,AB563-AB563/(1+Basisgeg.!$C$37),\"\")","v":""},0,0,"",null,null,"","","","","","",""]
[null,"",null,null,null,null,null,null,null,"","","","","","",null,null,null,null,null,null,null,null,null,null,null,"",0,0,{"$f":"IF(G564=Basisgeg.!$C$36,AB564-AB564/(1+Basisgeg.!$C$36),\"\")","v":""},{"$f":"IF(G564=Basisgeg.!$C$37,AB564-AB564/(1+Basisgeg.!$C$37),\"\")","v":""},0,0,"",null,null,"","","","","","",""]
[null,"",null,null,null,null,null,null,null,"","","","","","",null,null,null,null,null,null,null,null,null,null,null,"",0,0,{"$f":"IF(G565=Basisgeg.!$C$36,AB565-AB565/(1+Basisgeg.!$C$36),\"\")","v":""},{"$f":"IF(G565=Basisgeg.!$C$37,AB565-AB565/(1+Basisgeg.!$C$37),\"\")","v":""},0,0,"",null,null,"","","","","","",""]
[null,"",null,null,null,null,null,null,null,"","","","","","",null,null,null,null,null,null,null,null,null,null,null,"",0,0,{"$f":"IF(G566=Basisgeg.!$C$36,AB566-AB566/(1+Basisgeg.!$C$36),\"\")","v":""},{"$f":"IF(G566=Basisgeg.!$C$37,AB566-AB566/(1+Basisgeg.!$C$37),\"\")","v":""},0,0,"",null,null,"","","","","","",""]
[null,"",null,null,null,null,null,null,null,"","","","","","",null,null,null,null,null,null,null,null,null,null,null,"",0,0,{"$f":"IF(G567=Basisgeg.!$C$36,AB567-AB567/(1+Basisgeg.!$C$36),\"\")","v":""},{"$f":"IF(G567=Basisgeg.!$C$37,AB567-AB567/(1+Basisgeg.!$C$37),\"\")","v":""},0,0,"",null,null,"","","","","","",""]
[null,"",null,null,null,null,null,null,null,"","","","","","",null,null,null,null,null,null,null,null,null,null,null,"",0,0,{"$f":"IF(G568=Basisgeg.!$C$36,AB568-AB568/(1+Basisgeg.!$C$36),\"\")","v":""},{"$f":"IF(G568=Basisgeg.!$C$37,AB568-AB568/(1+Basisgeg.!$C$37),\"\")","v":""},0,0,"",null,null,"","","","","","",""]
[null,"",null,null,null,null,null,null,null,"","","","","","",null,null,null,null,null,null,null,null,null,null,null,"",0,0,{"$f":"IF(G569=Basisgeg.!$C$36,AB569-AB569/(1+Basisgeg.!$C$36),\"\")","v":""},{"$f":"IF(G569=Basisgeg.!$C$37,AB569-AB569/(1+Basisgeg.!$C$37),\"\")","v":""},0,0,"",null,null,"","","","","","",""]
[null,"",null,null,null,null,null,null,null,"","","","","","",null,null,null,null,null,null,null,null,null,null,null,"",0,0,{"$f":"IF(G570=Basisgeg.!$C$36,AB570-AB570/(1+Basisgeg.!$C$36),\"\")","v":""},{"$f":"IF(G570=Basisgeg.!$C$37,AB570-AB570/(1+Basisgeg.!$C$37),\"\")","v":""},0,0,"",null,null,"","","","","","",""]
[null,"",null,null,null,null,null,null,null,"","","","","","",null,null,null,null,null,null,null,null,null,null,null,"",0,0,{"$f":"IF(G571=Basisgeg.!$C$36,AB571-AB571/(1+Basisgeg.!$C$36),\"\")","v":""},{"$f":"IF(G571=Basisgeg.!$C$37,AB571-AB571/(1+Basisgeg.!$C$37),\"\")","v":""},0,0,"",null,null,"","","","","","",""]
[null,"",null,null,null,null,null,null,null,"","","","","","",null,null,null,null,null,null,null,null,null,null,null,"",0,0,{"$f":"IF(G572=Basisgeg.!$C$36,AB572-AB572/(1+Basisgeg.!$C$36),\"\")","v":""},{"$f":"IF(G572=Basisgeg.!$C$37,AB572-AB572/(1+Basisgeg.!$C$37),\"\")","v":""},0,0,"",null,null,"","","","","","",""]
[null,"",null,null,null,null,null,null,null,"","","","","","",null,null,null,null,null,null,null,null,null,null,null,"",0,0,{"$f":"IF(G573=Basisgeg.!$C$36,AB573-AB573/(1+Basisgeg.!$C$36),\"\")","v":""},{"$f":"IF(G573=Basisgeg.!$C$37,AB573-AB573/(1+Basisgeg.!$C$37),\"\")","v":""},0,0,"",null,null,"","","","","","",""]
[null,"",null,null,null,null,null,null,null,"","","","","","",null,null,null,null,null,null,null,null,null,null,null,"",0,0,{"$f":"IF(G574=Basisgeg.!$C$36,AB574-AB574/(1+Basisgeg.!$C$36),\"\")","v":""},{"$f":"IF(G574=Basisgeg.!$C$37,AB574-AB574/(1+Basisgeg.!$C$37),\"\")","v":""},0,0,"",null,null,"","","","","","",""]
[null,"",null,null,null,null,null,null,null,"","","","","","",null,null,null,null,null,null,null,null,null,null,null,"",0,0,{"$f":"IF(G575=Basisgeg.!$C$36,AB575-AB575/(1+Basisgeg.!$C$36),\"\")","v":""},{"$f":"IF(G575=Basisgeg.!$C$37,AB575-AB575/(1+Basisgeg.!$C$37),\"\")","v":""},0,0,"",null,null,"","","","","","",""]
[null,"",null,null,null,null,null,null,null,"","","","","","",null,null,null,null,null,null,null,null,null,null,null,"",0,0,{"$f":"IF(G576=Basisgeg.!$C$36,AB576-AB576/(1+Basisgeg.!$C$36),\"\")","v":""},{"$f":"IF(G576=Basisgeg.!$C$37,AB576-AB576/(1+Basisgeg.!$C$37),\"\")","v":""},0,0,"",null,null,"","","","","","",""]
[null,"",null,null,null,null,null,null,null,"","","","","","",null,null,null,null,null,null,null,null,null,null,null,"",0,0,{"$f":"IF(G577=Basisgeg.!$C$36,AB577-AB577/(1+Basisgeg.!$C$36),\"\")","v":""},{"$f":"IF(G577=Basisgeg.!$C$37,AB577-AB577/(1+Basisgeg.!$C$37),\"\")","v":""},0,0,"",null,null,"","","","","","",""]
[null,"",null,null,null,null,null,null,null,"","","","","","",null,null,null,null,null,null,null,null,null,null,null,"",0,0,{"$f":"IF(G578=Basisgeg.!$C$36,AB578-AB578/(1+Basisgeg.!$C$36),\"\")","v":""},{"$f":"IF(G578=Basisgeg.!$C$37,AB578-AB578/(1+Basisgeg.!$C$37),\"\")","v":""},0,0,"",null,null,"","","","","","",""]
[null,"",null,null,null,null,null,null,null,"","","","","","",null,null,null,null,null,null,null,null,null,null,null,"",0,0,{"$f":"IF(G579=Basisgeg.!$C$36,AB579-AB579/(1+Basisgeg.!$C$36),\"\")","v":""},{"$f":"IF(G579=Basisgeg.!$C$37,AB579-AB579/(1+Basisgeg.!$C$37),\"\")","v":""},0,0,"",null,null,"","","","","","",""]
[null,"",null,null,null,null,null,null,null,"","","","","","",null,null,null,null,null,null,null,null,null,null,null,"",0,0,{"$f":"IF(G580=Basisgeg.!$C$36,AB580-AB580/(1+Basisgeg.!$C$36),\"\")","v":""},{"$f":"IF(G580=Basisgeg.!$C$37,AB580-AB580/(1+Basisgeg.!$C$37),\"\")","v":""},0,0,"",null,null,"","","","","","",""]
[null,"",null,null,null,null,null,null,null,"","","","","","",null,null,null,null,null,null,null,null,null,null,null,{"$f":"IF(C581<>\"\",MONTH(C581),\"\")","v":""},{"$f":"+H581","v":0},{"$f":"E581","v":0},{"$f":"IF(G581=Basisgeg.!$C$36,AB581-AB581/(1+Basisgeg.!$C$36),\"\")","v":""},{"$f":"IF(G581=Basisgeg.!$C$37,AB581-AB581/(1+Basisgeg.!$C$37),\"\")","v":""},{"$f":"I581","v":0},{"$f":"F581","v":0},{"$f":"L581","v":""},null,null,"","","","","","",""]
[null,{"$f":"IF(C582=\"\",\"\",IF(B581=\"Nr.\",1,B581+1))","v":""},null,null,null,null,null,null,null,"",{"$f":"IF(H582=\"\",\"\",(H582/((1+$G582)*100))*($G582*100))","v":""},{"$f":"IF(I582=\"\",\"\",(I582/((1+$G582)*100))*($G582*100))","v":""},{"$f":"IF(H582=\"\",\"\",+H582-K582)","v":""},{"$f":"IF(I582=\"\",\"\",+I582-L582)","v":""},{"$f":"IF(C582=\"\",\"\",MONTH(C582))","v":""},null,null,null,null,null,null,null,null,null,null,null,"",0,0,{"$f":"IF(G582=Basisgeg.!$C$36,AB582-AB582/(1+Basisgeg.!$C$36),\"\")","v":""},{"$f":"IF(G582=Basisgeg.!$C$37,AB582-AB582/(1+Basisgeg.!$C$37),\"\")","v":""},0,0,"",null,null,"","","","","","",""]
[null,"",null,null,null,null,null,null,null,"","","","","","",null,null,null,null,null,null,null,null,null,null,null,"",0,0,{"$f":"IF(G583=Basisgeg.!$C$36,AB583-AB583/(1+Basisgeg.!$C$36),\"\")","v":""},{"$f":"IF(G583=Basisgeg.!$C$37,AB583-AB583/(1+Basisgeg.!$C$37),\"\")","v":""},0,0,"",null,null,"","","","","","",""]
[null,"",null,null,null,null,null,null,null,"","","","","","",null,null,null,null,null,null,null,null,null,null,null,"",0,0,{"$f":"IF(G584=Basisgeg.!$C$36,AB584-AB584/(1+Basisgeg.!$C$36),\"\")","v":""},{"$f":"IF(G584=Basisgeg.!$C$37,AB584-AB584/(1+Basisgeg.!$C$37),\"\")","v":""},0,0,"",null,null,"","","","","","",""]
[null,"",null,null,null,null,null,null,null,"","","","","","",null,null,null,null,null,null,null,null,null,null,null,"",0,0,{"$f":"IF(G585=Basisgeg.!$C$36,AB585-AB585/(1+Basisgeg.!$C$36),\"\")","v":""},{"$f":"IF(G585=Basisgeg.!$C$37,AB585-AB585/(1+Basisgeg.!$C$37),\"\")","v":""},0,0,"",null,null,"","","","","","",""]
[null,"",null,null,null,null,null,null,null,"","","","","","",null,null,null,null,null,null,null,null,null,null,null,"",0,0,{"$f":"IF(G586=Basisgeg.!$C$36,AB586-AB586/(1+Basisgeg.!$C$36),\"\")","v":""},{"$f":"IF(G586=Basisgeg.!$C$37,AB586-AB586/(1+Basisgeg.!$C$37),\"\")","v":""},0,0,"",null,null,"","","","","","",""]
[null,"",null,null,null,null,null,null,null,"","","","","","",null,null,null,null,null,null,null,null,null,null,null,"",0,0,{"$f":"IF(G587=Basisgeg.!$C$36,AB587-AB587/(1+Basisgeg.!$C$36),\"\")","v":""},{"$f":"IF(G587=Basisgeg.!$C$37,AB587-AB587/(1+Basisgeg.!$C$37),\"\")","v":""},0,0,"",null,null,"","","","","","",""]
[null,"",null,null,null,null,null,null,null,"","","","","","",null,null,null,null,null,null,null,null,null,null,null,"",0,0,{"$f":"IF(G588=Basisgeg.!$C$36,AB588-AB588/(1+Basisgeg.!$C$36),\"\")","v":""},{"$f":"IF(G588=Basisgeg.!$C$37,AB588-AB588/(1+Basisgeg.!$C$37),\"\")","v":""},0,0,"",null,null,"","","","","","",""]
[null,"",null,null,null,null,null,null,null,"","","","","","",null,null,null,null,null,null,null,null,null,null,null,"",0,0,{"$f":"IF(G589=Basisgeg.!$C$36,AB589-AB589/(1+Basisgeg.!$C$36),\"\")","v":""},{"$f":"IF(G589=Basisgeg.!$C$37,AB589-AB589/(1+Basisgeg.!$C$37),\"\")","v":""},0,0,"",null,null,"","","","","","",""]
[null,"",null,null,null,null,null,null,null,"","","","","","",null,null,null,null,null,null,null,null,null,null,null,"",0,0,{"$f":"IF(G590=Basisgeg.!$C$36,AB590-AB590/(1+Basisgeg.!$C$36),\"\")","v":""},{"$f":"IF(G590=Basisgeg.!$C$37,AB590-AB590/(1+Basisgeg.!$C$37),\"\")","v":""},0,0,"",null,null,"","","","","","",""]
[null,"",null,null,null,null,null,null,null,"","","","","","",null,null,null,null,null,null,null,null,null,null,null,"",0,0,{"$f":"IF(G591=Basisgeg.!$C$36,AB591-AB591/(1+Basisgeg.!$C$36),\"\")","v":""},{"$f":"IF(G591=Basisgeg.!$C$37,AB591-AB591/(1+Basisgeg.!$C$37),\"\")","v":""},0,0,"",null,null,"","","","","","",""]
[null,"",null,null,null,null,null,null,null,"","","","","","",null,null,null,null,null,null,null,null,null,null,null,"",0,0,{"$f":"IF(G592=Basisgeg.!$C$36,AB592-AB592/(1+Basisgeg.!$C$36),\"\")","v":""},{"$f":"IF(G592=Basisgeg.!$C$37,AB592-AB592/(1+Basisgeg.!$C$37),\"\")","v":""},0,0,"",null,null,"","","","","","",""]
[null,"",null,null,null,null,null,null,null,"","","","","","",null,null,null,null,null,null,null,null,null,null,null,"",0,0,{"$f":"IF(G593=Basisgeg.!$C$36,AB593-AB593/(1+Basisgeg.!$C$36),\"\")","v":""},{"$f":"IF(G593=Basisgeg.!$C$37,AB593-AB593/(1+Basisgeg.!$C$37),\"\")","v":""},0,0,"",null,null,"","","","","","",""]
[null,"",null,null,null,null,null,null,null,"","","","","","",null,null,null,null,null,null,null,null,null,null,null,"",0,0,{"$f":"IF(G594=Basisgeg.!$C$36,AB594-AB594/(1+Basisgeg.!$C$36),\"\")","v":""},{"$f":"IF(G594=Basisgeg.!$C$37,AB594-AB594/(1+Basisgeg.!$C$37),\"\")","v":""},0,0,"",null,null,"","","","","","",""]
[null,"",null,null,null,null,null,null,null,"","","","","","",null,null,null,null,null,null,null,null,null,null,null,"",0,0,{"$f":"IF(G595=Basisgeg.!$C$36,AB595-AB595/(1+Basisgeg.!$C$36),\"\")","v":""},{"$f":"IF(G595=Basisgeg.!$C$37,AB595-AB595/(1+Basisgeg.!$C$37),\"\")","v":""},0,0,"",null,null,"","","","","","",""]
[null,"",null,null,null,null,null,null,null,"","","","","","",null,null,null,null,null,null,null,null,null,null,null,"",0,0,{"$f":"IF(G596=Basisgeg.!$C$36,AB596-AB596/(1+Basisgeg.!$C$36),\"\")","v":""},{"$f":"IF(G596=Basisgeg.!$C$37,AB596-AB596/(1+Basisgeg.!$C$37),\"\")","v":""},0,0,"",null,null,"","","","","","",""]
[null,"",null,null,null,null,null,null,null,"","","","","","",null,null,null,null,null,null,null,null,null,null,null,"",0,0,{"$f":"IF(G597=Basisgeg.!$C$36,AB597-AB597/(1+Basisgeg.!$C$36),\"\")","v":""},{"$f":"IF(G597=Basisgeg.!$C$37,AB597-AB597/(1+Basisgeg.!$C$37),\"\")","v":""},0,0,"",null,null,"","","","","","",""]
[null,"",null,null,null,null,null,null,null,"","","","","","",null,null,null,null,null,null,null,null,null,null,null,"",0,0,{"$f":"IF(G598=Basisgeg.!$C$36,AB598-AB598/(1+Basisgeg.!$C$36),\"\")","v":""},{"$f":"IF(G598=Basisgeg.!$C$37,AB598-AB598/(1+Basisgeg.!$C$37),\"\")","v":""},0,0,"",null,null,"","","","","","",""]
[null,"",null,null,null,null,null,null,null,"","","","","","",null,null,null,null,null,null,null,null,null,null,null,"",0,0,{"$f":"IF(G599=Basisgeg.!$C$36,AB599-AB599/(1+Basisgeg.!$C$36),\"\")","v":""},{"$f":"IF(G599=Basisgeg.!$C$37,AB599-AB599/(1+Basisgeg.!$C$37),\"\")","v":""},0,0,"",null,null,"","","","","","",""]
[null,"",null,null,null,null,null,null,null,"","","","","","",null,null,null,null,null,null,null,null,null,null,null,"",0,0,{"$f":"IF(G600=Basisgeg.!$C$36,AB600-AB600/(1+Basisgeg.!$C$36),\"\")","v":""},{"$f":"IF(G600=Basisgeg.!$C$37,AB600-AB600/(1+Basisgeg.!$C$37),\"\")","v":""},0,0,"",null,null,"","","","","","",""]
[null,"",null,null,null,null,null,null,null,"","","","","","",null,null,null,null,null,null,null,null,null,null,null,"",0,0,{"$f":"IF(G601=Basisgeg.!$C$36,AB601-AB601/(1+Basisgeg.!$C$36),\"\")","v":""},{"$f":"IF(G601=Basisgeg.!$C$37,AB601-AB601/(1+Basisgeg.!$C$37),\"\")","v":""},0,0,"",null,null,"","","","","","",""]
[null,"",null,null,null,null,null,null,null,"","","","","","",null,null,null,null,null,null,null,null,null,null,null,"",0,0,{"$f":"IF(G602=Basisgeg.!$C$36,AB602-AB602/(1+Basisgeg.!$C$36),\"\")","v":""},{"$f":"IF(G602=Basisgeg.!$C$37,AB602-AB602/(1+Basisgeg.!$C$37),\"\")","v":""},0,0,"",null,null,"","","","","","",""]
[null,"",null,null,null,null,null,null,null,"","","","","","",null,null,null,null,null,null,null,null,null,null,null,"",0,0,{"$f":"IF(G603=Basisgeg.!$C$36,AB603-AB603/(1+Basisgeg.!$C$36),\"\")","v":""},{"$f":"IF(G603=Basisgeg.!$C$37,AB603-AB603/(1+Basisgeg.!$C$37),\"\")","v":""},0,0,"",null,null,"","","","","","",""]
[null,"",null,null,null,null,null,null,null,"","","","","","",null,null,null,null,null,null,null,null,null,null,null,"",0,0,{"$f":"IF(G604=Basisgeg.!$C$36,AB604-AB604/(1+Basisgeg.!$C$36),\"\")","v":""},{"$f":"IF(G604=Basisgeg.!$C$37,AB604-AB604/(1+Basisgeg.!$C$37),\"\")","v":""},0,0,"",null,null,"","","","","","",""]
[null,"",null,null,null,null,null,null,null,"","","","","","",null,null,null,null,null,null,null,null,null,null,null,"",0,0,{"$f":"IF(G605=Basisgeg.!$C$36,AB605-AB605/(1+Basisgeg.!$C$36),\"\")","v":""},{"$f":"IF(G605=Basisgeg.!$C$37,AB605-AB605/(1+Basisgeg.!$C$37),\"\")","v":""},0,0,"",null,null,"","","","","","",""]
[null,"",null,null,null,null,null,null,null,"","","","","","",null,null,null,null,null,null,null,null,null,null,null,"",0,0,{"$f":"IF(G606=Basisgeg.!$C$36,AB606-AB606/(1+Basisgeg.!$C$36),\"\")","v":""},{"$f":"IF(G606=Basisgeg.!$C$37,AB606-AB606/(1+Basisgeg.!$C$37),\"\")","v":""},0,0,"",null,null,"","","","","","",""]
[null,"",null,null,null,null,null,null,null,"","","","","","",null,null,null,null,null,null,null,null,null,null,null,"",0,0,{"$f":"IF(G607=Basisgeg.!$C$36,AB607-AB607/(1+Basisgeg.!$C$36),\"\")","v":""},{"$f":"IF(G607=Basisgeg.!$C$37,AB607-AB607/(1+Basisgeg.!$C$37),\"\")","v":""},0,0,"",null,null,"","","","","","",""]
[null,"",null,null,null,null,null,null,null,"","","","","","",null,null,null,null,null,null,null,null,null,null,null,"",0,0,{"$f":"IF(G608=Basisgeg.!$C$36,AB608-AB608/(1+Basisgeg.!$C$36),\"\")","v":""},{"$f":"IF(G608=Basisgeg.!$C$37,AB608-AB608/(1+Basisgeg.!$C$37),\"\")","v":""},0,0,"",null,null,"","","","","","",""]
[null,"",null,null,null,null,null,null,null,"","","","","","",null,null,null,null,null,null,null,null,null,null,null,"",0,0,{"$f":"IF(G609=Basisgeg.!$C$36,AB609-AB609/(1+Basisgeg.!$C$36),\"\")","v":""},{"$f":"IF(G609=Basisgeg.!$C$37,AB609-AB609/(1+Basisgeg.!$C$37),\"\")","v":""},0,0,"",null,null,"","","","","","",""]
[null,"",null,null,null,null,null,null,null,"","","","","","",null,null,null,null,null,null,null,null,null,null,null,"",0,0,{"$f":"IF(G610=Basisgeg.!$C$36,AB610-AB610/(1+Basisgeg.!$C$36),\"\")","v":""},{"$f":"IF(G610=Basisgeg.!$C$37,AB610-AB610/(1+Basisgeg.!$C$37),\"\")","v":""},0,0,"",null,null,"","","","","","",""]
[null,"",null,null,null,null,null,null,null,"","","","","","",null,null,null,null,null,null,null,null,null,null,null,"",0,0,{"$f":"IF(G611=Basisgeg.!$C$36,AB611-AB611/(1+Basisgeg.!$C$36),\"\")","v":""},{"$f":"IF(G611=Basisgeg.!$C$37,AB611-AB611/(1+Basisgeg.!$C$37),\"\")","v":""},0,0,"",null,null,"","","","","","",""]
[null,"",null,null,null,null,null,null,null,"","","","","","",null,null,null,null,null,null,null,null,null,null,null,"",0,0,{"$f":"IF(G612=Basisgeg.!$C$36,AB612-AB612/(1+Basisgeg.!$C$36),\"\")","v":""},{"$f":"IF(G612=Basisgeg.!$C$37,AB612-AB612/(1+Basisgeg.!$C$37),\"\")","v":""},0,0,"",null,null,"","","","","","",""]
[null,"",null,null,null,null,null,null,null,"","","","","","",null,null,null,null,null,null,null,null,null,null,null,"",0,0,{"$f":"IF(G613=Basisgeg.!$C$36,AB613-AB613/(1+Basisgeg.!$C$36),\"\")","v":""},{"$f":"IF(G613=Basisgeg.!$C$37,AB613-AB613/(1+Basisgeg.!$C$37),\"\")","v":""},0,0,"",null,null,"","","","","","",""]
[null,"",null,null,null,null,null,null,null,"","","","","","",null,null,null,null,null,null,null,null,null,null,null,"",0,0,{"$f":"IF(G614=Basisgeg.!$C$36,AB614-AB614/(1+Basisgeg.!$C$36),\"\")","v":""},{"$f":"IF(G614=Basisgeg.!$C$37,AB614-AB614/(1+Basisgeg.!$C$37),\"\")","v":""},0,0,"",null,null,"","","","","","",""]
[null,"",null,null,null,null,null,null,null,"","","","","","",null,null,null,null,null,null,null,null,null,null,null,"",0,0,{"$f":"IF(G615=Basisgeg.!$C$36,AB615-AB615/(1+Basisgeg.!$C$36),\"\")","v":""},{"$f":"IF(G615=Basisgeg.!$C$37,AB615-AB615/(1+Basisgeg.!$C$37),\"\")","v":""},0,0,"",null,null,"","","","","","",""]
[null,"",null,null,null,null,null,null,null,"","","","","","",null,null,null,null,null,null,null,null,null,null,null,"",0,0,{"$f":"IF(G616=Basisgeg.!$C$36,AB616-AB616/(1+Basisgeg.!$C$36),\"\")","v":""},{"$f":"IF(G616=Basisgeg.!$C$37,AB616-AB616/(1+Basisgeg.!$C$37),\"\")","v":""},0,0,"",null,null,"","","","","","",""]
[null,"",null,null,null,null,null,null,null,"","","","","","",null,null,null,null,null,null,null,null,null,null,null,"",0,0,{"$f":"IF(G617=Basisgeg.!$C$36,AB617-AB617/(1+Basisgeg.!$C$36),\"\")","v":""},{"$f":"IF(G617=Basisgeg.!$C$37,AB617-AB617/(1+Basisgeg.!$C$37),\"\")","v":""},0,0,"",null,null,"","","","","","",""]
[null,"",null,null,null,null,null,null,null,"","","","","","",null,null,null,null,null,null,null,null,null,null,null,"",0,0,{"$f":"IF(G618=Basisgeg.!$C$36,AB618-AB618/(1+Basisgeg.!$C$36),\"\")","v":""},{"$f":"IF(G618=Basisgeg.!$C$37,AB618-AB618/(1+Basisgeg.!$C$37),\"\")","v":""},0,0,"",null,null,"","","","","","",""]
[null,"",null,null,null,null,null,null,null,"","","","","","",null,null,null,null,null,null,null,null,null,null,null,"",0,0,{"$f":"IF(G619=Basisgeg.!$C$36,AB619-AB619/(1+Basisgeg.!$C$36),\"\")","v":""},{"$f":"IF(G619=Basisgeg.!$C$37,AB619-AB619/(1+Basisgeg.!$C$37),\"\")","v":""},0,0,"",null,null,"","","","","","",""]
[null,"",null,null,null,null,null,null,null,"","","","","","",null,null,null,null,null,null,null,null,null,null,null,"",0,0,{"$f":"IF(G620=Basisgeg.!$C$36,AB620-AB620/(1+Basisgeg.!$C$36),\"\")","v":""},{"$f":"IF(G620=Basisgeg.!$C$37,AB620-AB620/(1+Basisgeg.!$C$37),\"\")","v":""},0,0,"",null,null,"","","","","","",""]
[null,"",null,null,null,null,null,null,null,"","","","","","",null,null,null,null,null,null,null,null,null,null,null,"",0,0,{"$f":"IF(G621=Basisgeg.!$C$36,AB621-AB621/(1+Basisgeg.!$C$36),\"\")","v":""},{"$f":"IF(G621=Basisgeg.!$C$37,AB621-AB621/(1+Basisgeg.!$C$37),\"\")","v":""},0,0,"",null,null,"","","","","","",""]
[null,"",null,null,null,null,null,null,null,"","","","","","",null,null,null,null,null,null,null,null,null,null,null,"",0,0,{"$f":"IF(G622=Basisgeg.!$C$36,AB622-AB622/(1+Basisgeg.!$C$36),\"\")","v":""},{"$f":"IF(G622=Basisgeg.!$C$37,AB622-AB622/(1+Basisgeg.!$C$37),\"\")","v":""},0,0,"",null,null,"","","","","","",""]
[null,"",null,null,null,null,null,null,null,"","","","","","",null,null,null,null,null,null,null,null,null,null,null,"",0,0,{"$f":"IF(G623=Basisgeg.!$C$36,AB623-AB623/(1+Basisgeg.!$C$36),\"\")","v":""},{"$f":"IF(G623=Basisgeg.!$C$37,AB623-AB623/(1+Basisgeg.!$C$37),\"\")","v":""},0,0,"",null,null,"","","","","","",""]
[null,"",null,null,null,null,null,null,null,{"$f":"IF(B624=\"\",\"\",IF(AND(H624=\"\",I624=\"\"),\"\",IF(AND(E624<>\"\",F624<>\"\"),\"FOUT\",IF(AND(E624=\"\",H624<>\"\"),\"FOUT\",IF(AND(F624=\"\",I624<>\"\"),\"FOUT\",IF(G624=\"\",\"BTW ?\",\"OK\"))))))","v":""},"","","","","",null,null,null,null,null,null,null,null,null,null,null,"",0,0,{"$f":"IF(G624=Basisgeg.!$C$36,AB624-AB624/(1+Basisgeg.!$C$36),\"\")","v":""},{"$f":"IF(G624=Basisgeg.!$C$37,AB624-AB624/(1+Basisgeg.!$C$37),\"\")","v":""},0,0,"",null,null,{"$f":"IF($AA624=$AJ$5,AB624,\"\")","v":""},{"$f":"IF($AA624=$AJ$5,AC624,\"\")","v":""},{"$f":"IF($AA624=$AJ$5,AD624,\"\")","v":""},{"$f":"IF($AA624=$AJ$5,AE624,\"\")","v":""},{"$f":"IF($AA624=$AJ$5,AF624,\"\")","v":""},{"$f":"IF($AA624=$AJ$5,AG624,\"\")","v":""},{"$f":"IF($AA624=$AJ$5,AH624,\"\")","v":""}]
[null,"",null,null,null,null,null,null,null,"","","","","","",null,null,null,null,null,null,null,null,null,null,null,"",0,0,{"$f":"IF(G625=Basisgeg.!$C$36,AB625-AB625/(1+Basisgeg.!$C$36),\"\")","v":""},{"$f":"IF(G625=Basisgeg.!$C$37,AB625-AB625/(1+Basisgeg.!$C$37),\"\")","v":""},0,0,"",null,null,"","","","","","",""]
[null,"",null,null,null,null,null,null,null,"","","","","","",null,null,null,null,null,null,null,null,null,null,null,"",0,0,{"$f":"IF(G626=Basisgeg.!$C$36,AB626-AB626/(1+Basisgeg.!$C$36),\"\")","v":""},{"$f":"IF(G626=Basisgeg.!$C$37,AB626-AB626/(1+Basisgeg.!$C$37),\"\")","v":""},0,0,"",null,null,"","","","","","",""]
[null,"",null,null,null,null,null,null,null,"","","","","","",null,null,null,null,null,null,null,null,null,null,null,"",0,0,{"$f":"IF(G627=Basisgeg.!$C$36,AB627-AB627/(1+Basisgeg.!$C$36),\"\")","v":""},{"$f":"IF(G627=Basisgeg.!$C$37,AB627-AB627/(1+Basisgeg.!$C$37),\"\")","v":""},0,0,"",null,null,"","","","","","",""]
[null,"",null,null,null,null,null,null,null,"","","","","","",null,null,null,null,null,null,null,null,null,null,null,"",0,0,{"$f":"IF(G628=Basisgeg.!$C$36,AB628-AB628/(1+Basisgeg.!$C$36),\"\")","v":""},{"$f":"IF(G628=Basisgeg.!$C$37,AB628-AB628/(1+Basisgeg.!$C$37),\"\")","v":""},0,0,"",null,null,"","","","","","",""]
[null,"",null,null,null,null,null,null,null,"","","","","","",null,null,null,null,null,null,null,null,null,null,null,"",0,0,{"$f":"IF(G629=Basisgeg.!$C$36,AB629-AB629/(1+Basisgeg.!$C$36),\"\")","v":""},{"$f":"IF(G629=Basisgeg.!$C$37,AB629-AB629/(1+Basisgeg.!$C$37),\"\")","v":""},0,0,"",null,null,"","","","","","",""]
[null,"",null,null,null,null,null,null,null,"","","","","","",null,null,null,null,null,null,null,null,null,null,null,"",0,0,{"$f":"IF(G630=Basisgeg.!$C$36,AB630-AB630/(1+Basisgeg.!$C$36),\"\")","v":""},{"$f":"IF(G630=Basisgeg.!$C$37,AB630-AB630/(1+Basisgeg.!$C$37),\"\")","v":""},0,0,"",null,null,"","","","","","",""]
[null,"",null,null,null,null,null,null,null,"","","","","","",null,null,null,null,null,null,null,null,null,null,null,"",0,0,{"$f":"IF(G631=Basisgeg.!$C$36,AB631-AB631/(1+Basisgeg.!$C$36),\"\")","v":""},{"$f":"IF(G631=Basisgeg.!$C$37,AB631-AB631/(1+Basisgeg.!$C$37),\"\")","v":""},0,0,"",null,null,"","","","","","",""]
[null,"",null,null,null,null,null,null,null,"","","","","","",null,null,null,null,null,null,null,null,null,null,null,"",0,0,{"$f":"IF(G632=Basisgeg.!$C$36,AB632-AB632/(1+Basisgeg.!$C$36),\"\")","v":""},{"$f":"IF(G632=Basisgeg.!$C$37,AB632-AB632/(1+Basisgeg.!$C$37),\"\")","v":""},0,0,"",null,null,"","","","","","",""]
[null,"",null,null,null,null,null,null,null,"","","","","","",null,null,null,null,null,null,null,null,null,null,null,"",0,0,{"$f":"IF(G633=Basisgeg.!$C$36,AB633-AB633/(1+Basisgeg.!$C$36),\"\")","v":""},{"$f":"IF(G633=Basisgeg.!$C$37,AB633-AB633/(1+Basisgeg.!$C$37),\"\")","v":""},0,0,"",null,null,"","","","","","",""]
[null,"",null,null,null,null,null,null,null,"","","","","","",null,null,null,null,null,null,null,null,null,null,null,"",0,0,{"$f":"IF(G634=Basisgeg.!$C$36,AB634-AB634/(1+Basisgeg.!$C$36),\"\")","v":""},{"$f":"IF(G634=Basisgeg.!$C$37,AB634-AB634/(1+Basisgeg.!$C$37),\"\")","v":""},0,0,"",null,null,"","","","","","",""]
[null,"",null,null,null,null,null,null,null,"","","","","","",null,null,null,null,null,null,null,null,null,null,null,"",0,0,{"$f":"IF(G635=Basisgeg.!$C$36,AB635-AB635/(1+Basisgeg.!$C$36),\"\")","v":""},{"$f":"IF(G635=Basisgeg.!$C$37,AB635-AB635/(1+Basisgeg.!$C$37),\"\")","v":""},0,0,"",null,null,"","","","","","",""]
[null,"",null,null,null,null,null,null,null,"","","","","","",null,null,null,null,null,null,null,null,null,null,null,"",0,0,{"$f":"IF(G636=Basisgeg.!$C$36,AB636-AB636/(1+Basisgeg.!$C$36),\"\")","v":""},{"$f":"IF(G636=Basisgeg.!$C$37,AB636-AB636/(1+Basisgeg.!$C$37),\"\")","v":""},0,0,"",null,null,"","","","","","",""]
[null,"",null,null,null,null,null,null,null,"","","","","","",null,null,null,null,null,null,null,null,null,null,null,"",0,0,{"$f":"IF(G637=Basisgeg.!$C$36,AB637-AB637/(1+Basisgeg.!$C$36),\"\")","v":""},{"$f":"IF(G637=Basisgeg.!$C$37,AB637-AB637/(1+Basisgeg.!$C$37),\"\")","v":""},0,0,"",null,null,"","","","","","",""]
[null,"",null,null,null,null,null,null,null,"","","","","","",null,null,null,null,null,null,null,null,null,null,null,"",0,0,{"$f":"IF(G638=Basisgeg.!$C$36,AB638-AB638/(1+Basisgeg.!$C$36),\"\")","v":""},{"$f":"IF(G638=Basisgeg.!$C$37,AB638-AB638/(1+Basisgeg.!$C$37),\"\")","v":""},0,0,"",null,null,"","","","","","",""]
[null,"",null,null,null,null,null,null,null,"","","","","","",null,null,null,null,null,null,null,null,null,null,null,"",0,0,{"$f":"IF(G639=Basisgeg.!$C$36,AB639-AB639/(1+Basisgeg.!$C$36),\"\")","v":""},{"$f":"IF(G639=Basisgeg.!$C$37,AB639-AB639/(1+Basisgeg.!$C$37),\"\")","v":""},0,0,"",null,null,"","","","","","",""]
[null,"",null,null,null,null,null,null,null,"","","","","","",null,null,null,null,null,null,null,null,null,null,null,"",0,0,{"$f":"IF(G640=Basisgeg.!$C$36,AB640-AB640/(1+Basisgeg.!$C$36),\"\")","v":""},{"$f":"IF(G640=Basisgeg.!$C$37,AB640-AB640/(1+Basisgeg.!$C$37),\"\")","v":""},0,0,"",null,null,"","","","","","",""]
[null,"",null,null,null,null,null,null,null,"","","","","","",null,null,null,null,null,null,null,null,null,null,null,"",0,0,{"$f":"IF(G641=Basisgeg.!$C$36,AB641-AB641/(1+Basisgeg.!$C$36),\"\")","v":""},{"$f":"IF(G641=Basisgeg.!$C$37,AB641-AB641/(1+Basisgeg.!$C$37),\"\")","v":""},0,0,"",null,null,"","","","","","",""]
[null,"",null,null,null,null,null,null,null,"","","","","","",null,null,null,null,null,null,null,null,null,null,null,"",0,0,{"$f":"IF(G642=Basisgeg.!$C$36,AB642-AB642/(1+Basisgeg.!$C$36),\"\")","v":""},{"$f":"IF(G642=Basisgeg.!$C$37,AB642-AB642/(1+Basisgeg.!$C$37),\"\")","v":""},0,0,"",null,null,"","","","","","",""]
[null,"",null,null,null,null,null,null,null,"","","","","","",null,null,null,null,null,null,null,null,null,null,null,"",0,0,{"$f":"IF(G643=Basisgeg.!$C$36,AB643-AB643/(1+Basisgeg.!$C$36),\"\")","v":""},{"$f":"IF(G643=Basisgeg.!$C$37,AB643-AB643/(1+Basisgeg.!$C$37),\"\")","v":""},0,0,"",null,null,"","","","","","",""]
[null,"",null,null,null,null,null,null,null,"","","","","","",null,null,null,null,null,null,null,null,null,null,null,"",0,0,{"$f":"IF(G644=Basisgeg.!$C$36,AB644-AB644/(1+Basisgeg.!$C$36),\"\")","v":""},{"$f":"IF(G644=Basisgeg.!$C$37,AB644-AB644/(1+Basisgeg.!$C$37),\"\")","v":""},0,0,"",null,null,"","","","","","",""]
[null,"",null,null,null,null,null,null,null,"","","","","","",null,null,null,null,null,null,null,null,null,null,null,{"$f":"IF(C645<>\"\",MONTH(C645),\"\")","v":""},{"$f":"+H645","v":0},{"$f":"E645","v":0},{"$f":"IF(G645=Basisgeg.!$C$36,AB645-AB645/(1+Basisgeg.!$C$36),\"\")","v":""},{"$f":"IF(G645=Basisgeg.!$C$37,AB645-AB645/(1+Basisgeg.!$C$37),\"\")","v":""},{"$f":"I645","v":0},{"$f":"F645","v":0},{"$f":"L645","v":""},null,null,"","","","","","",""]
[null,{"$f":"IF(C646=\"\",\"\",IF(B645=\"Nr.\",1,B645+1))","v":""},null,null,null,null,null,null,null,"",{"$f":"IF(H646=\"\",\"\",(H646/((1+$G646)*100))*($G646*100))","v":""},{"$f":"IF(I646=\"\",\"\",(I646/((1+$G646)*100))*($G646*100))","v":""},{"$f":"IF(H646=\"\",\"\",+H646-K646)","v":""},{"$f":"IF(I646=\"\",\"\",+I646-L646)","v":""},{"$f":"IF(C646=\"\",\"\",MONTH(C646))","v":""},null,null,null,null,null,null,null,null,null,null,null,"",0,0,{"$f":"IF(G646=Basisgeg.!$C$36,AB646-AB646/(1+Basisgeg.!$C$36),\"\")","v":""},{"$f":"IF(G646=Basisgeg.!$C$37,AB646-AB646/(1+Basisgeg.!$C$37),\"\")","v":""},0,0,"",null,null,"","","","","","",""]
[null,"",null,null,null,null,null,null,null,"","","","","","",null,null,null,null,null,null,null,null,null,null,null,"",0,0,{"$f":"IF(G647=Basisgeg.!$C$36,AB647-AB647/(1+Basisgeg.!$C$36),\"\")","v":""},{"$f":"IF(G647=Basisgeg.!$C$37,AB647-AB647/(1+Basisgeg.!$C$37),\"\")","v":""},0,0,"",null,null,"","","","","","",""]
[null,"",null,null,null,null,null,null,null,"","","","","","",null,null,null,null,null,null,null,null,null,null,null,"",0,0,{"$f":"IF(G648=Basisgeg.!$C$36,AB648-AB648/(1+Basisgeg.!$C$36),\"\")","v":""},{"$f":"IF(G648=Basisgeg.!$C$37,AB648-AB648/(1+Basisgeg.!$C$37),\"\")","v":""},0,0,"",null,null,"","","","","","",""]
[null,"",null,null,null,null,null,null,null,"","","","","","",null,null,null,null,null,null,null,null,null,null,null,"",0,0,{"$f":"IF(G649=Basisgeg.!$C$36,AB649-AB649/(1+Basisgeg.!$C$36),\"\")","v":""},{"$f":"IF(G649=Basisgeg.!$C$37,AB649-AB649/(1+Basisgeg.!$C$37),\"\")","v":""},0,0,"",null,null,"","","","","","",""]
[null,"",null,null,null,null,null,null,null,"","","","","","",null,null,null,null,null,null,null,null,null,null,null,"",0,0,{"$f":"IF(G650=Basisgeg.!$C$36,AB650-AB650/(1+Basisgeg.!$C$36),\"\")","v":""},{"$f":"IF(G650=Basisgeg.!$C$37,AB650-AB650/(1+Basisgeg.!$C$37),\"\")","v":""},0,0,"",null,null,"","","","","","",""]
[null,"",null,null,null,null,null,null,null,"","","","","","",null,null,null,null,null,null,null,null,null,null,null,"",0,0,{"$f":"IF(G651=Basisgeg.!$C$36,AB651-AB651/(1+Basisgeg.!$C$36),\"\")","v":""},{"$f":"IF(G651=Basisgeg.!$C$37,AB651-AB651/(1+Basisgeg.!$C$37),\"\")","v":""},0,0,"",null,null,"","","","","","",""]
[null,"",null,null,null,null,null,null,null,"","","","","","",null,null,null,null,null,null,null,null,null,null,null,"",0,0,{"$f":"IF(G652=Basisgeg.!$C$36,AB652-AB652/(1+Basisgeg.!$C$36),\"\")","v":""},{"$f":"IF(G652=Basisgeg.!$C$37,AB652-AB652/(1+Basisgeg.!$C$37),\"\")","v":""},0,0,"",null,null,"","","","","","",""]
[null,"",null,null,null,null,null,null,null,"","","","","","",null,null,null,null,null,null,null,null,null,null,null,"",0,0,{"$f":"IF(G653=Basisgeg.!$C$36,AB653-AB653/(1+Basisgeg.!$C$36),\"\")","v":""},{"$f":"IF(G653=Basisgeg.!$C$37,AB653-AB653/(1+Basisgeg.!$C$37),\"\")","v":""},0,0,"",null,null,"","","","","","",""]
[null,"",null,null,null,null,null,null,null,"","","","","","",null,null,null,null,null,null,null,null,null,null,null,"",0,0,{"$f":"IF(G654=Basisgeg.!$C$36,AB654-AB654/(1+Basisgeg.!$C$36),\"\")","v":""},{"$f":"IF(G654=Basisgeg.!$C$37,AB654-AB654/(1+Basisgeg.!$C$37),\"\")","v":""},0,0,"",null,null,"","","","","","",""]
[null,"",null,null,null,null,null,null,null,"","","","","","",null,null,null,null,null,null,null,null,null,null,null,"",0,0,{"$f":"IF(G655=Basisgeg.!$C$36,AB655-AB655/(1+Basisgeg.!$C$36),\"\")","v":""},{"$f":"IF(G655=Basisgeg.!$C$37,AB655-AB655/(1+Basisgeg.!$C$37),\"\")","v":""},0,0,"",null,null,"","","","","","",""]
[null,"",null,null,null,null,null,null,null,"","","","","","",null,null,null,null,null,null,null,null,null,null,null,"",0,0,{"$f":"IF(G656=Basisgeg.!$C$36,AB656-AB656/(1+Basisgeg.!$C$36),\"\")","v":""},{"$f":"IF(G656=Basisgeg.!$C$37,AB656-AB656/(1+Basisgeg.!$C$37),\"\")","v":""},0,0,"",null,null,"","","","","","",""]
[null,"",null,null,null,null,null,null,null,"","","","","","",null,null,null,null,null,null,null,null,null,null,null,"",0,0,{"$f":"IF(G657=Basisgeg.!$C$36,AB657-AB657/(1+Basisgeg.!$C$36),\"\")","v":""},{"$f":"IF(G657=Basisgeg.!$C$37,AB657-AB657/(1+Basisgeg.!$C$37),\"\")","v":""},0,0,"",null,null,"","","","","","",""]
[null,"",null,null,null,null,null,null,null,"","","","","","",null,null,null,null,null,null,null,null,null,null,null,"",0,0,{"$f":"IF(G658=Basisgeg.!$C$36,AB658-AB658/(1+Basisgeg.!$C$36),\"\")","v":""},{"$f":"IF(G658=Basisgeg.!$C$37,AB658-AB658/(1+Basisgeg.!$C$37),\"\")","v":""},0,0,"",null,null,"","","","","","",""]
[null,"",null,null,null,null,null,null,null,"","","","","","",null,null,null,null,null,null,null,null,null,null,null,"",0,0,{"$f":"IF(G659=Basisgeg.!$C$36,AB659-AB659/(1+Basisgeg.!$C$36),\"\")","v":""},{"$f":"IF(G659=Basisgeg.!$C$37,AB659-AB659/(1+Basisgeg.!$C$37),\"\")","v":""},0,0,"",null,null,"","","","","","",""]
[null,"",null,null,null,null,null,null,null,"","","","","","",null,null,null,null,null,null,null,null,null,null,null,"",0,0,{"$f":"IF(G660=Basisgeg.!$C$36,AB660-AB660/(1+Basisgeg.!$C$36),\"\")","v":""},{"$f":"IF(G660=Basisgeg.!$C$37,AB660-AB660/(1+Basisgeg.!$C$37),\"\")","v":""},0,0,"",null,null,"","","","","","",""]
[null,"",null,null,null,null,null,null,null,"","","","","","",null,null,null,null,null,null,null,null,null,null,null,"",0,0,{"$f":"IF(G661=Basisgeg.!$C$36,AB661-AB661/(1+Basisgeg.!$C$36),\"\")","v":""},{"$f":"IF(G661=Basisgeg.!$C$37,AB661-AB661/(1+Basisgeg.!$C$37),\"\")","v":""},0,0,"",null,null,"","","","","","",""]
[null,"",null,null,null,null,null,null,null,"","","","","","",null,null,null,null,null,null,null,null,null,null,null,"",0,0,{"$f":"IF(G662=Basisgeg.!$C$36,AB662-AB662/(1+Basisgeg.!$C$36),\"\")","v":""},{"$f":"IF(G662=Basisgeg.!$C$37,AB662-AB662/(1+Basisgeg.!$C$37),\"\")","v":""},0,0,"",null,null,"","","","","","",""]
[null,"",null,null,null,null,null,null,null,"","","","","","",null,null,null,null,null,null,null,null,null,null,null,"",0,0,{"$f":"IF(G663=Basisgeg.!$C$36,AB663-AB663/(1+Basisgeg.!$C$36),\"\")","v":""},{"$f":"IF(G663=Basisgeg.!$C$37,AB663-AB663/(1+Basisgeg.!$C$37),\"\")","v":""},0,0,"",null,null,"","","","","","",""]
[null,"",null,null,null,null,null,null,null,"","","","","","",null,null,null,null,null,null,null,null,null,null,null,"",0,0,{"$f":"IF(G664=Basisgeg.!$C$36,AB664-AB664/(1+Basisgeg.!$C$36),\"\")","v":""},{"$f":"IF(G664=Basisgeg.!$C$37,AB664-AB664/(1+Basisgeg.!$C$37),\"\")","v":""},0,0,"",null,null,"","","","","","",""]
[null,"",null,null,null,null,null,null,null,"","","","","","",null,null,null,null,null,null,null,null,null,null,null,"",0,0,{"$f":"IF(G665=Basisgeg.!$C$36,AB665-AB665/(1+Basisgeg.!$C$36),\"\")","v":""},{"$f":"IF(G665=Basisgeg.!$C$37,AB665-AB665/(1+Basisgeg.!$C$37),\"\")","v":""},0,0,"",null,null,"","","","","","",""]
[null,"",null,null,null,null,null,null,null,"","","","","","",null,null,null,null,null,null,null,null,null,null,null,"",0,0,{"$f":"IF(G666=Basisgeg.!$C$36,AB666-AB666/(1+Basisgeg.!$C$36),\"\")","v":""},{"$f":"IF(G666=Basisgeg.!$C$37,AB666-AB666/(1+Basisgeg.!$C$37),\"\")","v":""},0,0,"",null,null,"","","","","","",""]
[null,"",null,null,null,null,null,null,null,"","","","","","",null,null,null,null,null,null,null,null,null,null,null,"",0,0,{"$f":"IF(G667=Basisgeg.!$C$36,AB667-AB667/(1+Basisgeg.!$C$36),\"\")","v":""},{"$f":"IF(G667=Basisgeg.!$C$37,AB667-AB667/(1+Basisgeg.!$C$37),\"\")","v":""},0,0,"",null,null,"","","","","","",""]
[null,"",null,null,null,null,null,null,null,"","","","","","",null,null,null,null,null,null,null,null,null,null,null,"",0,0,{"$f":"IF(G668=Basisgeg.!$C$36,AB668-AB668/(1+Basisgeg.!$C$36),\"\")","v":""},{"$f":"IF(G668=Basisgeg.!$C$37,AB668-AB668/(1+Basisgeg.!$C$37),\"\")","v":""},0,0,"",null,null,"","","","","","",""]
[null,"",null,null,null,null,null,null,null,"","","","","","",null,null,null,null,null,null,null,null,null,null,null,"",0,0,{"$f":"IF(G669=Basisgeg.!$C$36,AB669-AB669/(1+Basisgeg.!$C$36),\"\")","v":""},{"$f":"IF(G669=Basisgeg.!$C$37,AB669-AB669/(1+Basisgeg.!$C$37),\"\")","v":""},0,0,"",null,null,"","","","","","",""]
[null,"",null,null,null,null,null,null,null,"","","","","","",null,null,null,null,null,null,null,null,null,null,null,"",0,0,{"$f":"IF(G670=Basisgeg.!$C$36,AB670-AB670/(1+Basisgeg.!$C$36),\"\")","v":""},{"$f":"IF(G670=Basisgeg.!$C$37,AB670-AB670/(1+Basisgeg.!$C$37),\"\")","v":""},0,0,"",null,null,"","","","","","",""]
[null,"",null,null,null,null,null,null,null,"","","","","","",null,null,null,null,null,null,null,null,null,null,null,"",0,0,{"$f":"IF(G671=Basisgeg.!$C$36,AB671-AB671/(1+Basisgeg.!$C$36),\"\")","v":""},{"$f":"IF(G671=Basisgeg.!$C$37,AB671-AB671/(1+Basisgeg.!$C$37),\"\")","v":""},0,0,"",null,null,"","","","","","",""]
[null,"",null,null,null,null,null,null,null,"","","","","","",null,null,null,null,null,null,null,null,null,null,null,"",0,0,{"$f":"IF(G672=Basisgeg.!$C$36,AB672-AB672/(1+Basisgeg.!$C$36),\"\")","v":""},{"$f":"IF(G672=Basisgeg.!$C$37,AB672-AB672/(1+Basisgeg.!$C$37),\"\")","v":""},0,0,"",null,null,"","","","","","",""]
[null,"",null,null,null,null,null,null,null,"","","","","","",null,null,null,null,null,null,null,null,null,null,null,"",0,0,{"$f":"IF(G673=Basisgeg.!$C$36,AB673-AB673/(1+Basisgeg.!$C$36),\"\")","v":""},{"$f":"IF(G673=Basisgeg.!$C$37,AB673-AB673/(1+Basisgeg.!$C$37),\"\")","v":""},0,0,"",null,null,"","","","","","",""]
[null,"",null,null,null,null,null,null,null,"","","","","","",null,null,null,null,null,null,null,null,null,null,null,"",0,0,{"$f":"IF(G674=Basisgeg.!$C$36,AB674-AB674/(1+Basisgeg.!$C$36),\"\")","v":""},{"$f":"IF(G674=Basisgeg.!$C$37,AB674-AB674/(1+Basisgeg.!$C$37),\"\")","v":""},0,0,"",null,null,"","","","","","",""]
[null,"",null,null,null,null,null,null,null,"","","","","","",null,null,null,null,null,null,null,null,null,null,null,"",0,0,{"$f":"IF(G675=Basisgeg.!$C$36,AB675-AB675/(1+Basisgeg.!$C$36),\"\")","v":""},{"$f":"IF(G675=Basisgeg.!$C$37,AB675-AB675/(1+Basisgeg.!$C$37),\"\")","v":""},0,0,"",null,null,"","","","","","",""]
[null,"",null,null,null,null,null,null,null,"","","","","","",null,null,null,null,null,null,null,null,null,null,null,"",0,0,{"$f":"IF(G676=Basisgeg.!$C$36,AB676-AB676/(1+Basisgeg.!$C$36),\"\")","v":""},{"$f":"IF(G676=Basisgeg.!$C$37,AB676-AB676/(1+Basisgeg.!$C$37),\"\")","v":""},0,0,"",null,null,"","","","","","",""]
[null,"",null,null,null,null,null,null,null,"","","","","","",null,null,null,null,null,null,null,null,null,null,null,"",0,0,{"$f":"IF(G677=Basisgeg.!$C$36,AB677-AB677/(1+Basisgeg.!$C$36),\"\")","v":""},{"$f":"IF(G677=Basisgeg.!$C$37,AB677-AB677/(1+Basisgeg.!$C$37),\"\")","v":""},0,0,"",null,null,"","","","","","",""]
[null,"",null,null,null,null,null,null,null,"","","","","","",null,null,null,null,null,null,null,null,null,null,null,"",0,0,{"$f":"IF(G678=Basisgeg.!$C$36,AB678-AB678/(1+Basisgeg.!$C$36),\"\")","v":""},{"$f":"IF(G678=Basisgeg.!$C$37,AB678-AB678/(1+Basisgeg.!$C$37),\"\")","v":""},0,0,"",null,null,"","","","","","",""]
[null,"",null,null,null,null,null,null,null,"","","","","","",null,null,null,null,null,null,null,null,null,null,null,"",0,0,{"$f":"IF(G679=Basisgeg.!$C$36,AB679-AB679/(1+Basisgeg.!$C$36),\"\")","v":""},{"$f":"IF(G679=Basisgeg.!$C$37,AB679-AB679/(1+Basisgeg.!$C$37),\"\")","v":""},0,0,"",null,null,"","","","","","",""]
[null,"",null,null,null,null,null,null,null,"","","","","","",null,null,null,null,null,null,null,null,null,null,null,"",0,0,{"$f":"IF(G680=Basisgeg.!$C$36,AB680-AB680/(1+Basisgeg.!$C$36),\"\")","v":""},{"$f":"IF(G680=Basisgeg.!$C$37,AB680-AB680/(1+Basisgeg.!$C$37),\"\")","v":""},0,0,"",null,null,"","","","","","",""]
[null,"",null,null,null,null,null,null,null,"","","","","","",null,null,null,null,null,null,null,null,null,null,null,"",0,0,{"$f":"IF(G681=Basisgeg.!$C$36,AB681-AB681/(1+Basisgeg.!$C$36),\"\")","v":""},{"$f":"IF(G681=Basisgeg.!$C$37,AB681-AB681/(1+Basisgeg.!$C$37),\"\")","v":""},0,0,"",null,null,"","","","","","",""]
[null,"",null,null,null,null,null,null,null,"","","","","","",null,null,null,null,null,null,null,null,null,null,null,"",0,0,{"$f":"IF(G682=Basisgeg.!$C$36,AB682-AB682/(1+Basisgeg.!$C$36),\"\")","v":""},{"$f":"IF(G682=Basisgeg.!$C$37,AB682-AB682/(1+Basisgeg.!$C$37),\"\")","v":""},0,0,"",null,null,"","","","","","",""]
[null,"",null,null,null,null,null,null,null,"","","","","","",null,null,null,null,null,null,null,null,null,null,null,"",0,0,{"$f":"IF(G683=Basisgeg.!$C$36,AB683-AB683/(1+Basisgeg.!$C$36),\"\")","v":""},{"$f":"IF(G683=Basisgeg.!$C$37,AB683-AB683/(1+Basisgeg.!$C$37),\"\")","v":""},0,0,"",null,null,"","","","","","",""]
[null,"",null,null,null,null,null,null,null,"","","","","","",null,null,null,null,null,null,null,null,null,null,null,"",0,0,{"$f":"IF(G684=Basisgeg.!$C$36,AB684-AB684/(1+Basisgeg.!$C$36),\"\")","v":""},{"$f":"IF(G684=Basisgeg.!$C$37,AB684-AB684/(1+Basisgeg.!$C$37),\"\")","v":""},0,0,"",null,null,"","","","","","",""]
[null,"",null,null,null,null,null,null,null,"","","","","","",null,null,null,null,null,null,null,null,null,null,null,"",0,0,{"$f":"IF(G685=Basisgeg.!$C$36,AB685-AB685/(1+Basisgeg.!$C$36),\"\")","v":""},{"$f":"IF(G685=Basisgeg.!$C$37,AB685-AB685/(1+Basisgeg.!$C$37),\"\")","v":""},0,0,"",null,null,"","","","","","",""]
[null,"",null,null,null,null,null,null,null,"","","","","","",null,null,null,null,null,null,null,null,null,null,null,"",0,0,{"$f":"IF(G686=Basisgeg.!$C$36,AB686-AB686/(1+Basisgeg.!$C$36),\"\")","v":""},{"$f":"IF(G686=Basisgeg.!$C$37,AB686-AB686/(1+Basisgeg.!$C$37),\"\")","v":""},0,0,"",null,null,"","","","","","",""]
[null,"",null,null,null,null,null,null,null,"","","","","","",null,null,null,null,null,null,null,null,null,null,null,"",0,0,{"$f":"IF(G687=Basisgeg.!$C$36,AB687-AB687/(1+Basisgeg.!$C$36),\"\")","v":""},{"$f":"IF(G687=Basisgeg.!$C$37,AB687-AB687/(1+Basisgeg.!$C$37),\"\")","v":""},0,0,"",null,null,"","","","","","",""]
[null,"",null,null,null,null,null,null,null,{"$f":"IF(B688=\"\",\"\",IF(AND(H688=\"\",I688=\"\"),\"\",IF(AND(E688<>\"\",F688<>\"\"),\"FOUT\",IF(AND(E688=\"\",H688<>\"\"),\"FOUT\",IF(AND(F688=\"\",I688<>\"\"),\"FOUT\",IF(G688=\"\",\"BTW ?\",\"OK\"))))))","v":""},"","","","","",null,null,null,null,null,null,null,null,null,null,null,"",0,0,{"$f":"IF(G688=Basisgeg.!$C$36,AB688-AB688/(1+Basisgeg.!$C$36),\"\")","v":""},{"$f":"IF(G688=Basisgeg.!$C$37,AB688-AB688/(1+Basisgeg.!$C$37),\"\")","v":""},0,0,"",null,null,{"$f":"IF($AA688=$AJ$5,AB688,\"\")","v":""},{"$f":"IF($AA688=$AJ$5,AC688,\"\")","v":""},{"$f":"IF($AA688=$AJ$5,AD688,\"\")","v":""},{"$f":"IF($AA688=$AJ$5,AE688,\"\")","v":""},{"$f":"IF($AA688=$AJ$5,AF688,\"\")","v":""},{"$f":"IF($AA688=$AJ$5,AG688,\"\")","v":""},{"$f":"IF($AA688=$AJ$5,AH688,\"\")","v":""}]
[null,"",null,null,null,null,null,null,null,"","","","","","",null,null,null,null,null,null,null,null,null,null,null,"",0,0,{"$f":"IF(G689=Basisgeg.!$C$36,AB689-AB689/(1+Basisgeg.!$C$36),\"\")","v":""},{"$f":"IF(G689=Basisgeg.!$C$37,AB689-AB689/(1+Basisgeg.!$C$37),\"\")","v":""},0,0,"",null,null,"","","","","","",""]
[null,"",null,null,null,null,null,null,null,"","","","","","",null,null,null,null,null,null,null,null,null,null,null,"",0,0,{"$f":"IF(G690=Basisgeg.!$C$36,AB690-AB690/(1+Basisgeg.!$C$36),\"\")","v":""},{"$f":"IF(G690=Basisgeg.!$C$37,AB690-AB690/(1+Basisgeg.!$C$37),\"\")","v":""},0,0,"",null,null,"","","","","","",""]
[null,"",null,null,null,null,null,null,null,"","","","","","",null,null,null,null,null,null,null,null,null,null,null,"",0,0,{"$f":"IF(G691=Basisgeg.!$C$36,AB691-AB691/(1+Basisgeg.!$C$36),\"\")","v":""},{"$f":"IF(G691=Basisgeg.!$C$37,AB691-AB691/(1+Basisgeg.!$C$37),\"\")","v":""},0,0,"",null,null,"","","","","","",""]
[null,"",null,null,null,null,null,null,null,"","","","","","",null,null,null,null,null,null,null,null,null,null,null,"",0,0,{"$f":"IF(G692=Basisgeg.!$C$36,AB692-AB692/(1+Basisgeg.!$C$36),\"\")","v":""},{"$f":"IF(G692=Basisgeg.!$C$37,AB692-AB692/(1+Basisgeg.!$C$37),\"\")","v":""},0,0,"",null,null,"","","","","","",""]
[null,"",null,null,null,null,null,null,null,"","","","","","",null,null,null,null,null,null,null,null,null,null,null,"",0,0,{"$f":"IF(G693=Basisgeg.!$C$36,AB693-AB693/(1+Basisgeg.!$C$36),\"\")","v":""},{"$f":"IF(G693=Basisgeg.!$C$37,AB693-AB693/(1+Basisgeg.!$C$37),\"\")","v":""},0,0,"",null,null,"","","","","","",""]
[null,"",null,null,null,null,null,null,null,"","","","","","",null,null,null,null,null,null,null,null,null,null,null,"",0,0,{"$f":"IF(G694=Basisgeg.!$C$36,AB694-AB694/(1+Basisgeg.!$C$36),\"\")","v":""},{"$f":"IF(G694=Basisgeg.!$C$37,AB694-AB694/(1+Basisgeg.!$C$37),\"\")","v":""},0,0,"",null,null,"","","","","","",""]
[null,"",null,null,null,null,null,null,null,"","","","","","",null,null,null,null,null,null,null,null,null,null,null,"",0,0,{"$f":"IF(G695=Basisgeg.!$C$36,AB695-AB695/(1+Basisgeg.!$C$36),\"\")","v":""},{"$f":"IF(G695=Basisgeg.!$C$37,AB695-AB695/(1+Basisgeg.!$C$37),\"\")","v":""},0,0,"",null,null,"","","","","","",""]
[null,"",null,null,null,null,null,null,null,"","","","","","",null,null,null,null,null,null,null,null,null,null,null,"",0,0,{"$f":"IF(G696=Basisgeg.!$C$36,AB696-AB696/(1+Basisgeg.!$C$36),\"\")","v":""},{"$f":"IF(G696=Basisgeg.!$C$37,AB696-AB696/(1+Basisgeg.!$C$37),\"\")","v":""},0,0,"",null,null,"","","","","","",""]
[null,"",null,null,null,null,null,null,null,"","","","","","",null,null,null,null,null,null,null,null,null,null,null,"",0,0,{"$f":"IF(G697=Basisgeg.!$C$36,AB697-AB697/(1+Basisgeg.!$C$36),\"\")","v":""},{"$f":"IF(G697=Basisgeg.!$C$37,AB697-AB697/(1+Basisgeg.!$C$37),\"\")","v":""},0,0,"",null,null,"","","","","","",""]
[null,"",null,null,null,null,null,null,null,"","","","","","",null,null,null,null,null,null,null,null,null,null,null,"",0,0,{"$f":"IF(G698=Basisgeg.!$C$36,AB698-AB698/(1+Basisgeg.!$C$36),\"\")","v":""},{"$f":"IF(G698=Basisgeg.!$C$37,AB698-AB698/(1+Basisgeg.!$C$37),\"\")","v":""},0,0,"",null,null,"","","","","","",""]
[null,"",null,null,null,null,null,null,null,"","","","","","",null,null,null,null,null,null,null,null,null,null,null,"",0,0,{"$f":"IF(G699=Basisgeg.!$C$36,AB699-AB699/(1+Basisgeg.!$C$36),\"\")","v":""},{"$f":"IF(G699=Basisgeg.!$C$37,AB699-AB699/(1+Basisgeg.!$C$37),\"\")","v":""},0,0,"",null,null,"","","","","","",""]
[null,"",null,null,null,null,null,null,null,"","","","","","",null,null,null,null,null,null,null,null,null,null,null,"",0,0,{"$f":"IF(G700=Basisgeg.!$C$36,AB700-AB700/(1+Basisgeg.!$C$36),\"\")","v":""},{"$f":"IF(G700=Basisgeg.!$C$37,AB700-AB700/(1+Basisgeg.!$C$37),\"\")","v":""},0,0,"",null,null,"","","","","","",""]
[null,"",null,null,null,null,null,null,null,"","","","","","",null,null,null,null,null,null,null,null,null,null,null,"",0,0,{"$f":"IF(G701=Basisgeg.!$C$36,AB701-AB701/(1+Basisgeg.!$C$36),\"\")","v":""},{"$f":"IF(G701=Basisgeg.!$C$37,AB701-AB701/(1+Basisgeg.!$C$37),\"\")","v":""},0,0,"",null,null,"","","","","","",""]
[null,"",null,null,null,null,null,null,null,"","","","","","",null,null,null,null,null,null,null,null,null,null,null,"",0,0,{"$f":"IF(G702=Basisgeg.!$C$36,AB702-AB702/(1+Basisgeg.!$C$36),\"\")","v":""},{"$f":"IF(G702=Basisgeg.!$C$37,AB702-AB702/(1+Basisgeg.!$C$37),\"\")","v":""},0,0,"",null,null,"","","","","","",""]
[null,"",null,null,null,null,null,null,null,"","","","","","",null,null,null,null,null,null,null,null,null,null,null,"",0,0,{"$f":"IF(G703=Basisgeg.!$C$36,AB703-AB703/(1+Basisgeg.!$C$36),\"\")","v":""},{"$f":"IF(G703=Basisgeg.!$C$37,AB703-AB703/(1+Basisgeg.!$C$37),\"\")","v":""},0,0,"",null,null,"","","","","","",""]
[null,"",null,null,null,null,null,null,null,"","","","","","",null,null,null,null,null,null,null,null,null,null,null,"",0,0,{"$f":"IF(G704=Basisgeg.!$C$36,AB704-AB704/(1+Basisgeg.!$C$36),\"\")","v":""},{"$f":"IF(G704=Basisgeg.!$C$37,AB704-AB704/(1+Basisgeg.!$C$37),\"\")","v":""},0,0,"",null,null,"","","","","","",""]
[null,"",null,null,null,null,null,null,null,"","","","","","",null,null,null,null,null,null,null,null,null,null,null,"",0,0,{"$f":"IF(G705=Basisgeg.!$C$36,AB705-AB705/(1+Basisgeg.!$C$36),\"\")","v":""},{"$f":"IF(G705=Basisgeg.!$C$37,AB705-AB705/(1+Basisgeg.!$C$37),\"\")","v":""},0,0,"",null,null,"","","","","","",""]
[null,"",null,null,null,null,null,null,null,"","","","","","",null,null,null,null,null,null,null,null,null,null,null,"",0,0,{"$f":"IF(G706=Basisgeg.!$C$36,AB706-AB706/(1+Basisgeg.!$C$36),\"\")","v":""},{"$f":"IF(G706=Basisgeg.!$C$37,AB706-AB706/(1+Basisgeg.!$C$37),\"\")","v":""},0,0,"",null,null,"","","","","","",""]
[null,"",null,null,null,null,null,null,null,"","","","","","",null,null,null,null,null,null,null,null,null,null,null,"",0,0,{"$f":"IF(G707=Basisgeg.!$C$36,AB707-AB707/(1+Basisgeg.!$C$36),\"\")","v":""},{"$f":"IF(G707=Basisgeg.!$C$37,AB707-AB707/(1+Basisgeg.!$C$37),\"\")","v":""},0,0,"",null,null,"","","","","","",""]
[null,"",null,null,null,null,null,null,null,"","","","","","",null,null,null,null,null,null,null,null,null,null,null,"",0,0,{"$f":"IF(G708=Basisgeg.!$C$36,AB708-AB708/(1+Basisgeg.!$C$36),\"\")","v":""},{"$f":"IF(G708=Basisgeg.!$C$37,AB708-AB708/(1+Basisgeg.!$C$37),\"\")","v":""},0,0,"",null,null,"","","","","","",""]
[null,"",null,null,null,null,null,null,null,"","","","","","",null,null,null,null,null,null,null,null,null,null,null,{"$f":"IF(C709<>\"\",MONTH(C709),\"\")","v":""},{"$f":"+H709","v":0},{"$f":"E709","v":0},{"$f":"IF(G709=Basisgeg.!$C$36,AB709-AB709/(1+Basisgeg.!$C$36),\"\")","v":""},{"$f":"IF(G709=Basisgeg.!$C$37,AB709-AB709/(1+Basisgeg.!$C$37),\"\")","v":""},{"$f":"I709","v":0},{"$f":"F709","v":0},{"$f":"L709","v":""},null,null,"","","","","","",""]
[null,{"$f":"IF(C710=\"\",\"\",IF(B709=\"Nr.\",1,B709+1))","v":""},null,null,null,null,null,null,null,"",{"$f":"IF(H710=\"\",\"\",(H710/((1+$G710)*100))*($G710*100))","v":""},{"$f":"IF(I710=\"\",\"\",(I710/((1+$G710)*100))*($G710*100))","v":""},{"$f":"IF(H710=\"\",\"\",+H710-K710)","v":""},{"$f":"IF(I710=\"\",\"\",+I710-L710)","v":""},{"$f":"IF(C710=\"\",\"\",MONTH(C710))","v":""},null,null,null,null,null,null,null,null,null,null,null,"",0,0,{"$f":"IF(G710=Basisgeg.!$C$36,AB710-AB710/(1+Basisgeg.!$C$36),\"\")","v":""},{"$f":"IF(G710=Basisgeg.!$C$37,AB710-AB710/(1+Basisgeg.!$C$37),\"\")","v":""},0,0,"",null,null,"","","","","","",""]
[null,"",null,null,null,null,null,null,null,"","","","","","",null,null,null,null,null,null,null,null,null,null,null,"",0,0,{"$f":"IF(G711=Basisgeg.!$C$36,AB711-AB711/(1+Basisgeg.!$C$36),\"\")","v":""},{"$f":"IF(G711=Basisgeg.!$C$37,AB711-AB711/(1+Basisgeg.!$C$37),\"\")","v":""},0,0,"",null,null,"","","","","","",""]
[null,"",null,null,null,null,null,null,null,"","","","","","",null,null,null,null,null,null,null,null,null,null,null,"",0,0,{"$f":"IF(G712=Basisgeg.!$C$36,AB712-AB712/(1+Basisgeg.!$C$36),\"\")","v":""},{"$f":"IF(G712=Basisgeg.!$C$37,AB712-AB712/(1+Basisgeg.!$C$37),\"\")","v":""},0,0,"",null,null,"","","","","","",""]
[null,"",null,null,null,null,null,null,null,"","","","","","",null,null,null,null,null,null,null,null,null,null,null,"",0,0,{"$f":"IF(G713=Basisgeg.!$C$36,AB713-AB713/(1+Basisgeg.!$C$36),\"\")","v":""},{"$f":"IF(G713=Basisgeg.!$C$37,AB713-AB713/(1+Basisgeg.!$C$37),\"\")","v":""},0,0,"",null,null,"","","","","","",""]
[null,"",null,null,null,null,null,null,null,"","","","","","",null,null,null,null,null,null,null,null,null,null,null,"",0,0,{"$f":"IF(G714=Basisgeg.!$C$36,AB714-AB714/(1+Basisgeg.!$C$36),\"\")","v":""},{"$f":"IF(G714=Basisgeg.!$C$37,AB714-AB714/(1+Basisgeg.!$C$37),\"\")","v":""},0,0,"",null,null,"","","","","","",""]
[null,"",null,null,null,null,null,null,null,"","","","","","",null,null,null,null,null,null,null,null,null,null,null,"",0,0,{"$f":"IF(G715=Basisgeg.!$C$36,AB715-AB715/(1+Basisgeg.!$C$36),\"\")","v":""},{"$f":"IF(G715=Basisgeg.!$C$37,AB715-AB715/(1+Basisgeg.!$C$37),\"\")","v":""},0,0,"",null,null,"","","","","","",""]
[null,"",null,null,null,null,null,null,null,"","","","","","",null,null,null,null,null,null,null,null,null,null,null,"",0,0,{"$f":"IF(G716=Basisgeg.!$C$36,AB716-AB716/(1+Basisgeg.!$C$36),\"\")","v":""},{"$f":"IF(G716=Basisgeg.!$C$37,AB716-AB716/(1+Basisgeg.!$C$37),\"\")","v":""},0,0,"",null,null,"","","","","","",""]
[null,"",null,null,null,null,null,null,null,"","","","","","",null,null,null,null,null,null,null,null,null,null,null,"",0,0,{"$f":"IF(G717=Basisgeg.!$C$36,AB717-AB717/(1+Basisgeg.!$C$36),\"\")","v":""},{"$f":"IF(G717=Basisgeg.!$C$37,AB717-AB717/(1+Basisgeg.!$C$37),\"\")","v":""},0,0,"",null,null,"","","","","","",""]
[null,"",null,null,null,null,null,null,null,"","","","","","",null,null,null,null,null,null,null,null,null,null,null,"",0,0,{"$f":"IF(G718=Basisgeg.!$C$36,AB718-AB718/(1+Basisgeg.!$C$36),\"\")","v":""},{"$f":"IF(G718=Basisgeg.!$C$37,AB718-AB718/(1+Basisgeg.!$C$37),\"\")","v":""},0,0,"",null,null,"","","","","","",""]
[null,"",null,null,null,null,null,null,null,"","","","","","",null,null,null,null,null,null,null,null,null,null,null,"",0,0,{"$f":"IF(G719=Basisgeg.!$C$36,AB719-AB719/(1+Basisgeg.!$C$36),\"\")","v":""},{"$f":"IF(G719=Basisgeg.!$C$37,AB719-AB719/(1+Basisgeg.!$C$37),\"\")","v":""},0,0,"",null,null,"","","","","","",""]
[null,"",null,null,null,null,null,null,null,"","","","","","",null,null,null,null,null,null,null,null,null,null,null,"",0,0,{"$f":"IF(G720=Basisgeg.!$C$36,AB720-AB720/(1+Basisgeg.!$C$36),\"\")","v":""},{"$f":"IF(G720=Basisgeg.!$C$37,AB720-AB720/(1+Basisgeg.!$C$37),\"\")","v":""},0,0,"",null,null,"","","","","","",""]
[null,"",null,null,null,null,null,null,null,"","","","","","",null,null,null,null,null,null,null,null,null,null,null,"",0,0,{"$f":"IF(G721=Basisgeg.!$C$36,AB721-AB721/(1+Basisgeg.!$C$36),\"\")","v":""},{"$f":"IF(G721=Basisgeg.!$C$37,AB721-AB721/(1+Basisgeg.!$C$37),\"\")","v":""},0,0,"",null,null,"","","","","","",""]
[null,"",null,null,null,null,null,null,null,"","","","","","",null,null,null,null,null,null,null,null,null,null,null,"",0,0,{"$f":"IF(G722=Basisgeg.!$C$36,AB722-AB722/(1+Basisgeg.!$C$36),\"\")","v":""},{"$f":"IF(G722=Basisgeg.!$C$37,AB722-AB722/(1+Basisgeg.!$C$37),\"\")","v":""},0,0,"",null,null,"","","","","","",""]
[null,"",null,null,null,null,null,null,null,"","","","","","",null,null,null,null,null,null,null,null,null,null,null,"",0,0,{"$f":"IF(G723=Basisgeg.!$C$36,AB723-AB723/(1+Basisgeg.!$C$36),\"\")","v":""},{"$f":"IF(G723=Basisgeg.!$C$37,AB723-AB723/(1+Basisgeg.!$C$37),\"\")","v":""},0,0,"",null,null,"","","","","","",""]
[null,"",null,null,null,null,null,null,null,"","","","","","",null,null,null,null,null,null,null,null,null,null,null,"",0,0,{"$f":"IF(G724=Basisgeg.!$C$36,AB724-AB724/(1+Basisgeg.!$C$36),\"\")","v":""},{"$f":"IF(G724=Basisgeg.!$C$37,AB724-AB724/(1+Basisgeg.!$C$37),\"\")","v":""},0,0,"",null,null,"","","","","","",""]
[null,"",null,null,null,null,null,null,null,"","","","","","",null,null,null,null,null,null,null,null,null,null,null,"",0,0,{"$f":"IF(G725=Basisgeg.!$C$36,AB725-AB725/(1+Basisgeg.!$C$36),\"\")","v":""},{"$f":"IF(G725=Basisgeg.!$C$37,AB725-AB725/(1+Basisgeg.!$C$37),\"\")","v":""},0,0,"",null,null,"","","","","","",""]
[null,"",null,null,null,null,null,null,null,"","","","","","",null,null,null,null,null,null,null,null,null,null,null,"",0,0,{"$f":"IF(G726=Basisgeg.!$C$36,AB726-AB726/(1+Basisgeg.!$C$36),\"\")","v":""},{"$f":"IF(G726=Basisgeg.!$C$37,AB726-AB726/(1+Basisgeg.!$C$37),\"\")","v":""},0,0,"",null,null,"","","","","","",""]
[null,"",null,null,null,null,null,null,null,"","","","","","",null,null,null,null,null,null,null,null,null,null,null,"",0,0,{"$f":"IF(G727=Basisgeg.!$C$36,AB727-AB727/(1+Basisgeg.!$C$36),\"\")","v":""},{"$f":"IF(G727=Basisgeg.!$C$37,AB727-AB727/(1+Basisgeg.!$C$37),\"\")","v":""},0,0,"",null,null,"","","","","","",""]
[null,"",null,null,null,null,null,null,null,"","","","","","",null,null,null,null,null,null,null,null,null,null,null,"",0,0,{"$f":"IF(G728=Basisgeg.!$C$36,AB728-AB728/(1+Basisgeg.!$C$36),\"\")","v":""},{"$f":"IF(G728=Basisgeg.!$C$37,AB728-AB728/(1+Basisgeg.!$C$37),\"\")","v":""},0,0,"",null,null,"","","","","","",""]
[null,"",null,null,null,null,null,null,null,"","","","","","",null,null,null,null,null,null,null,null,null,null,null,"",0,0,{"$f":"IF(G729=Basisgeg.!$C$36,AB729-AB729/(1+Basisgeg.!$C$36),\"\")","v":""},{"$f":"IF(G729=Basisgeg.!$C$37,AB729-AB729/(1+Basisgeg.!$C$37),\"\")","v":""},0,0,"",null,null,"","","","","","",""]
[null,"",null,null,null,null,null,null,null,"","","","","","",null,null,null,null,null,null,null,null,null,null,null,"",0,0,{"$f":"IF(G730=Basisgeg.!$C$36,AB730-AB730/(1+Basisgeg.!$C$36),\"\")","v":""},{"$f":"IF(G730=Basisgeg.!$C$37,AB730-AB730/(1+Basisgeg.!$C$37),\"\")","v":""},0,0,"",null,null,"","","","","","",""]
[null,"",null,null,null,null,null,null,null,"","","","","","",null,null,null,null,null,null,null,null,null,null,null,"",0,0,{"$f":"IF(G731=Basisgeg.!$C$36,AB731-AB731/(1+Basisgeg.!$C$36),\"\")","v":""},{"$f":"IF(G731=Basisgeg.!$C$37,AB731-AB731/(1+Basisgeg.!$C$37),\"\")","v":""},0,0,"",null,null,"","","","","","",""]
[null,"",null,null,null,null,null,null,null,"","","","","","",null,null,null,null,null,null,null,null,null,null,null,"",0,0,{"$f":"IF(G732=Basisgeg.!$C$36,AB732-AB732/(1+Basisgeg.!$C$36),\"\")","v":""},{"$f":"IF(G732=Basisgeg.!$C$37,AB732-AB732/(1+Basisgeg.!$C$37),\"\")","v":""},0,0,"",null,null,"","","","","","",""]
[null,"",null,null,null,null,null,null,null,"","","","","","",null,null,null,null,null,null,null,null,null,null,null,"",0,0,{"$f":"IF(G733=Basisgeg.!$C$36,AB733-AB733/(1+Basisgeg.!$C$36),\"\")","v":""},{"$f":"IF(G733=Basisgeg.!$C$37,AB733-AB733/(1+Basisgeg.!$C$37),\"\")","v":""},0,0,"",null,null,"","","","","","",""]
[null,"",null,null,null,null,null,null,null,"","","","","","",null,null,null,null,null,null,null,null,null,null,null,"",0,0,{"$f":"IF(G734=Basisgeg.!$C$36,AB734-AB734/(1+Basisgeg.!$C$36),\"\")","v":""},{"$f":"IF(G734=Basisgeg.!$C$37,AB734-AB734/(1+Basisgeg.!$C$37),\"\")","v":""},0,0,"",null,null,"","","","","","",""]
[null,"",null,null,null,null,null,null,null,"","","","","","",null,null,null,null,null,null,null,null,null,null,null,"",0,0,{"$f":"IF(G735=Basisgeg.!$C$36,AB735-AB735/(1+Basisgeg.!$C$36),\"\")","v":""},{"$f":"IF(G735=Basisgeg.!$C$37,AB735-AB735/(1+Basisgeg.!$C$37),\"\")","v":""},0,0,"",null,null,"","","","","","",""]
[null,"",null,null,null,null,null,null,null,"","","","","","",null,null,null,null,null,null,null,null,null,null,null,"",0,0,{"$f":"IF(G736=Basisgeg.!$C$36,AB736-AB736/(1+Basisgeg.!$C$36),\"\")","v":""},{"$f":"IF(G736=Basisgeg.!$C$37,AB736-AB736/(1+Basisgeg.!$C$37),\"\")","v":""},0,0,"",null,null,"","","","","","",""]
[null,"",null,null,null,null,null,null,null,"","","","","","",null,null,null,null,null,null,null,null,null,null,null,"",0,0,{"$f":"IF(G737=Basisgeg.!$C$36,AB737-AB737/(1+Basisgeg.!$C$36),\"\")","v":""},{"$f":"IF(G737=Basisgeg.!$C$37,AB737-AB737/(1+Basisgeg.!$C$37),\"\")","v":""},0,0,"",null,null,"","","","","","",""]
[null,"",null,null,null,null,null,null,null,"","","","","","",null,null,null,null,null,null,null,null,null,null,null,"",0,0,{"$f":"IF(G738=Basisgeg.!$C$36,AB738-AB738/(1+Basisgeg.!$C$36),\"\")","v":""},{"$f":"IF(G738=Basisgeg.!$C$37,AB738-AB738/(1+Basisgeg.!$C$37),\"\")","v":""},0,0,"",null,null,"","","","","","",""]
[null,"",null,null,null,null,null,null,null,"","","","","","",null,null,null,null,null,null,null,null,null,null,null,"",0,0,{"$f":"IF(G739=Basisgeg.!$C$36,AB739-AB739/(1+Basisgeg.!$C$36),\"\")","v":""},{"$f":"IF(G739=Basisgeg.!$C$37,AB739-AB739/(1+Basisgeg.!$C$37),\"\")","v":""},0,0,"",null,null,"","","","","","",""]
[null,"",null,null,null,null,null,null,null,"","","","","","",null,null,null,null,null,null,null,null,null,null,null,"",0,0,{"$f":"IF(G740=Basisgeg.!$C$36,AB740-AB740/(1+Basisgeg.!$C$36),\"\")","v":""},{"$f":"IF(G740=Basisgeg.!$C$37,AB740-AB740/(1+Basisgeg.!$C$37),\"\")","v":""},0,0,"",null,null,"","","","","","",""]
[null,"",null,null,null,null,null,null,null,"","","","","","",null,null,null,null,null,null,null,null,null,null,null,"",0,0,{"$f":"IF(G741=Basisgeg.!$C$36,AB741-AB741/(1+Basisgeg.!$C$36),\"\")","v":""},{"$f":"IF(G741=Basisgeg.!$C$37,AB741-AB741/(1+Basisgeg.!$C$37),\"\")","v":""},0,0,"",null,null,"","","","","","",""]
[null,"",null,null,null,null,null,null,null,"","","","","","",null,null,null,null,null,null,null,null,null,null,null,"",0,0,{"$f":"IF(G742=Basisgeg.!$C$36,AB742-AB742/(1+Basisgeg.!$C$36),\"\")","v":""},{"$f":"IF(G742=Basisgeg.!$C$37,AB742-AB742/(1+Basisgeg.!$C$37),\"\")","v":""},0,0,"",null,null,"","","","","","",""]
[null,"",null,null,null,null,null,null,null,"","","","","","",null,null,null,null,null,null,null,null,null,null,null,"",0,0,{"$f":"IF(G743=Basisgeg.!$C$36,AB743-AB743/(1+Basisgeg.!$C$36),\"\")","v":""},{"$f":"IF(G743=Basisgeg.!$C$37,AB743-AB743/(1+Basisgeg.!$C$37),\"\")","v":""},0,0,"",null,null,"","","","","","",""]
[null,"",null,null,null,null,null,null,null,"","","","","","",null,null,null,null,null,null,null,null,null,null,null,"",0,0,{"$f":"IF(G744=Basisgeg.!$C$36,AB744-AB744/(1+Basisgeg.!$C$36),\"\")","v":""},{"$f":"IF(G744=Basisgeg.!$C$37,AB744-AB744/(1+Basisgeg.!$C$37),\"\")","v":""},0,0,"",null,null,"","","","","","",""]
[null,"",null,null,null,null,null,null,null,"","","","","","",null,null,null,null,null,null,null,null,null,null,null,"",0,0,{"$f":"IF(G745=Basisgeg.!$C$36,AB745-AB745/(1+Basisgeg.!$C$36),\"\")","v":""},{"$f":"IF(G745=Basisgeg.!$C$37,AB745-AB745/(1+Basisgeg.!$C$37),\"\")","v":""},0,0,"",null,null,"","","","","","",""]
[null,"",null,null,null,null,null,null,null,"","","","","","",null,null,null,null,null,null,null,null,null,null,null,"",0,0,{"$f":"IF(G746=Basisgeg.!$C$36,AB746-AB746/(1+Basisgeg.!$C$36),\"\")","v":""},{"$f":"IF(G746=Basisgeg.!$C$37,AB746-AB746/(1+Basisgeg.!$C$37),\"\")","v":""},0,0,"",null,null,"","","","","","",""]
[null,"",null,null,null,null,null,null,null,"","","","","","",null,null,null,null,null,null,null,null,null,null,null,"",0,0,{"$f":"IF(G747=Basisgeg.!$C$36,AB747-AB747/(1+Basisgeg.!$C$36),\"\")","v":""},{"$f":"IF(G747=Basisgeg.!$C$37,AB747-AB747/(1+Basisgeg.!$C$37),\"\")","v":""},0,0,"",null,null,"","","","","","",""]
[null,"",null,null,null,null,null,null,null,"","","","","","",null,null,null,null,null,null,null,null,null,null,null,"",0,0,{"$f":"IF(G748=Basisgeg.!$C$36,AB748-AB748/(1+Basisgeg.!$C$36),\"\")","v":""},{"$f":"IF(G748=Basisgeg.!$C$37,AB748-AB748/(1+Basisgeg.!$C$37),\"\")","v":""},0,0,"",null,null,"","","","","","",""]
[null,"",null,null,null,null,null,null,null,"","","","","","",null,null,null,null,null,null,null,null,null,null,null,"",0,0,{"$f":"IF(G749=Basisgeg.!$C$36,AB749-AB749/(1+Basisgeg.!$C$36),\"\")","v":""},{"$f":"IF(G749=Basisgeg.!$C$37,AB749-AB749/(1+Basisgeg.!$C$37),\"\")","v":""},0,0,"",null,null,"","","","","","",""]
[null,"",null,null,null,null,null,null,null,"","","","","","",null,null,null,null,null,null,null,null,null,null,null,"",0,0,{"$f":"IF(G750=Basisgeg.!$C$36,AB750-AB750/(1+Basisgeg.!$C$36),\"\")","v":""},{"$f":"IF(G750=Basisgeg.!$C$37,AB750-AB750/(1+Basisgeg.!$C$37),\"\")","v":""},0,0,"",null,null,"","","","","","",""]
[null,"",null,null,null,null,null,null,null,"","","","","","",null,null,null,null,null,null,null,null,null,null,null,"",0,0,{"$f":"IF(G751=Basisgeg.!$C$36,AB751-AB751/(1+Basisgeg.!$C$36),\"\")","v":""},{"$f":"IF(G751=Basisgeg.!$C$37,AB751-AB751/(1+Basisgeg.!$C$37),\"\")","v":""},0,0,"",null,null,"","","","","","",""]
[null,"",null,null,null,null,null,null,null,{"$f":"IF(B752=\"\",\"\",IF(AND(H752=\"\",I752=\"\"),\"\",IF(AND(E752<>\"\",F752<>\"\"),\"FOUT\",IF(AND(E752=\"\",H752<>\"\"),\"FOUT\",IF(AND(F752=\"\",I752<>\"\"),\"FOUT\",IF(G752=\"\",\"BTW ?\",\"OK\"))))))","v":""},"","","","","",null,null,null,null,null,null,null,null,null,null,null,"",0,0,{"$f":"IF(G752=Basisgeg.!$C$36,AB752-AB752/(1+Basisgeg.!$C$36),\"\")","v":""},{"$f":"IF(G752=Basisgeg.!$C$37,AB752-AB752/(1+Basisgeg.!$C$37),\"\")","v":""},0,0,"",null,null,{"$f":"IF($AA752=$AJ$5,AB752,\"\")","v":""},{"$f":"IF($AA752=$AJ$5,AC752,\"\")","v":""},{"$f":"IF($AA752=$AJ$5,AD752,\"\")","v":""},{"$f":"IF($AA752=$AJ$5,AE752,\"\")","v":""},{"$f":"IF($AA752=$AJ$5,AF752,\"\")","v":""},{"$f":"IF($AA752=$AJ$5,AG752,\"\")","v":""},{"$f":"IF($AA752=$AJ$5,AH752,\"\")","v":""}]
[null,"",null,null,null,null,null,null,null,"","","","","","",null,null,null,null,null,null,null,null,null,null,null,"",0,0,{"$f":"IF(G753=Basisgeg.!$C$36,AB753-AB753/(1+Basisgeg.!$C$36),\"\")","v":""},{"$f":"IF(G753=Basisgeg.!$C$37,AB753-AB753/(1+Basisgeg.!$C$37),\"\")","v":""},0,0,"",null,null,"","","","","","",""]
[null,"",null,null,null,null,null,null,null,"","","","","","",null,null,null,null,null,null,null,null,null,null,null,"",0,0,{"$f":"IF(G754=Basisgeg.!$C$36,AB754-AB754/(1+Basisgeg.!$C$36),\"\")","v":""},{"$f":"IF(G754=Basisgeg.!$C$37,AB754-AB754/(1+Basisgeg.!$C$37),\"\")","v":""},0,0,"",null,null,"","","","","","",""]
[null,"",null,null,null,null,null,null,null,"","","","","","",null,null,null,null,null,null,null,null,null,null,null,"",0,0,{"$f":"IF(G755=Basisgeg.!$C$36,AB755-AB755/(1+Basisgeg.!$C$36),\"\")","v":""},{"$f":"IF(G755=Basisgeg.!$C$37,AB755-AB755/(1+Basisgeg.!$C$37),\"\")","v":""},0,0,"",null,null,"","","","","","",""]
[null,"",null,null,null,null,null,null,null,"","","","","","",null,null,null,null,null,null,null,null,null,null,null,"",0,0,{"$f":"IF(G756=Basisgeg.!$C$36,AB756-AB756/(1+Basisgeg.!$C$36),\"\")","v":""},{"$f":"IF(G756=Basisgeg.!$C$37,AB756-AB756/(1+Basisgeg.!$C$37),\"\")","v":""},0,0,"",null,null,"","","","","","",""]
[null,"",null,null,null,null,null,null,null,"","","","","","",null,null,null,null,null,null,null,null,null,null,null,"",0,0,{"$f":"IF(G757=Basisgeg.!$C$36,AB757-AB757/(1+Basisgeg.!$C$36),\"\")","v":""},{"$f":"IF(G757=Basisgeg.!$C$37,AB757-AB757/(1+Basisgeg.!$C$37),\"\")","v":""},0,0,"",null,null,"","","","","","",""]
[null,"",null,null,null,null,null,null,null,"","","","","","",null,null,null,null,null,null,null,null,null,null,null,"",0,0,{"$f":"IF(G758=Basisgeg.!$C$36,AB758-AB758/(1+Basisgeg.!$C$36),\"\")","v":""},{"$f":"IF(G758=Basisgeg.!$C$37,AB758-AB758/(1+Basisgeg.!$C$37),\"\")","v":""},0,0,"",null,null,"","","","","","",""]
[null,"",null,null,null,null,null,null,null,"","","","","","",null,null,null,null,null,null,null,null,null,null,null,"",0,0,{"$f":"IF(G759=Basisgeg.!$C$36,AB759-AB759/(1+Basisgeg.!$C$36),\"\")","v":""},{"$f":"IF(G759=Basisgeg.!$C$37,AB759-AB759/(1+Basisgeg.!$C$37),\"\")","v":""},0,0,"",null,null,"","","","","","",""]
[null,"",null,null,null,null,null,null,null,"","","","","","",null,null,null,null,null,null,null,null,null,null,null,"",0,0,{"$f":"IF(G760=Basisgeg.!$C$36,AB760-AB760/(1+Basisgeg.!$C$36),\"\")","v":""},{"$f":"IF(G760=Basisgeg.!$C$37,AB760-AB760/(1+Basisgeg.!$C$37),\"\")","v":""},0,0,"",null,null,"","","","","","",""]
[null,"",null,null,null,null,null,null,null,"","","","","","",null,null,null,null,null,null,null,null,null,null,null,"",0,0,{"$f":"IF(G761=Basisgeg.!$C$36,AB761-AB761/(1+Basisgeg.!$C$36),\"\")","v":""},{"$f":"IF(G761=Basisgeg.!$C$37,AB761-AB761/(1+Basisgeg.!$C$37),\"\")","v":""},0,0,"",null,null,"","","","","","",""]
[null,"",null,null,null,null,null,null,null,"","","","","","",null,null,null,null,null,null,null,null,null,null,null,"",0,0,{"$f":"IF(G762=Basisgeg.!$C$36,AB762-AB762/(1+Basisgeg.!$C$36),\"\")","v":""},{"$f":"IF(G762=Basisgeg.!$C$37,AB762-AB762/(1+Basisgeg.!$C$37),\"\")","v":""},0,0,"",null,null,"","","","","","",""]
[null,"",null,null,null,null,null,null,null,"","","","","","",null,null,null,null,null,null,null,null,null,null,null,"",0,0,{"$f":"IF(G763=Basisgeg.!$C$36,AB763-AB763/(1+Basisgeg.!$C$36),\"\")","v":""},{"$f":"IF(G763=Basisgeg.!$C$37,AB763-AB763/(1+Basisgeg.!$C$37),\"\")","v":""},0,0,"",null,null,"","","","","","",""]
[null,"",null,null,null,null,null,null,null,"","","","","","",null,null,null,null,null,null,null,null,null,null,null,"",0,0,{"$f":"IF(G764=Basisgeg.!$C$36,AB764-AB764/(1+Basisgeg.!$C$36),\"\")","v":""},{"$f":"IF(G764=Basisgeg.!$C$37,AB764-AB764/(1+Basisgeg.!$C$37),\"\")","v":""},0,0,"",null,null,"","","","","","",""]
[null,"",null,null,null,null,null,null,null,"","","","","","",null,null,null,null,null,null,null,null,null,null,null,"",0,0,{"$f":"IF(G765=Basisgeg.!$C$36,AB765-AB765/(1+Basisgeg.!$C$36),\"\")","v":""},{"$f":"IF(G765=Basisgeg.!$C$37,AB765-AB765/(1+Basisgeg.!$C$37),\"\")","v":""},0,0,"",null,null,"","","","","","",""]
[null,"",null,null,null,null,null,null,null,"","","","","","",null,null,null,null,null,null,null,null,null,null,null,"",0,0,{"$f":"IF(G766=Basisgeg.!$C$36,AB766-AB766/(1+Basisgeg.!$C$36),\"\")","v":""},{"$f":"IF(G766=Basisgeg.!$C$37,AB766-AB766/(1+Basisgeg.!$C$37),\"\")","v":""},0,0,"",null,null,"","","","","","",""]
[null,"",null,null,null,null,null,null,null,"","","","","","",null,null,null,null,null,null,null,null,null,null,null,"",0,0,{"$f":"IF(G767=Basisgeg.!$C$36,AB767-AB767/(1+Basisgeg.!$C$36),\"\")","v":""},{"$f":"IF(G767=Basisgeg.!$C$37,AB767-AB767/(1+Basisgeg.!$C$37),\"\")","v":""},0,0,"",null,null,"","","","","","",""]
[null,"",null,null,null,null,null,null,null,"","","","","","",null,null,null,null,null,null,null,null,null,null,null,"",0,0,{"$f":"IF(G768=Basisgeg.!$C$36,AB768-AB768/(1+Basisgeg.!$C$36),\"\")","v":""},{"$f":"IF(G768=Basisgeg.!$C$37,AB768-AB768/(1+Basisgeg.!$C$37),\"\")","v":""},0,0,"",null,null,"","","","","","",""]
[null,"",null,null,null,null,null,null,null,"","","","","","",null,null,null,null,null,null,null,null,null,null,null,"",0,0,{"$f":"IF(G769=Basisgeg.!$C$36,AB769-AB769/(1+Basisgeg.!$C$36),\"\")","v":""},{"$f":"IF(G769=Basisgeg.!$C$37,AB769-AB769/(1+Basisgeg.!$C$37),\"\")","v":""},0,0,"",null,null,"","","","","","",""]
[null,"",null,null,null,null,null,null,null,"","","","","","",null,null,null,null,null,null,null,null,null,null,null,"",0,0,{"$f":"IF(G770=Basisgeg.!$C$36,AB770-AB770/(1+Basisgeg.!$C$36),\"\")","v":""},{"$f":"IF(G770=Basisgeg.!$C$37,AB770-AB770/(1+Basisgeg.!$C$37),\"\")","v":""},0,0,"",null,null,"","","","","","",""]
[null,"",null,null,null,null,null,null,null,"","","","","","",null,null,null,null,null,null,null,null,null,null,null,"",0,0,{"$f":"IF(G771=Basisgeg.!$C$36,AB771-AB771/(1+Basisgeg.!$C$36),\"\")","v":""},{"$f":"IF(G771=Basisgeg.!$C$37,AB771-AB771/(1+Basisgeg.!$C$37),\"\")","v":""},0,0,"",null,null,"","","","","","",""]
[null,"",null,null,null,null,null,null,null,"","","","","","",null,null,null,null,null,null,null,null,null,null,null,"",0,0,{"$f":"IF(G772=Basisgeg.!$C$36,AB772-AB772/(1+Basisgeg.!$C$36),\"\")","v":""},{"$f":"IF(G772=Basisgeg.!$C$37,AB772-AB772/(1+Basisgeg.!$C$37),\"\")","v":""},0,0,"",null,null,"","","","","","",""]
[null,"",null,null,null,null,null,null,null,"","","","","","",null,null,null,null,null,null,null,null,null,null,null,{"$f":"IF(C773<>\"\",MONTH(C773),\"\")","v":""},{"$f":"+H773","v":0},{"$f":"E773","v":0},{"$f":"IF(G773=Basisgeg.!$C$36,AB773-AB773/(1+Basisgeg.!$C$36),\"\")","v":""},{"$f":"IF(G773=Basisgeg.!$C$37,AB773-AB773/(1+Basisgeg.!$C$37),\"\")","v":""},{"$f":"I773","v":0},{"$f":"F773","v":0},{"$f":"L773","v":""},null,null,"","","","","","",""]
[null,{"$f":"IF(C774=\"\",\"\",IF(B773=\"Nr.\",1,B773+1))","v":""},null,null,null,null,null,null,null,"",{"$f":"IF(H774=\"\",\"\",(H774/((1+$G774)*100))*($G774*100))","v":""},{"$f":"IF(I774=\"\",\"\",(I774/((1+$G774)*100))*($G774*100))","v":""},{"$f":"IF(H774=\"\",\"\",+H774-K774)","v":""},{"$f":"IF(I774=\"\",\"\",+I774-L774)","v":""},{"$f":"IF(C774=\"\",\"\",MONTH(C774))","v":""},null,null,null,null,null,null,null,null,null,null,null,"",0,0,{"$f":"IF(G774=Basisgeg.!$C$36,AB774-AB774/(1+Basisgeg.!$C$36),\"\")","v":""},{"$f":"IF(G774=Basisgeg.!$C$37,AB774-AB774/(1+Basisgeg.!$C$37),\"\")","v":""},0,0,"",null,null,"","","","","","",""]
[null,"",null,null,null,null,null,null,null,"","","","","","",null,null,null,null,null,null,null,null,null,null,null,"",0,0,{"$f":"IF(G775=Basisgeg.!$C$36,AB775-AB775/(1+Basisgeg.!$C$36),\"\")","v":""},{"$f":"IF(G775=Basisgeg.!$C$37,AB775-AB775/(1+Basisgeg.!$C$37),\"\")","v":""},0,0,"",null,null,"","","","","","",""]
[null,"",null,null,null,null,null,null,null,"","","","","","",null,null,null,null,null,null,null,null,null,null,null,"",0,0,{"$f":"IF(G776=Basisgeg.!$C$36,AB776-AB776/(1+Basisgeg.!$C$36),\"\")","v":""},{"$f":"IF(G776=Basisgeg.!$C$37,AB776-AB776/(1+Basisgeg.!$C$37),\"\")","v":""},0,0,"",null,null,"","","","","","",""]
[null,"",null,null,null,null,null,null,null,"","","","","","",null,null,null,null,null,null,null,null,null,null,null,"",0,0,{"$f":"IF(G777=Basisgeg.!$C$36,AB777-AB777/(1+Basisgeg.!$C$36),\"\")","v":""},{"$f":"IF(G777=Basisgeg.!$C$37,AB777-AB777/(1+Basisgeg.!$C$37),\"\")","v":""},0,0,"",null,null,"","","","","","",""]
[null,"",null,null,null,null,null,null,null,"","","","","","",null,null,null,null,null,null,null,null,null,null,null,"",0,0,{"$f":"IF(G778=Basisgeg.!$C$36,AB778-AB778/(1+Basisgeg.!$C$36),\"\")","v":""},{"$f":"IF(G778=Basisgeg.!$C$37,AB778-AB778/(1+Basisgeg.!$C$37),\"\")","v":""},0,0,"",null,null,"","","","","","",""]
[null,"",null,null,null,null,null,null,null,"","","","","","",null,null,null,null,null,null,null,null,null,null,null,"",0,0,{"$f":"IF(G779=Basisgeg.!$C$36,AB779-AB779/(1+Basisgeg.!$C$36),\"\")","v":""},{"$f":"IF(G779=Basisgeg.!$C$37,AB779-AB779/(1+Basisgeg.!$C$37),\"\")","v":""},0,0,"",null,null,"","","","","","",""]
[null,"",null,null,null,null,null,null,null,"","","","","","",null,null,null,null,null,null,null,null,null,null,null,"",0,0,{"$f":"IF(G780=Basisgeg.!$C$36,AB780-AB780/(1+Basisgeg.!$C$36),\"\")","v":""},{"$f":"IF(G780=Basisgeg.!$C$37,AB780-AB780/(1+Basisgeg.!$C$37),\"\")","v":""},0,0,"",null,null,"","","","","","",""]
[null,"",null,null,null,null,null,null,null,"","","","","","",null,null,null,null,null,null,null,null,null,null,null,"",0,0,{"$f":"IF(G781=Basisgeg.!$C$36,AB781-AB781/(1+Basisgeg.!$C$36),\"\")","v":""},{"$f":"IF(G781=Basisgeg.!$C$37,AB781-AB781/(1+Basisgeg.!$C$37),\"\")","v":""},0,0,"",null,null,"","","","","","",""]
[null,"",null,null,null,null,null,null,null,"","","","","","",null,null,null,null,null,null,null,null,null,null,null,"",0,0,{"$f":"IF(G782=Basisgeg.!$C$36,AB782-AB782/(1+Basisgeg.!$C$36),\"\")","v":""},{"$f":"IF(G782=Basisgeg.!$C$37,AB782-AB782/(1+Basisgeg.!$C$37),\"\")","v":""},0,0,"",null,null,"","","","","","",""]
[null,"",null,null,null,null,null,null,null,"","","","","","",null,null,null,null,null,null,null,null,null,null,null,"",0,0,{"$f":"IF(G783=Basisgeg.!$C$36,AB783-AB783/(1+Basisgeg.!$C$36),\"\")","v":""},{"$f":"IF(G783=Basisgeg.!$C$37,AB783-AB783/(1+Basisgeg.!$C$37),\"\")","v":""},0,0,"",null,null,"","","","","","",""]
[null,"",null,null,null,null,null,null,null,"","","","","","",null,null,null,null,null,null,null,null,null,null,null,"",0,0,{"$f":"IF(G784=Basisgeg.!$C$36,AB784-AB784/(1+Basisgeg.!$C$36),\"\")","v":""},{"$f":"IF(G784=Basisgeg.!$C$37,AB784-AB784/(1+Basisgeg.!$C$37),\"\")","v":""},0,0,"",null,null,"","","","","","",""]
[null,"",null,null,null,null,null,null,null,"","","","","","",null,null,null,null,null,null,null,null,null,null,null,"",0,0,{"$f":"IF(G785=Basisgeg.!$C$36,AB785-AB785/(1+Basisgeg.!$C$36),\"\")","v":""},{"$f":"IF(G785=Basisgeg.!$C$37,AB785-AB785/(1+Basisgeg.!$C$37),\"\")","v":""},0,0,"",null,null,"","","","","","",""]
[null,"",null,null,null,null,null,null,null,"","","","","","",null,null,null,null,null,null,null,null,null,null,null,"",0,0,{"$f":"IF(G786=Basisgeg.!$C$36,AB786-AB786/(1+Basisgeg.!$C$36),\"\")","v":""},{"$f":"IF(G786=Basisgeg.!$C$37,AB786-AB786/(1+Basisgeg.!$C$37),\"\")","v":""},0,0,"",null,null,"","","","","","",""]
[null,"",null,null,null,null,null,null,null,"","","","","","",null,null,null,null,null,null,null,null,null,null,null,"",0,0,{"$f":"IF(G787=Basisgeg.!$C$36,AB787-AB787/(1+Basisgeg.!$C$36),\"\")","v":""},{"$f":"IF(G787=Basisgeg.!$C$37,AB787-AB787/(1+Basisgeg.!$C$37),\"\")","v":""},0,0,"",null,null,"","","","","","",""]
[null,"",null,null,null,null,null,null,null,"","","","","","",null,null,null,null,null,null,null,null,null,null,null,"",0,0,{"$f":"IF(G788=Basisgeg.!$C$36,AB788-AB788/(1+Basisgeg.!$C$36),\"\")","v":""},{"$f":"IF(G788=Basisgeg.!$C$37,AB788-AB788/(1+Basisgeg.!$C$37),\"\")","v":""},0,0,"",null,null,"","","","","","",""]
[null,"",null,null,null,null,null,null,null,"","","","","","",null,null,null,null,null,null,null,null,null,null,null,"",0,0,{"$f":"IF(G789=Basisgeg.!$C$36,AB789-AB789/(1+Basisgeg.!$C$36),\"\")","v":""},{"$f":"IF(G789=Basisgeg.!$C$37,AB789-AB789/(1+Basisgeg.!$C$37),\"\")","v":""},0,0,"",null,null,"","","","","","",""]
[null,"",null,null,null,null,null,null,null,"","","","","","",null,null,null,null,null,null,null,null,null,null,null,"",0,0,{"$f":"IF(G790=Basisgeg.!$C$36,AB790-AB790/(1+Basisgeg.!$C$36),\"\")","v":""},{"$f":"IF(G790=Basisgeg.!$C$37,AB790-AB790/(1+Basisgeg.!$C$37),\"\")","v":""},0,0,"",null,null,"","","","","","",""]
[null,"",null,null,null,null,null,null,null,"","","","","","",null,null,null,null,null,null,null,null,null,null,null,"",0,0,{"$f":"IF(G791=Basisgeg.!$C$36,AB791-AB791/(1+Basisgeg.!$C$36),\"\")","v":""},{"$f":"IF(G791=Basisgeg.!$C$37,AB791-AB791/(1+Basisgeg.!$C$37),\"\")","v":""},0,0,"",null,null,"","","","","","",""]
[null,"",null,null,null,null,null,null,null,"","","","","","",null,null,null,null,null,null,null,null,null,null,null,"",0,0,{"$f":"IF(G792=Basisgeg.!$C$36,AB792-AB792/(1+Basisgeg.!$C$36),\"\")","v":""},{"$f":"IF(G792=Basisgeg.!$C$37,AB792-AB792/(1+Basisgeg.!$C$37),\"\")","v":""},0,0,"",null,null,"","","","","","",""]
[null,"",null,null,null,null,null,null,null,"","","","","","",null,null,null,null,null,null,null,null,null,null,null,"",0,0,{"$f":"IF(G793=Basisgeg.!$C$36,AB793-AB793/(1+Basisgeg.!$C$36),\"\")","v":""},{"$f":"IF(G793=Basisgeg.!$C$37,AB793-AB793/(1+Basisgeg.!$C$37),\"\")","v":""},0,0,"",null,null,"","","","","","",""]
[null,"",null,null,null,null,null,null,null,"","","","","","",null,null,null,null,null,null,null,null,null,null,null,"",0,0,{"$f":"IF(G794=Basisgeg.!$C$36,AB794-AB794/(1+Basisgeg.!$C$36),\"\")","v":""},{"$f":"IF(G794=Basisgeg.!$C$37,AB794-AB794/(1+Basisgeg.!$C$37),\"\")","v":""},0,0,"",null,null,"","","","","","",""]
[null,"",null,null,null,null,null,null,null,"","","","","","",null,null,null,null,null,null,null,null,null,null,null,"",0,0,{"$f":"IF(G795=Basisgeg.!$C$36,AB795-AB795/(1+Basisgeg.!$C$36),\"\")","v":""},{"$f":"IF(G795=Basisgeg.!$C$37,AB795-AB795/(1+Basisgeg.!$C$37),\"\")","v":""},0,0,"",null,null,"","","","","","",""]
[null,"",null,null,null,null,null,null,null,"","","","","","",null,null,null,null,null,null,null,null,null,null,null,"",0,0,{"$f":"IF(G796=Basisgeg.!$C$36,AB796-AB796/(1+Basisgeg.!$C$36),\"\")","v":""},{"$f":"IF(G796=Basisgeg.!$C$37,AB796-AB796/(1+Basisgeg.!$C$37),\"\")","v":""},0,0,"",null,null,"","","","","","",""]
[null,"",null,null,null,null,null,null,null,"","","","","","",null,null,null,null,null,null,null,null,null,null,null,"",0,0,{"$f":"IF(G797=Basisgeg.!$C$36,AB797-AB797/(1+Basisgeg.!$C$36),\"\")","v":""},{"$f":"IF(G797=Basisgeg.!$C$37,AB797-AB797/(1+Basisgeg.!$C$37),\"\")","v":""},0,0,"",null,null,"","","","","","",""]
[null,"",null,null,null,null,null,null,null,"","","","","","",null,null,null,null,null,null,null,null,null,null,null,"",0,0,{"$f":"IF(G798=Basisgeg.!$C$36,AB798-AB798/(1+Basisgeg.!$C$36),\"\")","v":""},{"$f":"IF(G798=Basisgeg.!$C$37,AB798-AB798/(1+Basisgeg.!$C$37),\"\")","v":""},0,0,"",null,null,"","","","","","",""]
[null,"",null,null,null,null,null,null,null,"","","","","","",null,null,null,null,null,null,null,null,null,null,null,"",0,0,{"$f":"IF(G799=Basisgeg.!$C$36,AB799-AB799/(1+Basisgeg.!$C$36),\"\")","v":""},{"$f":"IF(G799=Basisgeg.!$C$37,AB799-AB799/(1+Basisgeg.!$C$37),\"\")","v":""},0,0,"",null,null,"","","","","","",""]
[null,"",null,null,null,null,null,null,null,"","","","","","",null,null,null,null,null,null,null,null,null,null,null,"",0,0,{"$f":"IF(G800=Basisgeg.!$C$36,AB800-AB800/(1+Basisgeg.!$C$36),\"\")","v":""},{"$f":"IF(G800=Basisgeg.!$C$37,AB800-AB800/(1+Basisgeg.!$C$37),\"\")","v":""},0,0,"",null,null,"","","","","","",""]
[null,"",null,null,null,null,null,null,null,"","","","","","",null,null,null,null,null,null,null,null,null,null,null,"",0,0,{"$f":"IF(G801=Basisgeg.!$C$36,AB801-AB801/(1+Basisgeg.!$C$36),\"\")","v":""},{"$f":"IF(G801=Basisgeg.!$C$37,AB801-AB801/(1+Basisgeg.!$C$37),\"\")","v":""},0,0,"",null,null,"","","","","","",""]
[null,"",null,null,null,null,null,null,null,"","","","","","",null,null,null,null,null,null,null,null,null,null,null,"",0,0,{"$f":"IF(G802=Basisgeg.!$C$36,AB802-AB802/(1+Basisgeg.!$C$36),\"\")","v":""},{"$f":"IF(G802=Basisgeg.!$C$37,AB802-AB802/(1+Basisgeg.!$C$37),\"\")","v":""},0,0,"",null,null,"","","","","","",""]
[null,"",null,null,null,null,null,null,null,"","","","","","",null,null,null,null,null,null,null,null,null,null,null,"",0,0,{"$f":"IF(G803=Basisgeg.!$C$36,AB803-AB803/(1+Basisgeg.!$C$36),\"\")","v":""},{"$f":"IF(G803=Basisgeg.!$C$37,AB803-AB803/(1+Basisgeg.!$C$37),\"\")","v":""},0,0,"",null,null,"","","","","","",""]
[null,"",null,null,null,null,null,null,null,"","","","","","",null,null,null,null,null,null,null,null,null,null,null,"",0,0,{"$f":"IF(G804=Basisgeg.!$C$36,AB804-AB804/(1+Basisgeg.!$C$36),\"\")","v":""},{"$f":"IF(G804=Basisgeg.!$C$37,AB804-AB804/(1+Basisgeg.!$C$37),\"\")","v":""},0,0,"",null,null,"","","","","","",""]
[null,"",null,null,null,null,null,null,null,"","","","","","",null,null,null,null,null,null,null,null,null,null,null,"",0,0,{"$f":"IF(G805=Basisgeg.!$C$36,AB805-AB805/(1+Basisgeg.!$C$36),\"\")","v":""},{"$f":"IF(G805=Basisgeg.!$C$37,AB805-AB805/(1+Basisgeg.!$C$37),\"\")","v":""},0,0,"",null,null,"","","","","","",""]
[null,"",null,null,null,null,null,null,null,"","","","","","",null,null,null,null,null,null,null,null,null,null,null,"",0,0,{"$f":"IF(G806=Basisgeg.!$C$36,AB806-AB806/(1+Basisgeg.!$C$36),\"\")","v":""},{"$f":"IF(G806=Basisgeg.!$C$37,AB806-AB806/(1+Basisgeg.!$C$37),\"\")","v":""},0,0,"",null,null,"","","","","","",""]
[null,"",null,null,null,null,null,null,null,"","","","","","",null,null,null,null,null,null,null,null,null,null,null,"",0,0,{"$f":"IF(G807=Basisgeg.!$C$36,AB807-AB807/(1+Basisgeg.!$C$36),\"\")","v":""},{"$f":"IF(G807=Basisgeg.!$C$37,AB807-AB807/(1+Basisgeg.!$C$37),\"\")","v":""},0,0,"",null,null,"","","","","","",""]
[null,"",null,null,null,null,null,null,null,"","","","","","",null,null,null,null,null,null,null,null,null,null,null,"",0,0,{"$f":"IF(G808=Basisgeg.!$C$36,AB808-AB808/(1+Basisgeg.!$C$36),\"\")","v":""},{"$f":"IF(G808=Basisgeg.!$C$37,AB808-AB808/(1+Basisgeg.!$C$37),\"\")","v":""},0,0,"",null,null,"","","","","","",""]
[null,"",null,null,null,null,null,null,null,"","","","","","",null,null,null,null,null,null,null,null,null,null,null,"",0,0,{"$f":"IF(G809=Basisgeg.!$C$36,AB809-AB809/(1+Basisgeg.!$C$36),\"\")","v":""},{"$f":"IF(G809=Basisgeg.!$C$37,AB809-AB809/(1+Basisgeg.!$C$37),\"\")","v":""},0,0,"",null,null,"","","","","","",""]
[null,"",null,null,null,null,null,null,null,"","","","","","",null,null,null,null,null,null,null,null,null,null,null,"",0,0,{"$f":"IF(G810=Basisgeg.!$C$36,AB810-AB810/(1+Basisgeg.!$C$36),\"\")","v":""},{"$f":"IF(G810=Basisgeg.!$C$37,AB810-AB810/(1+Basisgeg.!$C$37),\"\")","v":""},0,0,"",null,null,"","","","","","",""]
[null,"",null,null,null,null,null,null,null,"","","","","","",null,null,null,null,null,null,null,null,null,null,null,"",0,0,{"$f":"IF(G811=Basisgeg.!$C$36,AB811-AB811/(1+Basisgeg.!$C$36),\"\")","v":""},{"$f":"IF(G811=Basisgeg.!$C$37,AB811-AB811/(1+Basisgeg.!$C$37),\"\")","v":""},0,0,"",null,null,"","","","","","",""]
[null,"",null,null,null,null,null,null,null,"","","","","","",null,null,null,null,null,null,null,null,null,null,null,"",0,0,{"$f":"IF(G812=Basisgeg.!$C$36,AB812-AB812/(1+Basisgeg.!$C$36),\"\")","v":""},{"$f":"IF(G812=Basisgeg.!$C$37,AB812-AB812/(1+Basisgeg.!$C$37),\"\")","v":""},0,0,"",null,null,"","","","","","",""]
[null,"",null,null,null,null,null,null,null,"","","","","","",null,null,null,null,null,null,null,null,null,null,null,"",0,0,{"$f":"IF(G813=Basisgeg.!$C$36,AB813-AB813/(1+Basisgeg.!$C$36),\"\")","v":""},{"$f":"IF(G813=Basisgeg.!$C$37,AB813-AB813/(1+Basisgeg.!$C$37),\"\")","v":""},0,0,"",null,null,"","","","","","",""]
[null,"",null,null,null,null,null,null,null,"","","","","","",null,null,null,null,null,null,null,null,null,null,null,"",0,0,{"$f":"IF(G814=Basisgeg.!$C$36,AB814-AB814/(1+Basisgeg.!$C$36),\"\")","v":""},{"$f":"IF(G814=Basisgeg.!$C$37,AB814-AB814/(1+Basisgeg.!$C$37),\"\")","v":""},0,0,"",null,null,"","","","","","",""]
[null,"",null,null,null,null,null,null,null,"","","","","","",null,null,null,null,null,null,null,null,null,null,null,"",0,0,{"$f":"IF(G815=Basisgeg.!$C$36,AB815-AB815/(1+Basisgeg.!$C$36),\"\")","v":""},{"$f":"IF(G815=Basisgeg.!$C$37,AB815-AB815/(1+Basisgeg.!$C$37),\"\")","v":""},0,0,"",null,null,"","","","","","",""]
[null,"",null,null,null,null,null,null,null,{"$f":"IF(B816=\"\",\"\",IF(AND(H816=\"\",I816=\"\"),\"\",IF(AND(E816<>\"\",F816<>\"\"),\"FOUT\",IF(AND(E816=\"\",H816<>\"\"),\"FOUT\",IF(AND(F816=\"\",I816<>\"\"),\"FOUT\",IF(G816=\"\",\"BTW ?\",\"OK\"))))))","v":""},"","","","","",null,null,null,null,null,null,null,null,null,null,null,"",0,0,{"$f":"IF(G816=Basisgeg.!$C$36,AB816-AB816/(1+Basisgeg.!$C$36),\"\")","v":""},{"$f":"IF(G816=Basisgeg.!$C$37,AB816-AB816/(1+Basisgeg.!$C$37),\"\")","v":""},0,0,"",null,null,{"$f":"IF($AA816=$AJ$5,AB816,\"\")","v":""},{"$f":"IF($AA816=$AJ$5,AC816,\"\")","v":""},{"$f":"IF($AA816=$AJ$5,AD816,\"\")","v":""},{"$f":"IF($AA816=$AJ$5,AE816,\"\")","v":""},{"$f":"IF($AA816=$AJ$5,AF816,\"\")","v":""},{"$f":"IF($AA816=$AJ$5,AG816,\"\")","v":""},{"$f":"IF($AA816=$AJ$5,AH816,\"\")","v":""}]
[null,"",null,null,null,null,null,null,null,"","","","","","",null,null,null,null,null,null,null,null,null,null,null,"",0,0,{"$f":"IF(G817=Basisgeg.!$C$36,AB817-AB817/(1+Basisgeg.!$C$36),\"\")","v":""},{"$f":"IF(G817=Basisgeg.!$C$37,AB817-AB817/(1+Basisgeg.!$C$37),\"\")","v":""},0,0,"",null,null,"","","","","","",""]
[null,"",null,null,null,null,null,null,null,"","","","","","",null,null,null,null,null,null,null,null,null,null,null,"",0,0,{"$f":"IF(G818=Basisgeg.!$C$36,AB818-AB818/(1+Basisgeg.!$C$36),\"\")","v":""},{"$f":"IF(G818=Basisgeg.!$C$37,AB818-AB818/(1+Basisgeg.!$C$37),\"\")","v":""},0,0,"",null,null,"","","","","","",""]
[null,"",null,null,null,null,null,null,null,"","","","","","",null,null,null,null,null,null,null,null,null,null,null,"",0,0,{"$f":"IF(G819=Basisgeg.!$C$36,AB819-AB819/(1+Basisgeg.!$C$36),\"\")","v":""},{"$f":"IF(G819=Basisgeg.!$C$37,AB819-AB819/(1+Basisgeg.!$C$37),\"\")","v":""},0,0,"",null,null,"","","","","","",""]
[null,"",null,null,null,null,null,null,null,"","","","","","",null,null,null,null,null,null,null,null,null,null,null,"",0,0,{"$f":"IF(G820=Basisgeg.!$C$36,AB820-AB820/(1+Basisgeg.!$C$36),\"\")","v":""},{"$f":"IF(G820=Basisgeg.!$C$37,AB820-AB820/(1+Basisgeg.!$C$37),\"\")","v":""},0,0,"",null,null,"","","","","","",""]
[null,"",null,null,null,null,null,null,null,"","","","","","",null,null,null,null,null,null,null,null,null,null,null,"",0,0,{"$f":"IF(G821=Basisgeg.!$C$36,AB821-AB821/(1+Basisgeg.!$C$36),\"\")","v":""},{"$f":"IF(G821=Basisgeg.!$C$37,AB821-AB821/(1+Basisgeg.!$C$37),\"\")","v":""},0,0,"",null,null,"","","","","","",""]
[null,"",null,null,null,null,null,null,null,"","","","","","",null,null,null,null,null,null,null,null,null,null,null,"",0,0,{"$f":"IF(G822=Basisgeg.!$C$36,AB822-AB822/(1+Basisgeg.!$C$36),\"\")","v":""},{"$f":"IF(G822=Basisgeg.!$C$37,AB822-AB822/(1+Basisgeg.!$C$37),\"\")","v":""},0,0,"",null,null,"","","","","","",""]
[null,"",null,null,null,null,null,null,null,"","","","","","",null,null,null,null,null,null,null,null,null,null,null,"",0,0,{"$f":"IF(G823=Basisgeg.!$C$36,AB823-AB823/(1+Basisgeg.!$C$36),\"\")","v":""},{"$f":"IF(G823=Basisgeg.!$C$37,AB823-AB823/(1+Basisgeg.!$C$37),\"\")","v":""},0,0,"",null,null,"","","","","","",""]
[null,"",null,null,null,null,null,null,null,"","","","","","",null,null,null,null,null,null,null,null,null,null,null,"",0,0,{"$f":"IF(G824=Basisgeg.!$C$36,AB824-AB824/(1+Basisgeg.!$C$36),\"\")","v":""},{"$f":"IF(G824=Basisgeg.!$C$37,AB824-AB824/(1+Basisgeg.!$C$37),\"\")","v":""},0,0,"",null,null,"","","","","","",""]
[null,"",null,null,null,null,null,null,null,"","","","","","",null,null,null,null,null,null,null,null,null,null,null,"",0,0,{"$f":"IF(G825=Basisgeg.!$C$36,AB825-AB825/(1+Basisgeg.!$C$36),\"\")","v":""},{"$f":"IF(G825=Basisgeg.!$C$37,AB825-AB825/(1+Basisgeg.!$C$37),\"\")","v":""},0,0,"",null,null,"","","","","","",""]
[null,"",null,null,null,null,null,null,null,"","","","","","",null,null,null,null,null,null,null,null,null,null,null,"",0,0,{"$f":"IF(G826=Basisgeg.!$C$36,AB826-AB826/(1+Basisgeg.!$C$36),\"\")","v":""},{"$f":"IF(G826=Basisgeg.!$C$37,AB826-AB826/(1+Basisgeg.!$C$37),\"\")","v":""},0,0,"",null,null,"","","","","","",""]
[null,"",null,null,null,null,null,null,null,"","","","","","",null,null,null,null,null,null,null,null,null,null,null,"",0,0,{"$f":"IF(G827=Basisgeg.!$C$36,AB827-AB827/(1+Basisgeg.!$C$36),\"\")","v":""},{"$f":"IF(G827=Basisgeg.!$C$37,AB827-AB827/(1+Basisgeg.!$C$37),\"\")","v":""},0,0,"",null,null,"","","","","","",""]
[null,"",null,null,null,null,null,null,null,"","","","","","",null,null,null,null,null,null,null,null,null,null,null,"",0,0,{"$f":"IF(G828=Basisgeg.!$C$36,AB828-AB828/(1+Basisgeg.!$C$36),\"\")","v":""},{"$f":"IF(G828=Basisgeg.!$C$37,AB828-AB828/(1+Basisgeg.!$C$37),\"\")","v":""},0,0,"",null,null,"","","","","","",""]
[null,"",null,null,null,null,null,null,null,"","","","","","",null,null,null,null,null,null,null,null,null,null,null,"",0,0,{"$f":"IF(G829=Basisgeg.!$C$36,AB829-AB829/(1+Basisgeg.!$C$36),\"\")","v":""},{"$f":"IF(G829=Basisgeg.!$C$37,AB829-AB829/(1+Basisgeg.!$C$37),\"\")","v":""},0,0,"",null,null,"","","","","","",""]
[null,"",null,null,null,null,null,null,null,"","","","","","",null,null,null,null,null,null,null,null,null,null,null,"",0,0,{"$f":"IF(G830=Basisgeg.!$C$36,AB830-AB830/(1+Basisgeg.!$C$36),\"\")","v":""},{"$f":"IF(G830=Basisgeg.!$C$37,AB830-AB830/(1+Basisgeg.!$C$37),\"\")","v":""},0,0,"",null,null,"","","","","","",""]
[null,"",null,null,null,null,null,null,null,"","","","","","",null,null,null,null,null,null,null,null,null,null,null,"",0,0,{"$f":"IF(G831=Basisgeg.!$C$36,AB831-AB831/(1+Basisgeg.!$C$36),\"\")","v":""},{"$f":"IF(G831=Basisgeg.!$C$37,AB831-AB831/(1+Basisgeg.!$C$37),\"\")","v":""},0,0,"",null,null,"","","","","","",""]
[null,"",null,null,null,null,null,null,null,"","","","","","",null,null,null,null,null,null,null,null,null,null,null,"",0,0,{"$f":"IF(G832=Basisgeg.!$C$36,AB832-AB832/(1+Basisgeg.!$C$36),\"\")","v":""},{"$f":"IF(G832=Basisgeg.!$C$37,AB832-AB832/(1+Basisgeg.!$C$37),\"\")","v":""},0,0,"",null,null,"","","","","","",""]
[null,"",null,null,null,null,null,null,null,"","","","","","",null,null,null,null,null,null,null,null,null,null,null,"",0,0,{"$f":"IF(G833=Basisgeg.!$C$36,AB833-AB833/(1+Basisgeg.!$C$36),\"\")","v":""},{"$f":"IF(G833=Basisgeg.!$C$37,AB833-AB833/(1+Basisgeg.!$C$37),\"\")","v":""},0,0,"",null,null,"","","","","","",""]
[null,"",null,null,null,null,null,null,null,"","","","","","",null,null,null,null,null,null,null,null,null,null,null,"",0,0,{"$f":"IF(G834=Basisgeg.!$C$36,AB834-AB834/(1+Basisgeg.!$C$36),\"\")","v":""},{"$f":"IF(G834=Basisgeg.!$C$37,AB834-AB834/(1+Basisgeg.!$C$37),\"\")","v":""},0,0,"",null,null,"","","","","","",""]
[null,"",null,null,null,null,null,null,null,"","","","","","",null,null,null,null,null,null,null,null,null,null,null,"",0,0,{"$f":"IF(G835=Basisgeg.!$C$36,AB835-AB835/(1+Basisgeg.!$C$36),\"\")","v":""},{"$f":"IF(G835=Basisgeg.!$C$37,AB835-AB835/(1+Basisgeg.!$C$37),\"\")","v":""},0,0,"",null,null,"","","","","","",""]
[null,"",null,null,null,null,null,null,null,"","","","","","",null,null,null,null,null,null,null,null,null,null,null,"",0,0,{"$f":"IF(G836=Basisgeg.!$C$36,AB836-AB836/(1+Basisgeg.!$C$36),\"\")","v":""},{"$f":"IF(G836=Basisgeg.!$C$37,AB836-AB836/(1+Basisgeg.!$C$37),\"\")","v":""},0,0,"",null,null,"","","","","","",""]
[null,"",null,null,null,null,null,null,null,"","","","","","",null,null,null,null,null,null,null,null,null,null,null,{"$f":"IF(C837<>\"\",MONTH(C837),\"\")","v":""},{"$f":"+H837","v":0},{"$f":"E837","v":0},{"$f":"IF(G837=Basisgeg.!$C$36,AB837-AB837/(1+Basisgeg.!$C$36),\"\")","v":""},{"$f":"IF(G837=Basisgeg.!$C$37,AB837-AB837/(1+Basisgeg.!$C$37),\"\")","v":""},{"$f":"I837","v":0},{"$f":"F837","v":0},{"$f":"L837","v":""},null,null,"","","","","","",""]
[null,{"$f":"IF(C838=\"\",\"\",IF(B837=\"Nr.\",1,B837+1))","v":""},null,null,null,null,null,null,null,"",{"$f":"IF(H838=\"\",\"\",(H838/((1+$G838)*100))*($G838*100))","v":""},{"$f":"IF(I838=\"\",\"\",(I838/((1+$G838)*100))*($G838*100))","v":""},{"$f":"IF(H838=\"\",\"\",+H838-K838)","v":""},{"$f":"IF(I838=\"\",\"\",+I838-L838)","v":""},{"$f":"IF(C838=\"\",\"\",MONTH(C838))","v":""},null,null,null,null,null,null,null,null,null,null,null,"",0,0,{"$f":"IF(G838=Basisgeg.!$C$36,AB838-AB838/(1+Basisgeg.!$C$36),\"\")","v":""},{"$f":"IF(G838=Basisgeg.!$C$37,AB838-AB838/(1+Basisgeg.!$C$37),\"\")","v":""},0,0,"",null,null,"","","","","","",""]
[null,"",null,null,null,null,null,null,null,"","","","","","",null,null,null,null,null,null,null,null,null,null,null,"",0,0,{"$f":"IF(G839=Basisgeg.!$C$36,AB839-AB839/(1+Basisgeg.!$C$36),\"\")","v":""},{"$f":"IF(G839=Basisgeg.!$C$37,AB839-AB839/(1+Basisgeg.!$C$37),\"\")","v":""},0,0,"",null,null,"","","","","","",""]
[null,"",null,null,null,null,null,null,null,"","","","","","",null,null,null,null,null,null,null,null,null,null,null,"",0,0,{"$f":"IF(G840=Basisgeg.!$C$36,AB840-AB840/(1+Basisgeg.!$C$36),\"\")","v":""},{"$f":"IF(G840=Basisgeg.!$C$37,AB840-AB840/(1+Basisgeg.!$C$37),\"\")","v":""},0,0,"",null,null,"","","","","","",""]
[null,"",null,null,null,null,null,null,null,"","","","","","",null,null,null,null,null,null,null,null,null,null,null,"",0,0,{"$f":"IF(G841=Basisgeg.!$C$36,AB841-AB841/(1+Basisgeg.!$C$36),\"\")","v":""},{"$f":"IF(G841=Basisgeg.!$C$37,AB841-AB841/(1+Basisgeg.!$C$37),\"\")","v":""},0,0,"",null,null,"","","","","","",""]
[null,"",null,null,null,null,null,null,null,"","","","","","",null,null,null,null,null,null,null,null,null,null,null,"",0,0,{"$f":"IF(G842=Basisgeg.!$C$36,AB842-AB842/(1+Basisgeg.!$C$36),\"\")","v":""},{"$f":"IF(G842=Basisgeg.!$C$37,AB842-AB842/(1+Basisgeg.!$C$37),\"\")","v":""},0,0,"",null,null,"","","","","","",""]
[null,"",null,null,null,null,null,null,null,"","","","","","",null,null,null,null,null,null,null,null,null,null,null,"",0,0,{"$f":"IF(G843=Basisgeg.!$C$36,AB843-AB843/(1+Basisgeg.!$C$36),\"\")","v":""},{"$f":"IF(G843=Basisgeg.!$C$37,AB843-AB843/(1+Basisgeg.!$C$37),\"\")","v":""},0,0,"",null,null,"","","","","","",""]
[null,"",null,null,null,null,null,null,null,"","","","","","",null,null,null,null,null,null,null,null,null,null,null,"",0,0,{"$f":"IF(G844=Basisgeg.!$C$36,AB844-AB844/(1+Basisgeg.!$C$36),\"\")","v":""},{"$f":"IF(G844=Basisgeg.!$C$37,AB844-AB844/(1+Basisgeg.!$C$37),\"\")","v":""},0,0,"",null,null,"","","","","","",""]
[null,"",null,null,null,null,null,null,null,"","","","","","",null,null,null,null,null,null,null,null,null,null,null,"",0,0,{"$f":"IF(G845=Basisgeg.!$C$36,AB845-AB845/(1+Basisgeg.!$C$36),\"\")","v":""},{"$f":"IF(G845=Basisgeg.!$C$37,AB845-AB845/(1+Basisgeg.!$C$37),\"\")","v":""},0,0,"",null,null,"","","","","","",""]
[null,"",null,null,null,null,null,null,null,"","","","","","",null,null,null,null,null,null,null,null,null,null,null,"",0,0,{"$f":"IF(G846=Basisgeg.!$C$36,AB846-AB846/(1+Basisgeg.!$C$36),\"\")","v":""},{"$f":"IF(G846=Basisgeg.!$C$37,AB846-AB846/(1+Basisgeg.!$C$37),\"\")","v":""},0,0,"",null,null,"","","","","","",""]
[null,"",null,null,null,null,null,null,null,"","","","","","",null,null,null,null,null,null,null,null,null,null,null,"",0,0,{"$f":"IF(G847=Basisgeg.!$C$36,AB847-AB847/(1+Basisgeg.!$C$36),\"\")","v":""},{"$f":"IF(G847=Basisgeg.!$C$37,AB847-AB847/(1+Basisgeg.!$C$37),\"\")","v":""},0,0,"",null,null,"","","","","","",""]
[null,"",null,null,null,null,null,null,null,"","","","","","",null,null,null,null,null,null,null,null,null,null,null,"",0,0,{"$f":"IF(G848=Basisgeg.!$C$36,AB848-AB848/(1+Basisgeg.!$C$36),\"\")","v":""},{"$f":"IF(G848=Basisgeg.!$C$37,AB848-AB848/(1+Basisgeg.!$C$37),\"\")","v":""},0,0,"",null,null,"","","","","","",""]
[null,"",null,null,null,null,null,null,null,"","","","","","",null,null,null,null,null,null,null,null,null,null,null,"",0,0,{"$f":"IF(G849=Basisgeg.!$C$36,AB849-AB849/(1+Basisgeg.!$C$36),\"\")","v":""},{"$f":"IF(G849=Basisgeg.!$C$37,AB849-AB849/(1+Basisgeg.!$C$37),\"\")","v":""},0,0,"",null,null,"","","","","","",""]
[null,"",null,null,null,null,null,null,null,"","","","","","",null,null,null,null,null,null,null,null,null,null,null,"",0,0,{"$f":"IF(G850=Basisgeg.!$C$36,AB850-AB850/(1+Basisgeg.!$C$36),\"\")","v":""},{"$f":"IF(G850=Basisgeg.!$C$37,AB850-AB850/(1+Basisgeg.!$C$37),\"\")","v":""},0,0,"",null,null,"","","","","","",""]
[null,"",null,null,null,null,null,null,null,"","","","","","",null,null,null,null,null,null,null,null,null,null,null,"",0,0,{"$f":"IF(G851=Basisgeg.!$C$36,AB851-AB851/(1+Basisgeg.!$C$36),\"\")","v":""},{"$f":"IF(G851=Basisgeg.!$C$37,AB851-AB851/(1+Basisgeg.!$C$37),\"\")","v":""},0,0,"",null,null,"","","","","","",""]
[null,"",null,null,null,null,null,null,null,"","","","","","",null,null,null,null,null,null,null,null,null,null,null,"",0,0,{"$f":"IF(G852=Basisgeg.!$C$36,AB852-AB852/(1+Basisgeg.!$C$36),\"\")","v":""},{"$f":"IF(G852=Basisgeg.!$C$37,AB852-AB852/(1+Basisgeg.!$C$37),\"\")","v":""},0,0,"",null,null,"","","","","","",""]
[null,"",null,null,null,null,null,null,null,"","","","","","",null,null,null,null,null,null,null,null,null,null,null,"",0,0,{"$f":"IF(G853=Basisgeg.!$C$36,AB853-AB853/(1+Basisgeg.!$C$36),\"\")","v":""},{"$f":"IF(G853=Basisgeg.!$C$37,AB853-AB853/(1+Basisgeg.!$C$37),\"\")","v":""},0,0,"",null,null,"","","","","","",""]
[null,"",null,null,null,null,null,null,null,"","","","","","",null,null,null,null,null,null,null,null,null,null,null,"",0,0,{"$f":"IF(G854=Basisgeg.!$C$36,AB854-AB854/(1+Basisgeg.!$C$36),\"\")","v":""},{"$f":"IF(G854=Basisgeg.!$C$37,AB854-AB854/(1+Basisgeg.!$C$37),\"\")","v":""},0,0,"",null,null,"","","","","","",""]
[null,"",null,null,null,null,null,null,null,"","","","","","",null,null,null,null,null,null,null,null,null,null,null,"",0,0,{"$f":"IF(G855=Basisgeg.!$C$36,AB855-AB855/(1+Basisgeg.!$C$36),\"\")","v":""},{"$f":"IF(G855=Basisgeg.!$C$37,AB855-AB855/(1+Basisgeg.!$C$37),\"\")","v":""},0,0,"",null,null,"","","","","","",""]
[null,"",null,null,null,null,null,null,null,"","","","","","",null,null,null,null,null,null,null,null,null,null,null,"",0,0,{"$f":"IF(G856=Basisgeg.!$C$36,AB856-AB856/(1+Basisgeg.!$C$36),\"\")","v":""},{"$f":"IF(G856=Basisgeg.!$C$37,AB856-AB856/(1+Basisgeg.!$C$37),\"\")","v":""},0,0,"",null,null,"","","","","","",""]
[null,"",null,null,null,null,null,null,null,"","","","","","",null,null,null,null,null,null,null,null,null,null,null,"",0,0,{"$f":"IF(G857=Basisgeg.!$C$36,AB857-AB857/(1+Basisgeg.!$C$36),\"\")","v":""},{"$f":"IF(G857=Basisgeg.!$C$37,AB857-AB857/(1+Basisgeg.!$C$37),\"\")","v":""},0,0,"",null,null,"","","","","","",""]
[null,"",null,null,null,null,null,null,null,"","","","","","",null,null,null,null,null,null,null,null,null,null,null,"",0,0,{"$f":"IF(G858=Basisgeg.!$C$36,AB858-AB858/(1+Basisgeg.!$C$36),\"\")","v":""},{"$f":"IF(G858=Basisgeg.!$C$37,AB858-AB858/(1+Basisgeg.!$C$37),\"\")","v":""},0,0,"",null,null,"","","","","","",""]
[null,"",null,null,null,null,null,null,null,"","","","","","",null,null,null,null,null,null,null,null,null,null,null,"",0,0,{"$f":"IF(G859=Basisgeg.!$C$36,AB859-AB859/(1+Basisgeg.!$C$36),\"\")","v":""},{"$f":"IF(G859=Basisgeg.!$C$37,AB859-AB859/(1+Basisgeg.!$C$37),\"\")","v":""},0,0,"",null,null,"","","","","","",""]
[null,"",null,null,null,null,null,null,null,"","","","","","",null,null,null,null,null,null,null,null,null,null,null,"",0,0,{"$f":"IF(G860=Basisgeg.!$C$36,AB860-AB860/(1+Basisgeg.!$C$36),\"\")","v":""},{"$f":"IF(G860=Basisgeg.!$C$37,AB860-AB860/(1+Basisgeg.!$C$37),\"\")","v":""},0,0,"",null,null,"","","","","","",""]
[null,"",null,null,null,null,null,null,null,"","","","","","",null,null,null,null,null,null,null,null,null,null,null,"",0,0,{"$f":"IF(G861=Basisgeg.!$C$36,AB861-AB861/(1+Basisgeg.!$C$36),\"\")","v":""},{"$f":"IF(G861=Basisgeg.!$C$37,AB861-AB861/(1+Basisgeg.!$C$37),\"\")","v":""},0,0,"",null,null,"","","","","","",""]
[null,"",null,null,null,null,null,null,null,"","","","","","",null,null,null,null,null,null,null,null,null,null,null,"",0,0,{"$f":"IF(G862=Basisgeg.!$C$36,AB862-AB862/(1+Basisgeg.!$C$36),\"\")","v":""},{"$f":"IF(G862=Basisgeg.!$C$37,AB862-AB862/(1+Basisgeg.!$C$37),\"\")","v":""},0,0,"",null,null,"","","","","","",""]
[null,"",null,null,null,null,null,null,null,"","","","","","",null,null,null,null,null,null,null,null,null,null,null,"",0,0,{"$f":"IF(G863=Basisgeg.!$C$36,AB863-AB863/(1+Basisgeg.!$C$36),\"\")","v":""},{"$f":"IF(G863=Basisgeg.!$C$37,AB863-AB863/(1+Basisgeg.!$C$37),\"\")","v":""},0,0,"",null,null,"","","","","","",""]
[null,"",null,null,null,null,null,null,null,"","","","","","",null,null,null,null,null,null,null,null,null,null,null,"",0,0,{"$f":"IF(G864=Basisgeg.!$C$36,AB864-AB864/(1+Basisgeg.!$C$36),\"\")","v":""},{"$f":"IF(G864=Basisgeg.!$C$37,AB864-AB864/(1+Basisgeg.!$C$37),\"\")","v":""},0,0,"",null,null,"","","","","","",""]
[null,"",null,null,null,null,null,null,null,"","","","","","",null,null,null,null,null,null,null,null,null,null,null,"",0,0,{"$f":"IF(G865=Basisgeg.!$C$36,AB865-AB865/(1+Basisgeg.!$C$36),\"\")","v":""},{"$f":"IF(G865=Basisgeg.!$C$37,AB865-AB865/(1+Basisgeg.!$C$37),\"\")","v":""},0,0,"",null,null,"","","","","","",""]
[null,"",null,null,null,null,null,null,null,"","","","","","",null,null,null,null,null,null,null,null,null,null,null,"",0,0,{"$f":"IF(G866=Basisgeg.!$C$36,AB866-AB866/(1+Basisgeg.!$C$36),\"\")","v":""},{"$f":"IF(G866=Basisgeg.!$C$37,AB866-AB866/(1+Basisgeg.!$C$37),\"\")","v":""},0,0,"",null,null,"","","","","","",""]
[null,"",null,null,null,null,null,null,null,"","","","","","",null,null,null,null,null,null,null,null,null,null,null,"",0,0,{"$f":"IF(G867=Basisgeg.!$C$36,AB867-AB867/(1+Basisgeg.!$C$36),\"\")","v":""},{"$f":"IF(G867=Basisgeg.!$C$37,AB867-AB867/(1+Basisgeg.!$C$37),\"\")","v":""},0,0,"",null,null,"","","","","","",""]
[null,"",null,null,null,null,null,null,null,"","","","","","",null,null,null,null,null,null,null,null,null,null,null,"",0,0,{"$f":"IF(G868=Basisgeg.!$C$36,AB868-AB868/(1+Basisgeg.!$C$36),\"\")","v":""},{"$f":"IF(G868=Basisgeg.!$C$37,AB868-AB868/(1+Basisgeg.!$C$37),\"\")","v":""},0,0,"",null,null,"","","","","","",""]
[null,"",null,null,null,null,null,null,null,"","","","","","",null,null,null,null,null,null,null,null,null,null,null,"",0,0,{"$f":"IF(G869=Basisgeg.!$C$36,AB869-AB869/(1+Basisgeg.!$C$36),\"\")","v":""},{"$f":"IF(G869=Basisgeg.!$C$37,AB869-AB869/(1+Basisgeg.!$C$37),\"\")","v":""},0,0,"",null,null,"","","","","","",""]
[null,"",null,null,null,null,null,null,null,"","","","","","",null,null,null,null,null,null,null,null,null,null,null,"",0,0,{"$f":"IF(G870=Basisgeg.!$C$36,AB870-AB870/(1+Basisgeg.!$C$36),\"\")","v":""},{"$f":"IF(G870=Basisgeg.!$C$37,AB870-AB870/(1+Basisgeg.!$C$37),\"\")","v":""},0,0,"",null,null,"","","","","","",""]
[null,"",null,null,null,null,null,null,null,"","","","","","",null,null,null,null,null,null,null,null,null,null,null,"",0,0,{"$f":"IF(G871=Basisgeg.!$C$36,AB871-AB871/(1+Basisgeg.!$C$36),\"\")","v":""},{"$f":"IF(G871=Basisgeg.!$C$37,AB871-AB871/(1+Basisgeg.!$C$37),\"\")","v":""},0,0,"",null,null,"","","","","","",""]
[null,"",null,null,null,null,null,null,null,"","","","","","",null,null,null,null,null,null,null,null,null,null,null,"",0,0,{"$f":"IF(G872=Basisgeg.!$C$36,AB872-AB872/(1+Basisgeg.!$C$36),\"\")","v":""},{"$f":"IF(G872=Basisgeg.!$C$37,AB872-AB872/(1+Basisgeg.!$C$37),\"\")","v":""},0,0,"",null,null,"","","","","","",""]
[null,"",null,null,null,null,null,null,null,"","","","","","",null,null,null,null,null,null,null,null,null,null,null,"",0,0,{"$f":"IF(G873=Basisgeg.!$C$36,AB873-AB873/(1+Basisgeg.!$C$36),\"\")","v":""},{"$f":"IF(G873=Basisgeg.!$C$37,AB873-AB873/(1+Basisgeg.!$C$37),\"\")","v":""},0,0,"",null,null,"","","","","","",""]
[null,"",null,null,null,null,null,null,null,"","","","","","",null,null,null,null,null,null,null,null,null,null,null,"",0,0,{"$f":"IF(G874=Basisgeg.!$C$36,AB874-AB874/(1+Basisgeg.!$C$36),\"\")","v":""},{"$f":"IF(G874=Basisgeg.!$C$37,AB874-AB874/(1+Basisgeg.!$C$37),\"\")","v":""},0,0,"",null,null,"","","","","","",""]
[null,"",null,null,null,null,null,null,null,"","","","","","",null,null,null,null,null,null,null,null,null,null,null,"",0,0,{"$f":"IF(G875=Basisgeg.!$C$36,AB875-AB875/(1+Basisgeg.!$C$36),\"\")","v":""},{"$f":"IF(G875=Basisgeg.!$C$37,AB875-AB875/(1+Basisgeg.!$C$37),\"\")","v":""},0,0,"",null,null,"","","","","","",""]
[null,"",null,null,null,null,null,null,null,"","","","","","",null,null,null,null,null,null,null,null,null,null,null,"",0,0,{"$f":"IF(G876=Basisgeg.!$C$36,AB876-AB876/(1+Basisgeg.!$C$36),\"\")","v":""},{"$f":"IF(G876=Basisgeg.!$C$37,AB876-AB876/(1+Basisgeg.!$C$37),\"\")","v":""},0,0,"",null,null,"","","","","","",""]
[null,"",null,null,null,null,null,null,null,"","","","","","",null,null,null,null,null,null,null,null,null,null,null,"",0,0,{"$f":"IF(G877=Basisgeg.!$C$36,AB877-AB877/(1+Basisgeg.!$C$36),\"\")","v":""},{"$f":"IF(G877=Basisgeg.!$C$37,AB877-AB877/(1+Basisgeg.!$C$37),\"\")","v":""},0,0,"",null,null,"","","","","","",""]
[null,"",null,null,null,null,null,null,null,"","","","","","",null,null,null,null,null,null,null,null,null,null,null,"",0,0,{"$f":"IF(G878=Basisgeg.!$C$36,AB878-AB878/(1+Basisgeg.!$C$36),\"\")","v":""},{"$f":"IF(G878=Basisgeg.!$C$37,AB878-AB878/(1+Basisgeg.!$C$37),\"\")","v":""},0,0,"",null,null,"","","","","","",""]
[null,"",null,null,null,null,null,null,null,"","","","","","",null,null,null,null,null,null,null,null,null,null,null,"",0,0,{"$f":"IF(G879=Basisgeg.!$C$36,AB879-AB879/(1+Basisgeg.!$C$36),\"\")","v":""},{"$f":"IF(G879=Basisgeg.!$C$37,AB879-AB879/(1+Basisgeg.!$C$37),\"\")","v":""},0,0,"",null,null,"","","","","","",""]
[null,"",null,null,null,null,null,null,null,{"$f":"IF(B880=\"\",\"\",IF(AND(H880=\"\",I880=\"\"),\"\",IF(AND(E880<>\"\",F880<>\"\"),\"FOUT\",IF(AND(E880=\"\",H880<>\"\"),\"FOUT\",IF(AND(F880=\"\",I880<>\"\"),\"FOUT\",IF(G880=\"\",\"BTW ?\",\"OK\"))))))","v":""},"","","","","",null,null,null,null,null,null,null,null,null,null,null,"",0,0,{"$f":"IF(G880=Basisgeg.!$C$36,AB880-AB880/(1+Basisgeg.!$C$36),\"\")","v":""},{"$f":"IF(G880=Basisgeg.!$C$37,AB880-AB880/(1+Basisgeg.!$C$37),\"\")","v":""},0,0,"",null,null,{"$f":"IF($AA880=$AJ$5,AB880,\"\")","v":""},{"$f":"IF($AA880=$AJ$5,AC880,\"\")","v":""},{"$f":"IF($AA880=$AJ$5,AD880,\"\")","v":""},{"$f":"IF($AA880=$AJ$5,AE880,\"\")","v":""},{"$f":"IF($AA880=$AJ$5,AF880,\"\")","v":""},{"$f":"IF($AA880=$AJ$5,AG880,\"\")","v":""},{"$f":"IF($AA880=$AJ$5,AH880,\"\")","v":""}]
[null,"",null,null,null,null,null,null,null,"","","","","","",null,null,null,null,null,null,null,null,null,null,null,"",0,0,{"$f":"IF(G881=Basisgeg.!$C$36,AB881-AB881/(1+Basisgeg.!$C$36),\"\")","v":""},{"$f":"IF(G881=Basisgeg.!$C$37,AB881-AB881/(1+Basisgeg.!$C$37),\"\")","v":""},0,0,"",null,null,"","","","","","",""]
[null,"",null,null,null,null,null,null,null,"","","","","","",null,null,null,null,null,null,null,null,null,null,null,"",0,0,{"$f":"IF(G882=Basisgeg.!$C$36,AB882-AB882/(1+Basisgeg.!$C$36),\"\")","v":""},{"$f":"IF(G882=Basisgeg.!$C$37,AB882-AB882/(1+Basisgeg.!$C$37),\"\")","v":""},0,0,"",null,null,"","","","","","",""]
[null,"",null,null,null,null,null,null,null,"","","","","","",null,null,null,null,null,null,null,null,null,null,null,"",0,0,{"$f":"IF(G883=Basisgeg.!$C$36,AB883-AB883/(1+Basisgeg.!$C$36),\"\")","v":""},{"$f":"IF(G883=Basisgeg.!$C$37,AB883-AB883/(1+Basisgeg.!$C$37),\"\")","v":""},0,0,"",null,null,"","","","","","",""]
[null,"",null,null,null,null,null,null,null,"","","","","","",null,null,null,null,null,null,null,null,null,null,null,"",0,0,{"$f":"IF(G884=Basisgeg.!$C$36,AB884-AB884/(1+Basisgeg.!$C$36),\"\")","v":""},{"$f":"IF(G884=Basisgeg.!$C$37,AB884-AB884/(1+Basisgeg.!$C$37),\"\")","v":""},0,0,"",null,null,"","","","","","",""]
[null,"",null,null,null,null,null,null,null,"","","","","","",null,null,null,null,null,null,null,null,null,null,null,"",0,0,{"$f":"IF(G885=Basisgeg.!$C$36,AB885-AB885/(1+Basisgeg.!$C$36),\"\")","v":""},{"$f":"IF(G885=Basisgeg.!$C$37,AB885-AB885/(1+Basisgeg.!$C$37),\"\")","v":""},0,0,"",null,null,"","","","","","",""]
[null,"",null,null,null,null,null,null,null,"","","","","","",null,null,null,null,null,null,null,null,null,null,null,"",0,0,{"$f":"IF(G886=Basisgeg.!$C$36,AB886-AB886/(1+Basisgeg.!$C$36),\"\")","v":""},{"$f":"IF(G886=Basisgeg.!$C$37,AB886-AB886/(1+Basisgeg.!$C$37),\"\")","v":""},0,0,"",null,null,"","","","","","",""]
[null,"",null,null,null,null,null,null,null,"","","","","","",null,null,null,null,null,null,null,null,null,null,null,"",0,0,{"$f":"IF(G887=Basisgeg.!$C$36,AB887-AB887/(1+Basisgeg.!$C$36),\"\")","v":""},{"$f":"IF(G887=Basisgeg.!$C$37,AB887-AB887/(1+Basisgeg.!$C$37),\"\")","v":""},0,0,"",null,null,"","","","","","",""]
[null,"",null,null,null,null,null,null,null,"","","","","","",null,null,null,null,null,null,null,null,null,null,null,"",0,0,{"$f":"IF(G888=Basisgeg.!$C$36,AB888-AB888/(1+Basisgeg.!$C$36),\"\")","v":""},{"$f":"IF(G888=Basisgeg.!$C$37,AB888-AB888/(1+Basisgeg.!$C$37),\"\")","v":""},0,0,"",null,null,"","","","","","",""]
[null,"",null,null,null,null,null,null,null,"","","","","","",null,null,null,null,null,null,null,null,null,null,null,"",0,0,{"$f":"IF(G889=Basisgeg.!$C$36,AB889-AB889/(1+Basisgeg.!$C$36),\"\")","v":""},{"$f":"IF(G889=Basisgeg.!$C$37,AB889-AB889/(1+Basisgeg.!$C$37),\"\")","v":""},0,0,"",null,null,"","","","","","",""]
[null,"",null,null,null,null,null,null,null,"","","","","","",null,null,null,null,null,null,null,null,null,null,null,"",0,0,{"$f":"IF(G890=Basisgeg.!$C$36,AB890-AB890/(1+Basisgeg.!$C$36),\"\")","v":""},{"$f":"IF(G890=Basisgeg.!$C$37,AB890-AB890/(1+Basisgeg.!$C$37),\"\")","v":""},0,0,"",null,null,"","","","","","",""]
[null,"",null,null,null,null,null,null,null,"","","","","","",null,null,null,null,null,null,null,null,null,null,null,"",0,0,{"$f":"IF(G891=Basisgeg.!$C$36,AB891-AB891/(1+Basisgeg.!$C$36),\"\")","v":""},{"$f":"IF(G891=Basisgeg.!$C$37,AB891-AB891/(1+Basisgeg.!$C$37),\"\")","v":""},0,0,"",null,null,"","","","","","",""]
[null,"",null,null,null,null,null,null,null,"","","","","","",null,null,null,null,null,null,null,null,null,null,null,"",0,0,{"$f":"IF(G892=Basisgeg.!$C$36,AB892-AB892/(1+Basisgeg.!$C$36),\"\")","v":""},{"$f":"IF(G892=Basisgeg.!$C$37,AB892-AB892/(1+Basisgeg.!$C$37),\"\")","v":""},0,0,"",null,null,"","","","","","",""]
[null,"",null,null,null,null,null,null,null,"","","","","","",null,null,null,null,null,null,null,null,null,null,null,"",0,0,{"$f":"IF(G893=Basisgeg.!$C$36,AB893-AB893/(1+Basisgeg.!$C$36),\"\")","v":""},{"$f":"IF(G893=Basisgeg.!$C$37,AB893-AB893/(1+Basisgeg.!$C$37),\"\")","v":""},0,0,"",null,null,"","","","","","",""]
[null,"",null,null,null,null,null,null,null,"","","","","","",null,null,null,null,null,null,null,null,null,null,null,"",0,0,{"$f":"IF(G894=Basisgeg.!$C$36,AB894-AB894/(1+Basisgeg.!$C$36),\"\")","v":""},{"$f":"IF(G894=Basisgeg.!$C$37,AB894-AB894/(1+Basisgeg.!$C$37),\"\")","v":""},0,0,"",null,null,"","","","","","",""]
[null,"",null,null,null,null,null,null,null,"","","","","","",null,null,null,null,null,null,null,null,null,null,null,"",0,0,{"$f":"IF(G895=Basisgeg.!$C$36,AB895-AB895/(1+Basisgeg.!$C$36),\"\")","v":""},{"$f":"IF(G895=Basisgeg.!$C$37,AB895-AB895/(1+Basisgeg.!$C$37),\"\")","v":""},0,0,"",null,null,"","","","","","",""]
[null,"",null,null,null,null,null,null,null,"","","","","","",null,null,null,null,null,null,null,null,null,null,null,"",0,0,{"$f":"IF(G896=Basisgeg.!$C$36,AB896-AB896/(1+Basisgeg.!$C$36),\"\")","v":""},{"$f":"IF(G896=Basisgeg.!$C$37,AB896-AB896/(1+Basisgeg.!$C$37),\"\")","v":""},0,0,"",null,null,"","","","","","",""]
[null,"",null,null,null,null,null,null,null,"","","","","","",null,null,null,null,null,null,null,null,null,null,null,"",0,0,{"$f":"IF(G897=Basisgeg.!$C$36,AB897-AB897/(1+Basisgeg.!$C$36),\"\")","v":""},{"$f":"IF(G897=Basisgeg.!$C$37,AB897-AB897/(1+Basisgeg.!$C$37),\"\")","v":""},0,0,"",null,null,"","","","","","",""]
[null,"",null,null,null,null,null,null,null,"","","","","","",null,null,null,null,null,null,null,null,null,null,null,"",0,0,{"$f":"IF(G898=Basisgeg.!$C$36,AB898-AB898/(1+Basisgeg.!$C$36),\"\")","v":""},{"$f":"IF(G898=Basisgeg.!$C$37,AB898-AB898/(1+Basisgeg.!$C$37),\"\")","v":""},0,0,"",null,null,"","","","","","",""]
[null,"",null,null,null,null,null,null,null,"","","","","","",null,null,null,null,null,null,null,null,null,null,null,"",0,0,{"$f":"IF(G899=Basisgeg.!$C$36,AB899-AB899/(1+Basisgeg.!$C$36),\"\")","v":""},{"$f":"IF(G899=Basisgeg.!$C$37,AB899-AB899/(1+Basisgeg.!$C$37),\"\")","v":""},0,0,"",null,null,"","","","","","",""]
[null,"",null,null,null,null,null,null,null,"","","","","","",null,null,null,null,null,null,null,null,null,null,null,"",0,0,{"$f":"IF(G900=Basisgeg.!$C$36,AB900-AB900/(1+Basisgeg.!$C$36),\"\")","v":""},{"$f":"IF(G900=Basisgeg.!$C$37,AB900-AB900/(1+Basisgeg.!$C$37),\"\")","v":""},0,0,"",null,null,"","","","","","",""]
[null,"",null,null,null,null,null,null,null,"","","","","","",null,null,null,null,null,null,null,null,null,null,null,{"$f":"IF(C901<>\"\",MONTH(C901),\"\")","v":""},{"$f":"+H901","v":0},{"$f":"E901","v":0},{"$f":"IF(G901=Basisgeg.!$C$36,AB901-AB901/(1+Basisgeg.!$C$36),\"\")","v":""},{"$f":"IF(G901=Basisgeg.!$C$37,AB901-AB901/(1+Basisgeg.!$C$37),\"\")","v":""},{"$f":"I901","v":0},{"$f":"F901","v":0},{"$f":"L901","v":""},null,null,"","","","","","",""]
[null,{"$f":"IF(C902=\"\",\"\",IF(B901=\"Nr.\",1,B901+1))","v":""},null,null,null,null,null,null,null,"",{"$f":"IF(H902=\"\",\"\",(H902/((1+$G902)*100))*($G902*100))","v":""},{"$f":"IF(I902=\"\",\"\",(I902/((1+$G902)*100))*($G902*100))","v":""},{"$f":"IF(H902=\"\",\"\",+H902-K902)","v":""},{"$f":"IF(I902=\"\",\"\",+I902-L902)","v":""},{"$f":"IF(C902=\"\",\"\",MONTH(C902))","v":""},null,null,null,null,null,null,null,null,null,null,null,"",0,0,{"$f":"IF(G902=Basisgeg.!$C$36,AB902-AB902/(1+Basisgeg.!$C$36),\"\")","v":""},{"$f":"IF(G902=Basisgeg.!$C$37,AB902-AB902/(1+Basisgeg.!$C$37),\"\")","v":""},0,0,"",null,null,"","","","","","",""]
[null,"",null,null,null,null,null,null,null,"","","","","","",null,null,null,null,null,null,null,null,null,null,null,"",0,0,{"$f":"IF(G903=Basisgeg.!$C$36,AB903-AB903/(1+Basisgeg.!$C$36),\"\")","v":""},{"$f":"IF(G903=Basisgeg.!$C$37,AB903-AB903/(1+Basisgeg.!$C$37),\"\")","v":""},0,0,"",null,null,"","","","","","",""]
[null,"",null,null,null,null,null,null,null,"","","","","","",null,null,null,null,null,null,null,null,null,null,null,"",0,0,{"$f":"IF(G904=Basisgeg.!$C$36,AB904-AB904/(1+Basisgeg.!$C$36),\"\")","v":""},{"$f":"IF(G904=Basisgeg.!$C$37,AB904-AB904/(1+Basisgeg.!$C$37),\"\")","v":""},0,0,"",null,null,"","","","","","",""]
[null,"",null,null,null,null,null,null,null,"","","","","","",null,null,null,null,null,null,null,null,null,null,null,"",0,0,{"$f":"IF(G905=Basisgeg.!$C$36,AB905-AB905/(1+Basisgeg.!$C$36),\"\")","v":""},{"$f":"IF(G905=Basisgeg.!$C$37,AB905-AB905/(1+Basisgeg.!$C$37),\"\")","v":""},0,0,"",null,null,"","","","","","",""]
[null,"",null,null,null,null,null,null,null,"","","","","","",null,null,null,null,null,null,null,null,null,null,null,"",0,0,{"$f":"IF(G906=Basisgeg.!$C$36,AB906-AB906/(1+Basisgeg.!$C$36),\"\")","v":""},{"$f":"IF(G906=Basisgeg.!$C$37,AB906-AB906/(1+Basisgeg.!$C$37),\"\")","v":""},0,0,"",null,null,"","","","","","",""]
[null,"",null,null,null,null,null,null,null,"","","","","","",null,null,null,null,null,null,null,null,null,null,null,"",0,0,{"$f":"IF(G907=Basisgeg.!$C$36,AB907-AB907/(1+Basisgeg.!$C$36),\"\")","v":""},{"$f":"IF(G907=Basisgeg.!$C$37,AB907-AB907/(1+Basisgeg.!$C$37),\"\")","v":""},0,0,"",null,null,"","","","","","",""]
[null,"",null,null,null,null,null,null,null,"","","","","","",null,null,null,null,null,null,null,null,null,null,null,"",0,0,{"$f":"IF(G908=Basisgeg.!$C$36,AB908-AB908/(1+Basisgeg.!$C$36),\"\")","v":""},{"$f":"IF(G908=Basisgeg.!$C$37,AB908-AB908/(1+Basisgeg.!$C$37),\"\")","v":""},0,0,"",null,null,"","","","","","",""]
[null,"",null,null,null,null,null,null,null,"","","","","","",null,null,null,null,null,null,null,null,null,null,null,"",0,0,{"$f":"IF(G909=Basisgeg.!$C$36,AB909-AB909/(1+Basisgeg.!$C$36),\"\")","v":""},{"$f":"IF(G909=Basisgeg.!$C$37,AB909-AB909/(1+Basisgeg.!$C$37),\"\")","v":""},0,0,"",null,null,"","","","","","",""]
[null,"",null,null,null,null,null,null,null,"","","","","","",null,null,null,null,null,null,null,null,null,null,null,"",0,0,{"$f":"IF(G910=Basisgeg.!$C$36,AB910-AB910/(1+Basisgeg.!$C$36),\"\")","v":""},{"$f":"IF(G910=Basisgeg.!$C$37,AB910-AB910/(1+Basisgeg.!$C$37),\"\")","v":""},0,0,"",null,null,"","","","","","",""]
[null,"",null,null,null,null,null,null,null,"","","","","","",null,null,null,null,null,null,null,null,null,null,null,"",0,0,{"$f":"IF(G911=Basisgeg.!$C$36,AB911-AB911/(1+Basisgeg.!$C$36),\"\")","v":""},{"$f":"IF(G911=Basisgeg.!$C$37,AB911-AB911/(1+Basisgeg.!$C$37),\"\")","v":""},0,0,"",null,null,"","","","","","",""]
[null,"",null,null,null,null,null,null,null,"","","","","","",null,null,null,null,null,null,null,null,null,null,null,"",0,0,{"$f":"IF(G912=Basisgeg.!$C$36,AB912-AB912/(1+Basisgeg.!$C$36),\"\")","v":""},{"$f":"IF(G912=Basisgeg.!$C$37,AB912-AB912/(1+Basisgeg.!$C$37),\"\")","v":""},0,0,"",null,null,"","","","","","",""]
[null,"",null,null,null,null,null,null,null,"","","","","","",null,null,null,null,null,null,null,null,null,null,null,"",0,0,{"$f":"IF(G913=Basisgeg.!$C$36,AB913-AB913/(1+Basisgeg.!$C$36),\"\")","v":""},{"$f":"IF(G913=Basisgeg.!$C$37,AB913-AB913/(1+Basisgeg.!$C$37),\"\")","v":""},0,0,"",null,null,"","","","","","",""]
[null,"",null,null,null,null,null,null,null,"","","","","","",null,null,null,null,null,null,null,null,null,null,null,"",0,0,{"$f":"IF(G914=Basisgeg.!$C$36,AB914-AB914/(1+Basisgeg.!$C$36),\"\")","v":""},{"$f":"IF(G914=Basisgeg.!$C$37,AB914-AB914/(1+Basisgeg.!$C$37),\"\")","v":""},0,0,"",null,null,"","","","","","",""]
[null,"",null,null,null,null,null,null,null,"","","","","","",null,null,null,null,null,null,null,null,null,null,null,"",0,0,{"$f":"IF(G915=Basisgeg.!$C$36,AB915-AB915/(1+Basisgeg.!$C$36),\"\")","v":""},{"$f":"IF(G915=Basisgeg.!$C$37,AB915-AB915/(1+Basisgeg.!$C$37),\"\")","v":""},0,0,"",null,null,"","","","","","",""]
[null,"",null,null,null,null,null,null,null,"","","","","","",null,null,null,null,null,null,null,null,null,null,null,"",0,0,{"$f":"IF(G916=Basisgeg.!$C$36,AB916-AB916/(1+Basisgeg.!$C$36),\"\")","v":""},{"$f":"IF(G916=Basisgeg.!$C$37,AB916-AB916/(1+Basisgeg.!$C$37),\"\")","v":""},0,0,"",null,null,"","","","","","",""]
[null,"",null,null,null,null,null,null,null,"","","","","","",null,null,null,null,null,null,null,null,null,null,null,"",0,0,{"$f":"IF(G917=Basisgeg.!$C$36,AB917-AB917/(1+Basisgeg.!$C$36),\"\")","v":""},{"$f":"IF(G917=Basisgeg.!$C$37,AB917-AB917/(1+Basisgeg.!$C$37),\"\")","v":""},0,0,"",null,null,"","","","","","",""]
[null,"",null,null,null,null,null,null,null,"","","","","","",null,null,null,null,null,null,null,null,null,null,null,"",0,0,{"$f":"IF(G918=Basisgeg.!$C$36,AB918-AB918/(1+Basisgeg.!$C$36),\"\")","v":""},{"$f":"IF(G918=Basisgeg.!$C$37,AB918-AB918/(1+Basisgeg.!$C$37),\"\")","v":""},0,0,"",null,null,"","","","","","",""]
[null,"",null,null,null,null,null,null,null,"","","","","","",null,null,null,null,null,null,null,null,null,null,null,"",0,0,{"$f":"IF(G919=Basisgeg.!$C$36,AB919-AB919/(1+Basisgeg.!$C$36),\"\")","v":""},{"$f":"IF(G919=Basisgeg.!$C$37,AB919-AB919/(1+Basisgeg.!$C$37),\"\")","v":""},0,0,"",null,null,"","","","","","",""]
[null,"",null,null,null,null,null,null,null,"","","","","","",null,null,null,null,null,null,null,null,null,null,null,"",0,0,{"$f":"IF(G920=Basisgeg.!$C$36,AB920-AB920/(1+Basisgeg.!$C$36),\"\")","v":""},{"$f":"IF(G920=Basisgeg.!$C$37,AB920-AB920/(1+Basisgeg.!$C$37),\"\")","v":""},0,0,"",null,null,"","","","","","",""]
[null,"",null,null,null,null,null,null,null,"","","","","","",null,null,null,null,null,null,null,null,null,null,null,"",0,0,{"$f":"IF(G921=Basisgeg.!$C$36,AB921-AB921/(1+Basisgeg.!$C$36),\"\")","v":""},{"$f":"IF(G921=Basisgeg.!$C$37,AB921-AB921/(1+Basisgeg.!$C$37),\"\")","v":""},0,0,"",null,null,"","","","","","",""]
[null,"",null,null,null,null,null,null,null,"","","","","","",null,null,null,null,null,null,null,null,null,null,null,"",0,0,{"$f":"IF(G922=Basisgeg.!$C$36,AB922-AB922/(1+Basisgeg.!$C$36),\"\")","v":""},{"$f":"IF(G922=Basisgeg.!$C$37,AB922-AB922/(1+Basisgeg.!$C$37),\"\")","v":""},0,0,"",null,null,"","","","","","",""]
[null,"",null,null,null,null,null,null,null,"","","","","","",null,null,null,null,null,null,null,null,null,null,null,"",0,0,{"$f":"IF(G923=Basisgeg.!$C$36,AB923-AB923/(1+Basisgeg.!$C$36),\"\")","v":""},{"$f":"IF(G923=Basisgeg.!$C$37,AB923-AB923/(1+Basisgeg.!$C$37),\"\")","v":""},0,0,"",null,null,"","","","","","",""]
[null,"",null,null,null,null,null,null,null,"","","","","","",null,null,null,null,null,null,null,null,null,null,null,"",0,0,{"$f":"IF(G924=Basisgeg.!$C$36,AB924-AB924/(1+Basisgeg.!$C$36),\"\")","v":""},{"$f":"IF(G924=Basisgeg.!$C$37,AB924-AB924/(1+Basisgeg.!$C$37),\"\")","v":""},0,0,"",null,null,"","","","","","",""]
[null,"",null,null,null,null,null,null,null,"","","","","","",null,null,null,null,null,null,null,null,null,null,null,"",0,0,{"$f":"IF(G925=Basisgeg.!$C$36,AB925-AB925/(1+Basisgeg.!$C$36),\"\")","v":""},{"$f":"IF(G925=Basisgeg.!$C$37,AB925-AB925/(1+Basisgeg.!$C$37),\"\")","v":""},0,0,"",null,null,"","","","","","",""]
[null,"",null,null,null,null,null,null,null,"","","","","","",null,null,null,null,null,null,null,null,null,null,null,"",0,0,{"$f":"IF(G926=Basisgeg.!$C$36,AB926-AB926/(1+Basisgeg.!$C$36),\"\")","v":""},{"$f":"IF(G926=Basisgeg.!$C$37,AB926-AB926/(1+Basisgeg.!$C$37),\"\")","v":""},0,0,"",null,null,"","","","","","",""]
[null,"",null,null,null,null,null,null,null,"","","","","","",null,null,null,null,null,null,null,null,null,null,null,"",0,0,{"$f":"IF(G927=Basisgeg.!$C$36,AB927-AB927/(1+Basisgeg.!$C$36),\"\")","v":""},{"$f":"IF(G927=Basisgeg.!$C$37,AB927-AB927/(1+Basisgeg.!$C$37),\"\")","v":""},0,0,"",null,null,"","","","","","",""]
[null,"",null,null,null,null,null,null,null,"","","","","","",null,null,null,null,null,null,null,null,null,null,null,"",0,0,{"$f":"IF(G928=Basisgeg.!$C$36,AB928-AB928/(1+Basisgeg.!$C$36),\"\")","v":""},{"$f":"IF(G928=Basisgeg.!$C$37,AB928-AB928/(1+Basisgeg.!$C$37),\"\")","v":""},0,0,"",null,null,"","","","","","",""]
[null,"",null,null,null,null,null,null,null,"","","","","","",null,null,null,null,null,null,null,null,null,null,null,"",0,0,{"$f":"IF(G929=Basisgeg.!$C$36,AB929-AB929/(1+Basisgeg.!$C$36),\"\")","v":""},{"$f":"IF(G929=Basisgeg.!$C$37,AB929-AB929/(1+Basisgeg.!$C$37),\"\")","v":""},0,0,"",null,null,"","","","","","",""]
[null,"",null,null,null,null,null,null,null,"","","","","","",null,null,null,null,null,null,null,null,null,null,null,"",0,0,{"$f":"IF(G930=Basisgeg.!$C$36,AB930-AB930/(1+Basisgeg.!$C$36),\"\")","v":""},{"$f":"IF(G930=Basisgeg.!$C$37,AB930-AB930/(1+Basisgeg.!$C$37),\"\")","v":""},0,0,"",null,null,"","","","","","",""]
[null,"",null,null,null,null,null,null,null,"","","","","","",null,null,null,null,null,null,null,null,null,null,null,"",0,0,{"$f":"IF(G931=Basisgeg.!$C$36,AB931-AB931/(1+Basisgeg.!$C$36),\"\")","v":""},{"$f":"IF(G931=Basisgeg.!$C$37,AB931-AB931/(1+Basisgeg.!$C$37),\"\")","v":""},0,0,"",null,null,"","","","","","",""]
[null,"",null,null,null,null,null,null,null,"","","","","","",null,null,null,null,null,null,null,null,null,null,null,"",0,0,{"$f":"IF(G932=Basisgeg.!$C$36,AB932-AB932/(1+Basisgeg.!$C$36),\"\")","v":""},{"$f":"IF(G932=Basisgeg.!$C$37,AB932-AB932/(1+Basisgeg.!$C$37),\"\")","v":""},0,0,"",null,null,"","","","","","",""]
[null,"",null,null,null,null,null,null,null,"","","","","","",null,null,null,null,null,null,null,null,null,null,null,"",0,0,{"$f":"IF(G933=Basisgeg.!$C$36,AB933-AB933/(1+Basisgeg.!$C$36),\"\")","v":""},{"$f":"IF(G933=Basisgeg.!$C$37,AB933-AB933/(1+Basisgeg.!$C$37),\"\")","v":""},0,0,"",null,null,"","","","","","",""]
[null,"",null,null,null,null,null,null,null,"","","","","","",null,null,null,null,null,null,null,null,null,null,null,"",0,0,{"$f":"IF(G934=Basisgeg.!$C$36,AB934-AB934/(1+Basisgeg.!$C$36),\"\")","v":""},{"$f":"IF(G934=Basisgeg.!$C$37,AB934-AB934/(1+Basisgeg.!$C$37),\"\")","v":""},0,0,"",null,null,"","","","","","",""]
[null,"",null,null,null,null,null,null,null,"","","","","","",null,null,null,null,null,null,null,null,null,null,null,"",0,0,{"$f":"IF(G935=Basisgeg.!$C$36,AB935-AB935/(1+Basisgeg.!$C$36),\"\")","v":""},{"$f":"IF(G935=Basisgeg.!$C$37,AB935-AB935/(1+Basisgeg.!$C$37),\"\")","v":""},0,0,"",null,null,"","","","","","",""]
[null,"",null,null,null,null,null,null,null,"","","","","","",null,null,null,null,null,null,null,null,null,null,null,"",0,0,{"$f":"IF(G936=Basisgeg.!$C$36,AB936-AB936/(1+Basisgeg.!$C$36),\"\")","v":""},{"$f":"IF(G936=Basisgeg.!$C$37,AB936-AB936/(1+Basisgeg.!$C$37),\"\")","v":""},0,0,"",null,null,"","","","","","",""]
[null,"",null,null,null,null,null,null,null,"","","","","","",null,null,null,null,null,null,null,null,null,null,null,"",0,0,{"$f":"IF(G937=Basisgeg.!$C$36,AB937-AB937/(1+Basisgeg.!$C$36),\"\")","v":""},{"$f":"IF(G937=Basisgeg.!$C$37,AB937-AB937/(1+Basisgeg.!$C$37),\"\")","v":""},0,0,"",null,null,"","","","","","",""]
[null,"",null,null,null,null,null,null,null,"","","","","","",null,null,null,null,null,null,null,null,null,null,null,"",0,0,{"$f":"IF(G938=Basisgeg.!$C$36,AB938-AB938/(1+Basisgeg.!$C$36),\"\")","v":""},{"$f":"IF(G938=Basisgeg.!$C$37,AB938-AB938/(1+Basisgeg.!$C$37),\"\")","v":""},0,0,"",null,null,"","","","","","",""]
[null,"",null,null,null,null,null,null,null,"","","","","","",null,null,null,null,null,null,null,null,null,null,null,"",0,0,{"$f":"IF(G939=Basisgeg.!$C$36,AB939-AB939/(1+Basisgeg.!$C$36),\"\")","v":""},{"$f":"IF(G939=Basisgeg.!$C$37,AB939-AB939/(1+Basisgeg.!$C$37),\"\")","v":""},0,0,"",null,null,"","","","","","",""]
[null,"",null,null,null,null,null,null,null,"","","","","","",null,null,null,null,null,null,null,null,null,null,null,"",0,0,{"$f":"IF(G940=Basisgeg.!$C$36,AB940-AB940/(1+Basisgeg.!$C$36),\"\")","v":""},{"$f":"IF(G940=Basisgeg.!$C$37,AB940-AB940/(1+Basisgeg.!$C$37),\"\")","v":""},0,0,"",null,null,"","","","","","",""]
[null,"",null,null,null,null,null,null,null,"","","","","","",null,null,null,null,null,null,null,null,null,null,null,"",0,0,{"$f":"IF(G941=Basisgeg.!$C$36,AB941-AB941/(1+Basisgeg.!$C$36),\"\")","v":""},{"$f":"IF(G941=Basisgeg.!$C$37,AB941-AB941/(1+Basisgeg.!$C$37),\"\")","v":""},0,0,"",null,null,"","","","","","",""]
[null,"",null,null,null,null,null,null,null,"","","","","","",null,null,null,null,null,null,null,null,null,null,null,"",0,0,{"$f":"IF(G942=Basisgeg.!$C$36,AB942-AB942/(1+Basisgeg.!$C$36),\"\")","v":""},{"$f":"IF(G942=Basisgeg.!$C$37,AB942-AB942/(1+Basisgeg.!$C$37),\"\")","v":""},0,0,"",null,null,"","","","","","",""]
[null,"",null,null,null,null,null,null,null,"","","","","","",null,null,null,null,null,null,null,null,null,null,null,"",0,0,{"$f":"IF(G943=Basisgeg.!$C$36,AB943-AB943/(1+Basisgeg.!$C$36),\"\")","v":""},{"$f":"IF(G943=Basisgeg.!$C$37,AB943-AB943/(1+Basisgeg.!$C$37),\"\")","v":""},0,0,"",null,null,"","","","","","",""]
[null,"",null,null,null,null,null,null,null,{"$f":"IF(B944=\"\",\"\",IF(AND(H944=\"\",I944=\"\"),\"\",IF(AND(E944<>\"\",F944<>\"\"),\"FOUT\",IF(AND(E944=\"\",H944<>\"\"),\"FOUT\",IF(AND(F944=\"\",I944<>\"\"),\"FOUT\",IF(G944=\"\",\"BTW ?\",\"OK\"))))))","v":""},"","","","","",null,null,null,null,null,null,null,null,null,null,null,"",0,0,{"$f":"IF(G944=Basisgeg.!$C$36,AB944-AB944/(1+Basisgeg.!$C$36),\"\")","v":""},{"$f":"IF(G944=Basisgeg.!$C$37,AB944-AB944/(1+Basisgeg.!$C$37),\"\")","v":""},0,0,"",null,null,{"$f":"IF($AA944=$AJ$5,AB944,\"\")","v":""},{"$f":"IF($AA944=$AJ$5,AC944,\"\")","v":""},{"$f":"IF($AA944=$AJ$5,AD944,\"\")","v":""},{"$f":"IF($AA944=$AJ$5,AE944,\"\")","v":""},{"$f":"IF($AA944=$AJ$5,AF944,\"\")","v":""},{"$f":"IF($AA944=$AJ$5,AG944,\"\")","v":""},{"$f":"IF($AA944=$AJ$5,AH944,\"\")","v":""}]
[null,"",null,null,null,null,null,null,null,"","","","","","",null,null,null,null,null,null,null,null,null,null,null,"",0,0,{"$f":"IF(G945=Basisgeg.!$C$36,AB945-AB945/(1+Basisgeg.!$C$36),\"\")","v":""},{"$f":"IF(G945=Basisgeg.!$C$37,AB945-AB945/(1+Basisgeg.!$C$37),\"\")","v":""},0,0,"",null,null,"","","","","","",""]
[null,"",null,null,null,null,null,null,null,"","","","","","",null,null,null,null,null,null,null,null,null,null,null,"",0,0,{"$f":"IF(G946=Basisgeg.!$C$36,AB946-AB946/(1+Basisgeg.!$C$36),\"\")","v":""},{"$f":"IF(G946=Basisgeg.!$C$37,AB946-AB946/(1+Basisgeg.!$C$37),\"\")","v":""},0,0,"",null,null,"","","","","","",""]
[null,"",null,null,null,null,null,null,null,"","","","","","",null,null,null,null,null,null,null,null,null,null,null,"",0,0,{"$f":"IF(G947=Basisgeg.!$C$36,AB947-AB947/(1+Basisgeg.!$C$36),\"\")","v":""},{"$f":"IF(G947=Basisgeg.!$C$37,AB947-AB947/(1+Basisgeg.!$C$37),\"\")","v":""},0,0,"",null,null,"","","","","","",""]
[null,"",null,null,null,null,null,null,null,"","","","","","",null,null,null,null,null,null,null,null,null,null,null,"",0,0,{"$f":"IF(G948=Basisgeg.!$C$36,AB948-AB948/(1+Basisgeg.!$C$36),\"\")","v":""},{"$f":"IF(G948=Basisgeg.!$C$37,AB948-AB948/(1+Basisgeg.!$C$37),\"\")","v":""},0,0,"",null,null,"","","","","","",""]
[null,"",null,null,null,null,null,null,null,"","","","","","",null,null,null,null,null,null,null,null,null,null,null,"",0,0,{"$f":"IF(G949=Basisgeg.!$C$36,AB949-AB949/(1+Basisgeg.!$C$36),\"\")","v":""},{"$f":"IF(G949=Basisgeg.!$C$37,AB949-AB949/(1+Basisgeg.!$C$37),\"\")","v":""},0,0,"",null,null,"","","","","","",""]
[null,"",null,null,null,null,null,null,null,"","","","","","",null,null,null,null,null,null,null,null,null,null,null,"",0,0,{"$f":"IF(G950=Basisgeg.!$C$36,AB950-AB950/(1+Basisgeg.!$C$36),\"\")","v":""},{"$f":"IF(G950=Basisgeg.!$C$37,AB950-AB950/(1+Basisgeg.!$C$37),\"\")","v":""},0,0,"",null,null,"","","","","","",""]
[null,"",null,null,null,null,null,null,null,"","","","","","",null,null,null,null,null,null,null,null,null,null,null,"",0,0,{"$f":"IF(G951=Basisgeg.!$C$36,AB951-AB951/(1+Basisgeg.!$C$36),\"\")","v":""},{"$f":"IF(G951=Basisgeg.!$C$37,AB951-AB951/(1+Basisgeg.!$C$37),\"\")","v":""},0,0,"",null,null,"","","","","","",""]
[null,"",null,null,null,null,null,null,null,"","","","","","",null,null,null,null,null,null,null,null,null,null,null,"",0,0,{"$f":"IF(G952=Basisgeg.!$C$36,AB952-AB952/(1+Basisgeg.!$C$36),\"\")","v":""},{"$f":"IF(G952=Basisgeg.!$C$37,AB952-AB952/(1+Basisgeg.!$C$37),\"\")","v":""},0,0,"",null,null,"","","","","","",""]
[null,"",null,null,null,null,null,null,null,"","","","","","",null,null,null,null,null,null,null,null,null,null,null,"",0,0,{"$f":"IF(G953=Basisgeg.!$C$36,AB953-AB953/(1+Basisgeg.!$C$36),\"\")","v":""},{"$f":"IF(G953=Basisgeg.!$C$37,AB953-AB953/(1+Basisgeg.!$C$37),\"\")","v":""},0,0,"",null,null,"","","","","","",""]
[null,"",null,null,null,null,null,null,null,"","","","","","",null,null,null,null,null,null,null,null,null,null,null,"",0,0,{"$f":"IF(G954=Basisgeg.!$C$36,AB954-AB954/(1+Basisgeg.!$C$36),\"\")","v":""},{"$f":"IF(G954=Basisgeg.!$C$37,AB954-AB954/(1+Basisgeg.!$C$37),\"\")","v":""},0,0,"",null,null,"","","","","","",""]
[null,"",null,null,null,null,null,null,null,"","","","","","",null,null,null,null,null,null,null,null,null,null,null,"",0,0,{"$f":"IF(G955=Basisgeg.!$C$36,AB955-AB955/(1+Basisgeg.!$C$36),\"\")","v":""},{"$f":"IF(G955=Basisgeg.!$C$37,AB955-AB955/(1+Basisgeg.!$C$37),\"\")","v":""},0,0,"",null,null,"","","","","","",""]
[null,"",null,null,null,null,null,null,null,"","","","","","",null,null,null,null,null,null,null,null,null,null,null,"",0,0,{"$f":"IF(G956=Basisgeg.!$C$36,AB956-AB956/(1+Basisgeg.!$C$36),\"\")","v":""},{"$f":"IF(G956=Basisgeg.!$C$37,AB956-AB956/(1+Basisgeg.!$C$37),\"\")","v":""},0,0,"",null,null,"","","","","","",""]
[null,"",null,null,null,null,null,null,null,"","","","","","",null,null,null,null,null,null,null,null,null,null,null,"",0,0,{"$f":"IF(G957=Basisgeg.!$C$36,AB957-AB957/(1+Basisgeg.!$C$36),\"\")","v":""},{"$f":"IF(G957=Basisgeg.!$C$37,AB957-AB957/(1+Basisgeg.!$C$37),\"\")","v":""},0,0,"",null,null,"","","","","","",""]
[null,"",null,null,null,null,null,null,null,"","","","","","",null,null,null,null,null,null,null,null,null,null,null,"",0,0,{"$f":"IF(G958=Basisgeg.!$C$36,AB958-AB958/(1+Basisgeg.!$C$36),\"\")","v":""},{"$f":"IF(G958=Basisgeg.!$C$37,AB958-AB958/(1+Basisgeg.!$C$37),\"\")","v":""},0,0,"",null,null,"","","","","","",""]
[null,"",null,null,null,null,null,null,null,"","","","","","",null,null,null,null,null,null,null,null,null,null,null,"",0,0,{"$f":"IF(G959=Basisgeg.!$C$36,AB959-AB959/(1+Basisgeg.!$C$36),\"\")","v":""},{"$f":"IF(G959=Basisgeg.!$C$37,AB959-AB959/(1+Basisgeg.!$C$37),\"\")","v":""},0,0,"",null,null,"","","","","","",""]
[null,"",null,null,null,null,null,null,null,"","","","","","",null,null,null,null,null,null,null,null,null,null,null,"",0,0,{"$f":"IF(G960=Basisgeg.!$C$36,AB960-AB960/(1+Basisgeg.!$C$36),\"\")","v":""},{"$f":"IF(G960=Basisgeg.!$C$37,AB960-AB960/(1+Basisgeg.!$C$37),\"\")","v":""},0,0,"",null,null,"","","","","","",""]
[null,"",null,null,null,null,null,null,null,"","","","","","",null,null,null,null,null,null,null,null,null,null,null,"",0,0,{"$f":"IF(G961=Basisgeg.!$C$36,AB961-AB961/(1+Basisgeg.!$C$36),\"\")","v":""},{"$f":"IF(G961=Basisgeg.!$C$37,AB961-AB961/(1+Basisgeg.!$C$37),\"\")","v":""},0,0,"",null,null,"","","","","","",""]
[null,"",null,null,null,null,null,null,null,"","","","","","",null,null,null,null,null,null,null,null,null,null,null,"",0,0,{"$f":"IF(G962=Basisgeg.!$C$36,AB962-AB962/(1+Basisgeg.!$C$36),\"\")","v":""},{"$f":"IF(G962=Basisgeg.!$C$37,AB962-AB962/(1+Basisgeg.!$C$37),\"\")","v":""},0,0,"",null,null,"","","","","","",""]
[null,"",null,null,null,null,null,null,null,"","","","","","",null,null,null,null,null,null,null,null,null,null,null,"",0,0,{"$f":"IF(G963=Basisgeg.!$C$36,AB963-AB963/(1+Basisgeg.!$C$36),\"\")","v":""},{"$f":"IF(G963=Basisgeg.!$C$37,AB963-AB963/(1+Basisgeg.!$C$37),\"\")","v":""},0,0,"",null,null,"","","","","","",""]
[null,"",null,null,null,null,null,null,null,"","","","","","",null,null,null,null,null,null,null,null,null,null,null,"",0,0,{"$f":"IF(G964=Basisgeg.!$C$36,AB964-AB964/(1+Basisgeg.!$C$36),\"\")","v":""},{"$f":"IF(G964=Basisgeg.!$C$37,AB964-AB964/(1+Basisgeg.!$C$37),\"\")","v":""},0,0,"",null,null,"","","","","","",""]
[null,"",null,null,null,null,null,null,null,"","","","","","",null,null,null,null,null,null,null,null,null,null,null,{"$f":"IF(C965<>\"\",MONTH(C965),\"\")","v":""},{"$f":"+H965","v":0},{"$f":"E965","v":0},{"$f":"IF(G965=Basisgeg.!$C$36,AB965-AB965/(1+Basisgeg.!$C$36),\"\")","v":""},{"$f":"IF(G965=Basisgeg.!$C$37,AB965-AB965/(1+Basisgeg.!$C$37),\"\")","v":""},{"$f":"I965","v":0},{"$f":"F965","v":0},{"$f":"L965","v":""},null,null,"","","","","","",""]
[null,{"$f":"IF(C966=\"\",\"\",IF(B965=\"Nr.\",1,B965+1))","v":""},null,null,null,null,null,null,null,"",{"$f":"IF(H966=\"\",\"\",(H966/((1+$G966)*100))*($G966*100))","v":""},{"$f":"IF(I966=\"\",\"\",(I966/((1+$G966)*100))*($G966*100))","v":""},{"$f":"IF(H966=\"\",\"\",+H966-K966)","v":""},{"$f":"IF(I966=\"\",\"\",+I966-L966)","v":""},{"$f":"IF(C966=\"\",\"\",MONTH(C966))","v":""},null,null,null,null,null,null,null,null,null,null,null,"",0,0,{"$f":"IF(G966=Basisgeg.!$C$36,AB966-AB966/(1+Basisgeg.!$C$36),\"\")","v":""},{"$f":"IF(G966=Basisgeg.!$C$37,AB966-AB966/(1+Basisgeg.!$C$37),\"\")","v":""},0,0,"",null,null,"","","","","","",""]
[null,"",null,null,null,null,null,null,null,"","","","","","",null,null,null,null,null,null,null,null,null,null,null,"",0,0,{"$f":"IF(G967=Basisgeg.!$C$36,AB967-AB967/(1+Basisgeg.!$C$36),\"\")","v":""},{"$f":"IF(G967=Basisgeg.!$C$37,AB967-AB967/(1+Basisgeg.!$C$37),\"\")","v":""},0,0,"",null,null,"","","","","","",""]
[null,"",null,null,null,null,null,null,null,"","","","","","",null,null,null,null,null,null,null,null,null,null,null,"",0,0,{"$f":"IF(G968=Basisgeg.!$C$36,AB968-AB968/(1+Basisgeg.!$C$36),\"\")","v":""},{"$f":"IF(G968=Basisgeg.!$C$37,AB968-AB968/(1+Basisgeg.!$C$37),\"\")","v":""},0,0,"",null,null,"","","","","","",""]
[null,"",null,null,null,null,null,null,null,"","","","","","",null,null,null,null,null,null,null,null,null,null,null,"",0,0,{"$f":"IF(G969=Basisgeg.!$C$36,AB969-AB969/(1+Basisgeg.!$C$36),\"\")","v":""},{"$f":"IF(G969=Basisgeg.!$C$37,AB969-AB969/(1+Basisgeg.!$C$37),\"\")","v":""},0,0,"",null,null,"","","","","","",""]
[null,"",null,null,null,null,null,null,null,"","","","","","",null,null,null,null,null,null,null,null,null,null,null,"",0,0,{"$f":"IF(G970=Basisgeg.!$C$36,AB970-AB970/(1+Basisgeg.!$C$36),\"\")","v":""},{"$f":"IF(G970=Basisgeg.!$C$37,AB970-AB970/(1+Basisgeg.!$C$37),\"\")","v":""},0,0,"",null,null,"","","","","","",""]
[null,"",null,null,null,null,null,null,null,"","","","","","",null,null,null,null,null,null,null,null,null,null,null,"",0,0,{"$f":"IF(G971=Basisgeg.!$C$36,AB971-AB971/(1+Basisgeg.!$C$36),\"\")","v":""},{"$f":"IF(G971=Basisgeg.!$C$37,AB971-AB971/(1+Basisgeg.!$C$37),\"\")","v":""},0,0,"",null,null,"","","","","","",""]
[null,"",null,null,null,null,null,null,null,"","","","","","",null,null,null,null,null,null,null,null,null,null,null,"",0,0,{"$f":"IF(G972=Basisgeg.!$C$36,AB972-AB972/(1+Basisgeg.!$C$36),\"\")","v":""},{"$f":"IF(G972=Basisgeg.!$C$37,AB972-AB972/(1+Basisgeg.!$C$37),\"\")","v":""},0,0,"",null,null,"","","","","","",""]
[null,"",null,null,null,null,null,null,null,"","","","","","",null,null,null,null,null,null,null,null,null,null,null,"",0,0,{"$f":"IF(G973=Basisgeg.!$C$36,AB973-AB973/(1+Basisgeg.!$C$36),\"\")","v":""},{"$f":"IF(G973=Basisgeg.!$C$37,AB973-AB973/(1+Basisgeg.!$C$37),\"\")","v":""},0,0,"",null,null,"","","","","","",""]
[null,"",null,null,null,null,null,null,null,"","","","","","",null,null,null,null,null,null,null,null,null,null,null,"",0,0,{"$f":"IF(G974=Basisgeg.!$C$36,AB974-AB974/(1+Basisgeg.!$C$36),\"\")","v":""},{"$f":"IF(G974=Basisgeg.!$C$37,AB974-AB974/(1+Basisgeg.!$C$37),\"\")","v":""},0,0,"",null,null,"","","","","","",""]
[null,"",null,null,null,null,null,null,null,"","","","","","",null,null,null,null,null,null,null,null,null,null,null,"",0,0,{"$f":"IF(G975=Basisgeg.!$C$36,AB975-AB975/(1+Basisgeg.!$C$36),\"\")","v":""},{"$f":"IF(G975=Basisgeg.!$C$37,AB975-AB975/(1+Basisgeg.!$C$37),\"\")","v":""},0,0,"",null,null,"","","","","","",""]
[null,"",null,null,null,null,null,null,null,"","","","","","",null,null,null,null,null,null,null,null,null,null,null,"",0,0,{"$f":"IF(G976=Basisgeg.!$C$36,AB976-AB976/(1+Basisgeg.!$C$36),\"\")","v":""},{"$f":"IF(G976=Basisgeg.!$C$37,AB976-AB976/(1+Basisgeg.!$C$37),\"\")","v":""},0,0,"",null,null,"","","","","","",""]
[null,"",null,null,null,null,null,null,null,"","","","","","",null,null,null,null,null,null,null,null,null,null,null,"",0,0,{"$f":"IF(G977=Basisgeg.!$C$36,AB977-AB977/(1+Basisgeg.!$C$36),\"\")","v":""},{"$f":"IF(G977=Basisgeg.!$C$37,AB977-AB977/(1+Basisgeg.!$C$37),\"\")","v":""},0,0,"",null,null,"","","","","","",""]
[null,"",null,null,null,null,null,null,null,"","","","","","",null,null,null,null,null,null,null,null,null,null,null,"",0,0,{"$f":"IF(G978=Basisgeg.!$C$36,AB978-AB978/(1+Basisgeg.!$C$36),\"\")","v":""},{"$f":"IF(G978=Basisgeg.!$C$37,AB978-AB978/(1+Basisgeg.!$C$37),\"\")","v":""},0,0,"",null,null,"","","","","","",""]
[null,"",null,null,null,null,null,null,null,"","","","","","",null,null,null,null,null,null,null,null,null,null,null,"",0,0,{"$f":"IF(G979=Basisgeg.!$C$36,AB979-AB979/(1+Basisgeg.!$C$36),\"\")","v":""},{"$f":"IF(G979=Basisgeg.!$C$37,AB979-AB979/(1+Basisgeg.!$C$37),\"\")","v":""},0,0,"",null,null,"","","","","","",""]
[null,"",null,null,null,null,null,null,null,"","","","","","",null,null,null,null,null,null,null,null,null,null,null,"",0,0,{"$f":"IF(G980=Basisgeg.!$C$36,AB980-AB980/(1+Basisgeg.!$C$36),\"\")","v":""},{"$f":"IF(G980=Basisgeg.!$C$37,AB980-AB980/(1+Basisgeg.!$C$37),\"\")","v":""},0,0,"",null,null,"","","","","","",""]
[null,"",null,null,null,null,null,null,null,"","","","","","",null,null,null,null,null,null,null,null,null,null,null,"",0,0,{"$f":"IF(G981=Basisgeg.!$C$36,AB981-AB981/(1+Basisgeg.!$C$36),\"\")","v":""},{"$f":"IF(G981=Basisgeg.!$C$37,AB981-AB981/(1+Basisgeg.!$C$37),\"\")","v":""},0,0,"",null,null,"","","","","","",""]
[null,"",null,null,null,null,null,null,null,"","","","","","",null,null,null,null,null,null,null,null,null,null,null,"",0,0,{"$f":"IF(G982=Basisgeg.!$C$36,AB982-AB982/(1+Basisgeg.!$C$36),\"\")","v":""},{"$f":"IF(G982=Basisgeg.!$C$37,AB982-AB982/(1+Basisgeg.!$C$37),\"\")","v":""},0,0,"",null,null,"","","","","","",""]
[null,"",null,null,null,null,null,null,null,"","","","","","",null,null,null,null,null,null,null,null,null,null,null,"",0,0,{"$f":"IF(G983=Basisgeg.!$C$36,AB983-AB983/(1+Basisgeg.!$C$36),\"\")","v":""},{"$f":"IF(G983=Basisgeg.!$C$37,AB983-AB983/(1+Basisgeg.!$C$37),\"\")","v":""},0,0,"",null,null,"","","","","","",""]
[null,"",null,null,null,null,null,null,null,"","","","","","",null,null,null,null,null,null,null,null,null,null,null,"",0,0,{"$f":"IF(G984=Basisgeg.!$C$36,AB984-AB984/(1+Basisgeg.!$C$36),\"\")","v":""},{"$f":"IF(G984=Basisgeg.!$C$37,AB984-AB984/(1+Basisgeg.!$C$37),\"\")","v":""},0,0,"",null,null,"","","","","","",""]
[null,"",null,null,null,null,null,null,null,"","","","","","",null,null,null,null,null,null,null,null,null,null,null,"",0,0,{"$f":"IF(G985=Basisgeg.!$C$36,AB985-AB985/(1+Basisgeg.!$C$36),\"\")","v":""},{"$f":"IF(G985=Basisgeg.!$C$37,AB985-AB985/(1+Basisgeg.!$C$37),\"\")","v":""},0,0,"",null,null,"","","","","","",""]
[null,"",null,null,null,null,null,null,null,"","","","","","",null,null,null,null,null,null,null,null,null,null,null,"",0,0,{"$f":"IF(G986=Basisgeg.!$C$36,AB986-AB986/(1+Basisgeg.!$C$36),\"\")","v":""},{"$f":"IF(G986=Basisgeg.!$C$37,AB986-AB986/(1+Basisgeg.!$C$37),\"\")","v":""},0,0,"",null,null,"","","","","","",""]
[null,"",null,null,null,null,null,null,null,"","","","","","",null,null,null,null,null,null,null,null,null,null,null,"",0,0,{"$f":"IF(G987=Basisgeg.!$C$36,AB987-AB987/(1+Basisgeg.!$C$36),\"\")","v":""},{"$f":"IF(G987=Basisgeg.!$C$37,AB987-AB987/(1+Basisgeg.!$C$37),\"\")","v":""},0,0,"",null,null,"","","","","","",""]
[null,"",null,null,null,null,null,null,null,"","","","","","",null,null,null,null,null,null,null,null,null,null,null,"",0,0,{"$f":"IF(G988=Basisgeg.!$C$36,AB988-AB988/(1+Basisgeg.!$C$36),\"\")","v":""},{"$f":"IF(G988=Basisgeg.!$C$37,AB988-AB988/(1+Basisgeg.!$C$37),\"\")","v":""},0,0,"",null,null,"","","","","","",""]
[null,"",null,null,null,null,null,null,null,"","","","","","",null,null,null,null,null,null,null,null,null,null,null,"",0,0,{"$f":"IF(G989=Basisgeg.!$C$36,AB989-AB989/(1+Basisgeg.!$C$36),\"\")","v":""},{"$f":"IF(G989=Basisgeg.!$C$37,AB989-AB989/(1+Basisgeg.!$C$37),\"\")","v":""},0,0,"",null,null,"","","","","","",""]
[null,"",null,null,null,null,null,null,null,"","","","","","",null,null,null,null,null,null,null,null,null,null,null,"",0,0,{"$f":"IF(G990=Basisgeg.!$C$36,AB990-AB990/(1+Basisgeg.!$C$36),\"\")","v":""},{"$f":"IF(G990=Basisgeg.!$C$37,AB990-AB990/(1+Basisgeg.!$C$37),\"\")","v":""},0,0,"",null,null,"","","","","","",""]
[null,"",null,null,null,null,null,null,null,"","","","","","",null,null,null,null,null,null,null,null,null,null,null,"",0,0,{"$f":"IF(G991=Basisgeg.!$C$36,AB991-AB991/(1+Basisgeg.!$C$36),\"\")","v":""},{"$f":"IF(G991=Basisgeg.!$C$37,AB991-AB991/(1+Basisgeg.!$C$37),\"\")","v":""},0,0,"",null,null,"","","","","","",""]
[null,"",null,null,null,null,null,null,null,"","","","","","",null,null,null,null,null,null,null,null,null,null,null,"",0,0,{"$f":"IF(G992=Basisgeg.!$C$36,AB992-AB992/(1+Basisgeg.!$C$36),\"\")","v":""},{"$f":"IF(G992=Basisgeg.!$C$37,AB992-AB992/(1+Basisgeg.!$C$37),\"\")","v":""},0,0,"",null,null,"","","","","","",""]
[null,"",null,null,null,null,null,null,null,"","","","","","",null,null,null,null,null,null,null,null,null,null,null,"",0,0,{"$f":"IF(G993=Basisgeg.!$C$36,AB993-AB993/(1+Basisgeg.!$C$36),\"\")","v":""},{"$f":"IF(G993=Basisgeg.!$C$37,AB993-AB993/(1+Basisgeg.!$C$37),\"\")","v":""},0,0,"",null,null,"","","","","","",""]
[null,"",null,null,null,null,null,null,null,"","","","","","",null,null,null,null,null,null,null,null,null,null,null,"",0,0,{"$f":"IF(G994=Basisgeg.!$C$36,AB994-AB994/(1+Basisgeg.!$C$36),\"\")","v":""},{"$f":"IF(G994=Basisgeg.!$C$37,AB994-AB994/(1+Basisgeg.!$C$37),\"\")","v":""},0,0,"",null,null,"","","","","","",""]
[null,"",null,null,null,null,null,null,null,"","","","","","",null,null,null,null,null,null,null,null,null,null,null,"",0,0,{"$f":"IF(G995=Basisgeg.!$C$36,AB995-AB995/(1+Basisgeg.!$C$36),\"\")","v":""},{"$f":"IF(G995=Basisgeg.!$C$37,AB995-AB995/(1+Basisgeg.!$C$37),\"\")","v":""},0,0,"",null,null,"","","","","","",""]
[null,"",null,null,null,null,null,null,null,"","","","","","",null,null,null,null,null,null,null,null,null,null,null,"",0,0,{"$f":"IF(G996=Basisgeg.!$C$36,AB996-AB996/(1+Basisgeg.!$C$36),\"\")","v":""},{"$f":"IF(G996=Basisgeg.!$C$37,AB996-AB996/(1+Basisgeg.!$C$37),\"\")","v":""},0,0,"",null,null,"","","","","","",""]
[null,"",null,null,null,null,null,null,null,"","","","","","",null,null,null,null,null,null,null,null,null,null,null,"",0,0,{"$f":"IF(G997=Basisgeg.!$C$36,AB997-AB997/(1+Basisgeg.!$C$36),\"\")","v":""},{"$f":"IF(G997=Basisgeg.!$C$37,AB997-AB997/(1+Basisgeg.!$C$37),\"\")","v":""},0,0,"",null,null,"","","","","","",""]
[null,"",null,null,null,null,null,null,null,"","","","","","",null,null,null,null,null,null,null,null,null,null,null,"",0,0,{"$f":"IF(G998=Basisgeg.!$C$36,AB998-AB998/(1+Basisgeg.!$C$36),\"\")","v":""},{"$f":"IF(G998=Basisgeg.!$C$37,AB998-AB998/(1+Basisgeg.!$C$37),\"\")","v":""},0,0,"",null,null,"","","","","","",""]
[null,"",null,null,null,null,null,null,null,"","","","","","",null,null,null,null,null,null,null,null,null,null,null,"",0,0,{"$f":"IF(G999=Basisgeg.!$C$36,AB999-AB999/(1+Basisgeg.!$C$36),\"\")","v":""},{"$f":"IF(G999=Basisgeg.!$C$37,AB999-AB999/(1+Basisgeg.!$C$37),\"\")","v":""},0,0,"",null,null,"","","","","","",""]
[null,"",null,null,null,null,null,null,null,"","","","","","",null,null,null,null,null,null,null,null,null,null,null,"",0,0,{"$f":"IF(G1000=Basisgeg.!$C$36,AB1000-AB1000/(1+Basisgeg.!$C$36),\"\")","v":""},{"$f":"IF(G1000=Basisgeg.!$C$37,AB1000-AB1000/(1+Basisgeg.!$C$37),\"\")","v":""},0,0,"",null,null,"","","","","","",""]
[null,"",null,null,null,null,null,null,null,"","","","","","",null,null,null,null,null,null,null,null,null,null,null,"",0,0,{"$f":"IF(G1001=Basisgeg.!$C$36,AB1001-AB1001/(1+Basisgeg.!$C$36),\"\")","v":""},{"$f":"IF(G1001=Basisgeg.!$C$37,AB1001-AB1001/(1+Basisgeg.!$C$37),\"\")","v":""},0,0,"",null,null,"","","","","","",""]
[null,"",null,null,null,null,null,null,null,"","","","","","",null,null,null,null,null,null,null,null,null,null,null,"",0,0,{"$f":"IF(G1002=Basisgeg.!$C$36,AB1002-AB1002/(1+Basisgeg.!$C$36),\"\")","v":""},{"$f":"IF(G1002=Basisgeg.!$C$37,AB1002-AB1002/(1+Basisgeg.!$C$37),\"\")","v":""},0,0,"",null,null,"","","","","","",""]
[null,"",null,null,null,null,null,null,null,"","","","","","",null,null,null,null,null,null,null,null,null,null,null,"",0,0,{"$f":"IF(G1003=Basisgeg.!$C$36,AB1003-AB1003/(1+Basisgeg.!$C$36),\"\")","v":""},{"$f":"IF(G1003=Basisgeg.!$C$37,AB1003-AB1003/(1+Basisgeg.!$C$37),\"\")","v":""},0,0,"",null,null,"","","","","","",""]
[null,"",null,null,null,null,null,null,null,"","","","","",""]
[null,"",null,null,null,null,null,null,null,"","","","","",""]
[null,"",null,null,null,null,null,null,null,"","","","","",""]
[null,"",null,null,null,null,null,null,null,"","","","","",""]
[null,"",null,null,null,null,null,null,null,{"$f":"IF(B1008=\"\",\"\",IF(AND(H1008=\"\",I1008=\"\"),\"\",IF(AND(E1008<>\"\",F1008<>\"\"),\"FOUT\",IF(AND(E1008=\"\",H1008<>\"\"),\"FOUT\",IF(AND(F1008=\"\",I1008<>\"\"),\"FOUT\",IF(G1008=\"\",\"BTW ?\",\"OK\"))))))","v":""},"","","","",""]
[null,"",null,null,null,null,null,null,null,"","","","","",""]
[null,"",null,null,null,null,null,null,null,"","","","","",""]
[null,"",null,null,null,null,null,null,null,"","","","","",""]
[null,"",null,null,null,null,null,null,null,"","","","","",""]
[null,"",null,null,null,null,null,null,null,"","","","","",""]
[null,"",null,null,null,null,null,null,null,"","","","","",""]
[null,"",null,null,null,null,null,null,null,"","","","","",""]
[null,"",null,null,null,null,null,null,null,"","","","","",""]
[null,"",null,null,null,null,null,null,null,"","","","","",""]
[null,"",null,null,null,null,null,null,null,"","","","","",""]
[null,"",null,null,null,null,null,null,null,"","","","","",""]
[null,"",null,null,null,null,null,null,null,"","","","","",""]
[null,"",null,null,null,null,null,null,null,"","","","","",""]
[null,"",null,null,null,null,null,null,null,"","","","","",""]
[null,"",null,null,null,null,null,null,null,"","","","","",""]
[null,"",null,null,null,null,null,null,null,"","","","","",""]
[null,"",null,null,null,null,null,null,null,"","","","","",""]
[null,"",null,null,null,null,null,null,null,"","","","","",""]
[null,"",null,null,null,null,null,null,null,"","","","","",""]
[null,"",null,null,null,null,null,null,null,"","","","","",""]
[null,"",null,null,null,null,null,null,null,"","","","","",""]
[null,{"$f":"IF(C1030=\"\",\"\",IF(B1029=\"Nr.\",1,B1029+1))","v":""},null,null,null,null,null,null,null,"",{"$f":"IF(H1030=\"\",\"\",(H1030/((1+$G1030)*100))*($G1030*100))","v":""},{"$f":"IF(I1030=\"\",\"\",(I1030/((1+$G1030)*100))*($G1030*100))","v":""},{"$f":"IF(H1030=\"\",\"\",+H1030-K1030)","v":""},{"$f":"IF(I1030=\"\",\"\",+I1030-L1030)","v":""},{"$f":"IF(C1030=\"\",\"\",MONTH(C1030))","v":""}]
[null,"",null,null,null,null,null,null,null,"","","","","",""]
[null,"",null,null,null,null,null,null,null,"","","","","",""]
[null,"",null,null,null,null,null,null,null,"","","","","",""]
[null,"",null,null,null,null,null,null,null,"","","","","",""]
[null,"",null,null,null,null,null,null,null,"","","","","",""]
[null,"",null,null,null,null,null,null,null,"","","","","",""]
[null,"",null,null,null,null,null,null,null,"","","","","",""]
[null,"",null,null,null,null,null,null,null,"","","","","",""]
[null,"",null,null,null,null,null,null,null,"","","","","",""]
[null,"",null,null,null,null,null,null,null,"","","","","",""]
[null,"",null,null,null,null,null,null,null,"","","","","",""]
[null,"",null,null,null,null,null,null,null,"","","","","",""]
[null,"",null,null,null,null,null,null,null,"","","","","",""]
[null,"",null,null,null,null,null,null,null,"","","","","",""]
[null,"",null,null,null,null,null,null,null,"","","","","",""]
[null,"",null,null,null,null,null,null,null,"","","","","",""]
[null,"",null,null,null,null,null,null,null,"","","","","",""]
[null,"",null,null,null,null,null,null,null,"","","","","",""]
[null,"",null,null,null,null,null,null,null,"","","","","",""]
[null,"",null,null,null,null,null,null,null,"","","","","",""]
[null,"",null,null,null,null,null,null,null,"","","","","",""]
[null,"",null,null,null,null,null,null,null,"","","","","",""]
[null,"",null,null,null,null,null,null,null,"","","","","",""]
[null,"",null,null,null,null,null,null,null,"","","","","",""]
[null,"",null,null,null,null,null,null,null,"","","","","",""]
[null,"",null,null,null,null,null,null,null,"","","","","",""]
[null,"",null,null,null,null,null,null,null,"","","","","",""]
[null,"",null,null,null,null,null,null,null,"","","","","",""]
[null,"",null,null,null,null,null,null,null,"","","","","",""]
[null,"",null,null,null,null,null,null,null,"","","","","",""]
[null,"",null,null,null,null,null,null,null,"","","","","",""]
[null,"",null,null,null,null,null,null,null,"","","","","",""]
[null,"",null,null,null,null,null,null,null,"","","","","",""]
[null,"",null,null,null,null,null,null,null,"","","","","",""]
[null,"",null,null,null,null,null,null,null,"","","","","",""]
[null,"",null,null,null,null,null,null,null,"","","","","",""]
[null,"",null,null,null,null,null,null,null,"","","","","",""]
[null,"",null,null,null,null,null,null,null,"","","","","",""]
[null,"",null,null,null,null,null,null,null,"","","","","",""]
[null,"",null,null,null,null,null,null,null,"","","","","",""]
[null,"",null,null,null,null,null,null,null,"","","","","",""]
[null,"",null,null,null,null,null,null,null,{"$f":"IF(B1072=\"\",\"\",IF(AND(H1072=\"\",I1072=\"\"),\"\",IF(AND(E1072<>\"\",F1072<>\"\"),\"FOUT\",IF(AND(E1072=\"\",H1072<>\"\"),\"FOUT\",IF(AND(F1072=\"\",I1072<>\"\"),\"FOUT\",IF(G1072=\"\",\"BTW ?\",\"OK\"))))))","v":""},"","","","",""]
[null,"",null,null,null,null,null,null,null,"","","","","",""]
[null,"",null,null,null,null,null,null,null,"","","","","",""]
[null,"",null,null,null,null,null,null,null,"","","","","",""]
[null,"",null,null,null,null,null,null,null,"","","","","",""]
[null,"",null,null,null,null,null,null,null,"","","","","",""]
[null,"",null,null,null,null,null,null,null,"","","","","",""]
[null,"",null,null,null,null,null,null,null,"","","","","",""]
[null,"",null,null,null,null,null,null,null,"","","","","",""]
[null,"",null,null,null,null,null,null,null,"","","","","",""]
[null,"",null,null,null,null,null,null,null,"","","","","",""]
[null,"",null,null,null,null,null,null,null,"","","","","",""]
[null,"",null,null,null,null,null,null,null,"","","","","",""]
[null,"",null,null,null,null,null,null,null,"","","","","",""]
[null,"",null,null,null,null,null,null,null,"","","","","",""]
[null,"",null,null,null,null,null,null,null,"","","","","",""]
[null,"",null,null,null,null,null,null,null,"","","","","",""]
[null,"",null,null,null,null,null,null,null,"","","","","",""]
[null,"",null,null,null,null,null,null,null,"","","","","",""]
[null,"",null,null,null,null,null,null,null,"","","","","",""]
[null,"",null,null,null,null,null,null,null,"","","","","",""]
[null,"",null,null,null,null,null,null,null,"","","","","",""]
[null,{"$f":"IF(C1094=\"\",\"\",IF(B1093=\"Nr.\",1,B1093+1))","v":""},null,null,null,null,null,null,null,"",{"$f":"IF(H1094=\"\",\"\",(H1094/((1+$G1094)*100))*($G1094*100))","v":""},{"$f":"IF(I1094=\"\",\"\",(I1094/((1+$G1094)*100))*($G1094*100))","v":""},{"$f":"IF(H1094=\"\",\"\",+H1094-K1094)","v":""},{"$f":"IF(I1094=\"\",\"\",+I1094-L1094)","v":""},{"$f":"IF(C1094=\"\",\"\",MONTH(C1094))","v":""}]
[null,"",null,null,null,null,null,null,null,"","","","","",""]
[null,"",null,null,null,null,null,null,null,"","","","","",""]
[null,"",null,null,null,null,null,null,null,"","","","","",""]
[null,"",null,null,null,null,null,null,null,"","","","","",""]
[null,"",null,null,null,null,null,null,null,"","","","","",""]
[null,"",null,null,null,null,null,null,null,"","","","","",""]
[null,"",null,null,null,null,null,null,null,"","","","","",""]
[null,"",null,null,null,null,null,null,null,"","","","","",""]
[null,"",null,null,null,null,null,null,null,"","","","","",""]
[null,"",null,null,null,null,null,null,null,"","","","","",""]
[null,"",null,null,null,null,null,null,null,"","","","","",""]
[null,"",null,null,null,null,null,null,null,"","","","","",""]
[null,"",null,null,null,null,null,null,null,"","","","","",""]
[null,"",null,null,null,null,null,null,null,"","","","","",""]
[null,"",null,null,null,null,null,null,null,"","","","","",""]
[null,"",null,null,null,null,null,null,null,"","","","","",""]
[null,"",null,null,null,null,null,null,null,"","","","","",""]
[null,"",null,null,null,null,null,null,null,"","","","","",""]
[null,"",null,null,null,null,null,null,null,"","","","","",""]
[null,"",null,null,null,null,null,null,null,"","","","","",""]
[null,"",null,null,null,null,null,null,null,"","","","","",""]
[null,"",null,null,null,null,null,null,null,"","","","","",""]
[null,"",null,null,null,null,null,null,null,"","","","","",""]
[null,"",null,null,null,null,null,null,null,"","","","","",""]
[null,"",null,null,null,null,null,null,null,"","","","","",""]
[null,"",null,null,null,null,null,null,null,"","","","","",""]
[null,"",null,null,null,null,null,null,null,"","","","","",""]
[null,"",null,null,null,null,null,null,null,"","","","","",""]
[null,"",null,null,null,null,null,null,null,"","","","","",""]
[null,"",null,null,null,null,null,null,null,"","","","","",""]
[null,"",null,null,null,null,null,null,null,"","","","","",""]
[null,"",null,null,null,null,null,null,null,"","","","","",""]
[null,"",null,null,null,null,null,null,null,"","","","","",""]
[null,"",null,null,null,null,null,null,null,"","","","","",""]
[null,"",null,null,null,null,null,null,null,"","","","","",""]
[null,"",null,null,null,null,null,null,null,"","","","","",""]
[null,"",null,null,null,null,null,null,null,"","","","","",""]
[null,"",null,null,null,null,null,null,null,"","","","","",""]
[null,"",null,null,null,null,null,null,null,"","","","","",""]
[null,"",null,null,null,null,null,null,null,"","","","","",""]
[null,"",null,null,null,null,null,null,null,"","","","","",""]
[null,"",null,null,null,null,null,null,null,{"$f":"IF(B1136=\"\",\"\",IF(AND(H1136=\"\",I1136=\"\"),\"\",IF(AND(E1136<>\"\",F1136<>\"\"),\"FOUT\",IF(AND(E1136=\"\",H1136<>\"\"),\"FOUT\",IF(AND(F1136=\"\",I1136<>\"\"),\"FOUT\",IF(G1136=\"\",\"BTW ?\",\"OK\"))))))","v":""},"","","","",""]
[null,"",null,null,null,null,null,null,null,"","","","","",""]
[null,"",null,null,null,null,null,null,null,"","","","","",""]
[null,"",null,null,null,null,null,null,null,"","","","","",""]
[null,"",null,null,null,null,null,null,null,"","","","","",""]
[null,"",null,null,null,null,null,null,null,"","","","","",""]
[null,"",null,null,null,null,null,null,null,"","","","","",""]
[null,"",null,null,null,null,null,null,null,"","","","","",""]
[null,"",null,null,null,null,null,null,null,"","","","","",""]
[null,"",null,null,null,null,null,null,null,"","","","","",""]
[null,"",null,null,null,null,null,null,null,"","","","","",""]
[null,"",null,null,null,null,null,null,null,"","","","","",""]
[null,"",null,null,null,null,null,null,null,"","","","","",""]
[null,"",null,null,null,null,null,null,null,"","","","","",""]
[null,"",null,null,null,null,null,null,null,"","","","","",""]
[null,"",null,null,null,null,null,null,null,"","","","","",""]
[null,"",null,null,null,null,null,null,null,"","","","","",""]
[null,"",null,null,null,null,null,null,null,"","","","","",""]
[null,"",null,null,null,null,null,null,null,"","","","","",""]
[null,"",null,null,null,null,null,null,null,"","","","","",""]
[null,"",null,null,null,null,null,null,null,"","","","","",""]
[null,"",null,null,null,null,null,null,null,"","","","","",""]
[null,{"$f":"IF(C1158=\"\",\"\",IF(B1157=\"Nr.\",1,B1157+1))","v":""},null,null,null,null,null,null,null,"",{"$f":"IF(H1158=\"\",\"\",(H1158/((1+$G1158)*100))*($G1158*100))","v":""},{"$f":"IF(I1158=\"\",\"\",(I1158/((1+$G1158)*100))*($G1158*100))","v":""},{"$f":"IF(H1158=\"\",\"\",+H1158-K1158)","v":""},{"$f":"IF(I1158=\"\",\"\",+I1158-L1158)","v":""},{"$f":"IF(C1158=\"\",\"\",MONTH(C1158))","v":""}]
[null,"",null,null,null,null,null,null,null,"","","","","",""]
[null,"",null,null,null,null,null,null,null,"","","","","",""]
[null,"",null,null,null,null,null,null,null,"","","","","",""]
[null,"",null,null,null,null,null,null,null,"","","","","",""]
[null,"",null,null,null,null,null,null,null,"","","","","",""]
[null,"",null,null,null,null,null,null,null,"","","","","",""]
[null,"",null,null,null,null,null,null,null,"","","","","",""]
[null,"",null,null,null,null,null,null,null,"","","","","",""]
[null,"",null,null,null,null,null,null,null,"","","","","",""]
[null,"",null,null,null,null,null,null,null,"","","","","",""]
[null,"",null,null,null,null,null,null,null,"","","","","",""]
[null,"",null,null,null,null,null,null,null,"","","","","",""]
[null,"",null,null,null,null,null,null,null,"","","","","",""]
[null,"",null,null,null,null,null,null,null,"","","","","",""]
[null,"",null,null,null,null,null,null,null,"","","","","",""]
[null,"",null,null,null,null,null,null,null,"","","","","",""]
[null,"",null,null,null,null,null,null,null,"","","","","",""]
[null,"",null,null,null,null,null,null,null,"","","","","",""]
[null,"",null,null,null,null,null,null,null,"","","","","",""]
[null,"",null,null,null,null,null,null,null,"","","","","",""]
[null,"",null,null,null,null,null,null,null,"","","","","",""]
[null,"",null,null,null,null,null,null,null,"","","","","",""]
[null,"",null,null,null,null,null,null,null,"","","","","",""]
[null,"",null,null,null,null,null,null,null,"","","","","",""]
[null,"",null,null,null,null,null,null,null,"","","","","",""]
[null,"",null,null,null,null,null,null,null,"","","","","",""]
[null,"",null,null,null,null,null,null,null,"","","","","",""]
[null,"",null,null,null,null,null,null,null,"","","","","",""]
[null,"",null,null,null,null,null,null,null,"","","","","",""]
[null,"",null,null,null,null,null,null,null,"","","","","",""]
[null,"",null,null,null,null,null,null,null,"","","","","",""]
[null,"",null,null,null,null,null,null,null,"","","","","",""]
[null,"",null,null,null,null,null,null,null,"","","","","",""]
[null,"",null,null,null,null,null,null,null,"","","","","",""]
[null,"",null,null,null,null,null,null,null,"","","","","",""]
[null,"",null,null,null,null,null,null,null,"","","","","",""]
[null,"",null,null,null,null,null,null,null,"","","","","",""]
[null,"",null,null,null,null,null,null,null,"","","","","",""]
[null,"",null,null,null,null,null,null,null,"","","","","",""]
[null,"",null,null,null,null,null,null,null,"","","","","",""]
[null,"",null,null,null,null,null,null,null,"","","","","",""]
[null,"",null,null,null,null,null,null,null,{"$f":"IF(B1200=\"\",\"\",IF(AND(H1200=\"\",I1200=\"\"),\"\",IF(AND(E1200<>\"\",F1200<>\"\"),\"FOUT\",IF(AND(E1200=\"\",H1200<>\"\"),\"FOUT\",IF(AND(F1200=\"\",I1200<>\"\"),\"FOUT\",IF(G1200=\"\",\"BTW ?\",\"OK\"))))))","v":""},"","","","",""]
[null,"",null,null,null,null,null,null,null,"","","","","",""]
[null,"",null,null,null,null,null,null,null,"","","","","",""]
[null,"",null,null,null,null,null,null,null,"","","","","",""]
[null,"",null,null,null,null,null,null,null,"","","","","",""]
[null,"",null,null,null,null,null,null,null,"","","","","",""]
[null,"",null,null,null,null,null,null,null,"","","","","",""]
[null,"",null,null,null,null,null,null,null,"","","","","",""]
[null,"",null,null,null,null,null,null,null,"","","","","",""]
[null,"",null,null,null,null,null,null,null,"","","","","",""]
[null,"",null,null,null,null,null,null,null,"","","","","",""]
[null,"",null,null,null,null,null,null,null,"","","","","",""]
[null,"",null,null,null,null,null,null,null,"","","","","",""]
[null,"",null,null,null,null,null,null,null,"","","","","",""]
[null,"",null,null,null,null,null,null,null,"","","","","",""]
[null,"",null,null,null,null,null,null,null,"","","","","",""]
[null,"",null,null,null,null,null,null,null,"","","","","",""]
[null,"",null,null,null,null,null,null,null,"","","","","",""]
[null,"",null,null,null,null,null,null,null,"","","","","",""]
[null,"",null,null,null,null,null,null,null,"","","","","",""]
[null,"",null,null,null,null,null,null,null,"","","","","",""]
[null,"",null,null,null,null,null,null,null,"","","","","",""]
[null,{"$f":"IF(C1222=\"\",\"\",IF(B1221=\"Nr.\",1,B1221+1))","v":""},null,null,null,null,null,null,null,"",{"$f":"IF(H1222=\"\",\"\",(H1222/((1+$G1222)*100))*($G1222*100))","v":""},{"$f":"IF(I1222=\"\",\"\",(I1222/((1+$G1222)*100))*($G1222*100))","v":""},{"$f":"IF(H1222=\"\",\"\",+H1222-K1222)","v":""},{"$f":"IF(I1222=\"\",\"\",+I1222-L1222)","v":""},{"$f":"IF(C1222=\"\",\"\",MONTH(C1222))","v":""}]
[null,"",null,null,null,null,null,null,null,"","","","","",""]
[null,"",null,null,null,null,null,null,null,"","","","","",""]
[null,"",null,null,null,null,null,null,null,"","","","","",""]
[null,"",null,null,null,null,null,null,null,"","","","","",""]
[null,"",null,null,null,null,null,null,null,"","","","","",""]
[null,"",null,null,null,null,null,null,null,"","","","","",""]
[null,"",null,null,null,null,null,null,null,"","","","","",""]
[null,"",null,null,null,null,null,null,null,"","","","","",""]
[null,"",null,null,null,null,null,null,null,"","","","","",""]
[null,"",null,null,null,null,null,null,null,"","","","","",""]
[null,"",null,null,null,null,null,null,null,"","","","","",""]
[null,"",null,null,null,null,null,null,null,"","","","","",""]
[null,"",null,null,null,null,null,null,null,"","","","","",""]
[null,"",null,null,null,null,null,null,null,"","","","","",""]
[null,"",null,null,null,null,null,null,null,"","","","","",""]
[null,"",null,null,null,null,null,null,null,"","","","","",""]
[null,"",null,null,null,null,null,null,null,"","","","","",""]
[null,"",null,null,null,null,null,null,null,"","","","","",""]
[null,"",null,null,null,null,null,null,null,"","","","","",""]
[null,"",null,null,null,null,null,null,null,"","","","","",""]
[null,"",null,null,null,null,null,null,null,"","","","","",""]
[null,"",null,null,null,null,null,null,null,"","","","","",""]
[null,"",null,null,null,null,null,null,null,"","","","","",""]
[null,"",null,null,null,null,null,null,null,"","","","","",""]
[null,"",null,null,null,null,null,null,null,"","","","","",""]
[null,"",null,null,null,null,null,null,null,"","","","","",""]
[null,"",null,null,null,null,null,null,null,"","","","","",""]
[null,"",null,null,null,null,null,null,null,"","","","","",""]
[null,"",null,null,null,null,null,null,null,"","","","","",""]
[null,"",null,null,null,null,null,null,null,"","","","","",""]
[null,"",null,null,null,null,null,null,null,"","","","","",""]
[null,"",null,null,null,null,null,null,null,"","","","","",""]
[null,"",null,null,null,null,null,null,null,"","","","","",""]
[null,"",null,null,null,null,null,null,null,"","","","","",""]
[null,"",null,null,null,null,null,null,null,"","","","","",""]
[null,"",null,null,null,null,null,null,null,"","","","","",""]
[null,"",null,null,null,null,null,null,null,"","","","","",""]
[null,"",null,null,null,null,null,null,null,"","","","","",""]
[null,"",null,null,null,null,null,null,null,"","","","","",""]
[null,"",null,null,null,null,null,null,null,"","","","","",""]
[null,"",null,null,null,null,null,null,null,"","","","","",""]
[null,"",null,null,null,null,null,null,null,{"$f":"IF(B1264=\"\",\"\",IF(AND(H1264=\"\",I1264=\"\"),\"\",IF(AND(E1264<>\"\",F1264<>\"\"),\"FOUT\",IF(AND(E1264=\"\",H1264<>\"\"),\"FOUT\",IF(AND(F1264=\"\",I1264<>\"\"),\"FOUT\",IF(G1264=\"\",\"BTW ?\",\"OK\"))))))","v":""},"","","","",""]
[null,"",null,null,null,null,null,null,null,"","","","","",""]
[null,"",null,null,null,null,null,null,null,"","","","","",""]
[null,"",null,null,null,null,null,null,null,"","","","","",""]
[null,"",null,null,null,null,null,null,null,"","","","","",""]
[null,"",null,null,null,null,null,null,null,"","","","","",""]
[null,"",null,null,null,null,null,null,null,"","","","","",""]
[null,"",null,null,null,null,null,null,null,"","","","","",""]
[null,"",null,null,null,null,null,null,null,"","","","","",""]
[null,"",null,null,null,null,null,null,null,"","","","","",""]
[null,"",null,null,null,null,null,null,null,"","","","","",""]
[null,"",null,null,null,null,null,null,null,"","","","","",""]
[null,"",null,null,null,null,null,null,null,"","","","","",""]
[null,"",null,null,null,null,null,null,null,"","","","","",""]
[null,"",null,null,null,null,null,null,null,"","","","","",""]
[null,"",null,null,null,null,null,null,null,"","","","","",""]
[null,"",null,null,null,null,null,null,null,"","","","","",""]
[null,"",null,null,null,null,null,null,null,"","","","","",""]
[null,"",null,null,null,null,null,null,null,"","","","","",""]
[null,"",null,null,null,null,null,null,null,"","","","","",""]
[null,"",null,null,null,null,null,null,null,"","","","","",""]
[null,"",null,null,null,null,null,null,null,"","","","","",""]
[null,{"$f":"IF(C1286=\"\",\"\",IF(B1285=\"Nr.\",1,B1285+1))","v":""},null,null,null,null,null,null,null,"",{"$f":"IF(H1286=\"\",\"\",(H1286/((1+$G1286)*100))*($G1286*100))","v":""},{"$f":"IF(I1286=\"\",\"\",(I1286/((1+$G1286)*100))*($G1286*100))","v":""},{"$f":"IF(H1286=\"\",\"\",+H1286-K1286)","v":""},{"$f":"IF(I1286=\"\",\"\",+I1286-L1286)","v":""},{"$f":"IF(C1286=\"\",\"\",MONTH(C1286))","v":""}]
[null,"",null,null,null,null,null,null,null,"","","","","",""]
[null,"",null,null,null,null,null,null,null,"","","","","",""]
[null,"",null,null,null,null,null,null,null,"","","","","",""]
[null,"",null,null,null,null,null,null,null,"","","","","",""]
[null,"",null,null,null,null,null,null,null,"","","","","",""]
[null,"",null,null,null,null,null,null,null,"","","","","",""]
[null,"",null,null,null,null,null,null,null,"","","","","",""]
[null,"",null,null,null,null,null,null,null,"","","","","",""]
[null,"",null,null,null,null,null,null,null,"","","","","",""]
[null,"",null,null,null,null,null,null,null,"","","","","",""]
[null,"",null,null,null,null,null,null,null,"","","","","",""]
[null,"",null,null,null,null,null,null,null,"","","","","",""]
[null,"",null,null,null,null,null,null,null,"","","","","",""]
[null,"",null,null,null,null,null,null,null,"","","","","",""]
[null,"",null,null,null,null,null,null,null,"","","","","",""]
[null,"",null,null,null,null,null,null,null,"","","","","",""]
[null,"",null,null,null,null,null,null,null,"","","","","",""]
[null,"",null,null,null,null,null,null,null,"","","","","",""]
[null,"",null,null,null,null,null,null,null,"","","","","",""]
[null,"",null,null,null,null,null,null,null,"","","","","",""]
[null,"",null,null,null,null,null,null,null,"","","","","",""]
[null,"",null,null,null,null,null,null,null,"","","","","",""]
[null,"",null,null,null,null,null,null,null,"","","","","",""]
[null,"",null,null,null,null,null,null,null,"","","","","",""]
[null,"",null,null,null,null,null,null,null,"","","","","",""]
[null,"",null,null,null,null,null,null,null,"","","","","",""]
[null,"",null,null,null,null,null,null,null,"","","","","",""]
[null,"",null,null,null,null,null,null,null,"","","","","",""]
[null,"",null,null,null,null,null,null,null,"","","","","",""]
[null,"",null,null,null,null,null,null,null,"","","","","",""]
[null,"",null,null,null,null,null,null,null,"","","","","",""]
[null,"",null,null,null,null,null,null,null,"","","","","",""]
[null,"",null,null,null,null,null,null,null,"","","","","",""]
[null,"",null,null,null,null,null,null,null,"","","","","",""]
[null,"",null,null,null,null,null,null,null,"","","","","",""]
[null,"",null,null,null,null,null,null,null,"","","","","",""]
[null,"",null,null,null,null,null,null,null,"","","","","",""]
[null,"",null,null,null,null,null,null,null,"","","","","",""]
[null,"",null,null,null,null,null,null,null,"","","","","",""]
[null,"",null,null,null,null,null,null,null,"","","","","",""]
[null,"",null,null,null,null,null,null,null,"","","","","",""]
[null,"",null,null,null,null,null,null,null,{"$f":"IF(B1328=\"\",\"\",IF(AND(H1328=\"\",I1328=\"\"),\"\",IF(AND(E1328<>\"\",F1328<>\"\"),\"FOUT\",IF(AND(E1328=\"\",H1328<>\"\"),\"FOUT\",IF(AND(F1328=\"\",I1328<>\"\"),\"FOUT\",IF(G1328=\"\",\"BTW ?\",\"OK\"))))))","v":""},"","","","",""]
[null,"",null,null,null,null,null,null,null,"","","","","",""]
[null,"",null,null,null,null,null,null,null,"","","","","",""]
[null,"",null,null,null,null,null,null,null,"","","","","",""]
[null,"",null,null,null,null,null,null,null,"","","","","",""]
[null,"",null,null,null,null,null,null,null,"","","","","",""]
[null,"",null,null,null,null,null,null,null,"","","","","",""]
[null,"",null,null,null,null,null,null,null,"","","","","",""]
[null,"",null,null,null,null,null,null,null,"","","","","",""]
[null,"",null,null,null,null,null,null,null,"","","","","",""]
[null,"",null,null,null,null,null,null,null,"","","","","",""]
[null,"",null,null,null,null,null,null,null,"","","","","",""]
[null,"",null,null,null,null,null,null,null,"","","","","",""]
[null,"",null,null,null,null,null,null,null,"","","","","",""]
[null,"",null,null,null,null,null,null,null,"","","","","",""]
[null,"",null,null,null,null,null,null,null,"","","","","",""]
[null,"",null,null,null,null,null,null,null,"","","","","",""]
[null,"",null,null,null,null,null,null,null,"","","","","",""]
[null,"",null,null,null,null,null,null,null,"","","","","",""]
[null,"",null,null,null,null,null,null,null,"","","","","",""]
[null,"",null,null,null,null,null,null,null,"","","","","",""]
[null,"",null,null,null,null,null,null,null,"","","","","",""]
[null,{"$f":"IF(C1350=\"\",\"\",IF(B1349=\"Nr.\",1,B1349+1))","v":""},null,null,null,null,null,null,null,"",{"$f":"IF(H1350=\"\",\"\",(H1350/((1+$G1350)*100))*($G1350*100))","v":""},{"$f":"IF(I1350=\"\",\"\",(I1350/((1+$G1350)*100))*($G1350*100))","v":""},{"$f":"IF(H1350=\"\",\"\",+H1350-K1350)","v":""},{"$f":"IF(I1350=\"\",\"\",+I1350-L1350)","v":""},{"$f":"IF(C1350=\"\",\"\",MONTH(C1350))","v":""}]
[null,"",null,null,null,null,null,null,null,"","","","","",""]
[null,"",null,null,null,null,null,null,null,"","","","","",""]
[null,"",null,null,null,null,null,null,null,"","","","","",""]
[null,"",null,null,null,null,null,null,null,"","","","","",""]
[null,"",null,null,null,null,null,null,null,"","","","","",""]
[null,"",null,null,null,null,null,null,null,"","","","","",""]
[null,"",null,null,null,null,null,null,null,"","","","","",""]
[null,"",null,null,null,null,null,null,null,"","","","","",""]
[null,"",null,null,null,null,null,null,null,"","","","","",""]
[null,"",null,null,null,null,null,null,null,"","","","","",""]
[null,"",null,null,null,null,null,null,null,"","","","","",""]
[null,"",null,null,null,null,null,null,null,"","","","","",""]
[null,"",null,null,null,null,null,null,null,"","","","","",""]
[null,"",null,null,null,null,null,null,null,"","","","","",""]
[null,"",null,null,null,null,null,null,null,"","","","","",""]
[null,"",null,null,null,null,null,null,null,"","","","","",""]
[null,"",null,null,null,null,null,null,null,"","","","","",""]
[null,"",null,null,null,null,null,null,null,"","","","","",""]
[null,"",null,null,null,null,null,null,null,"","","","","",""]
[null,"",null,null,null,null,null,null,null,"","","","","",""]
[null,"",null,null,null,null,null,null,null,"","","","","",""]
[null,"",null,null,null,null,null,null,null,"","","","","",""]
[null,"",null,null,null,null,null,null,null,"","","","","",""]
[null,"",null,null,null,null,null,null,null,"","","","","",""]
[null,"",null,null,null,null,null,null,null,"","","","","",""]
[null,"",null,null,null,null,null,null,null,"","","","","",""]
[null,"",null,null,null,null,null,null,null,"","","","","",""]
[null,"",null,null,null,null,null,null,null,"","","","","",""]
[null,"",null,null,null,null,null,null,null,"","","","","",""]
[null,"",null,null,null,null,null,null,null,"","","","","",""]
[null,"",null,null,null,null,null,null,null,"","","","","",""]
[null,"",null,null,null,null,null,null,null,"","","","","",""]
[null,"",null,null,null,null,null,null,null,"","","","","",""]
[null,"",null,null,null,null,null,null,null,"","","","","",""]
[null,"",null,null,null,null,null,null,null,"","","","","",""]
[null,"",null,null,null,null,null,null,null,"","","","","",""]
[null,"",null,null,null,null,null,null,null,"","","","","",""]
[null,"",null,null,null,null,null,null,null,"","","","","",""]
[null,"",null,null,null,null,null,null,null,"","","","","",""]
[null,"",null,null,null,null,null,null,null,"","","","","",""]
[null,"",null,null,null,null,null,null,null,"","","","","",""]
[null,"",null,null,null,null,null,null,null,{"$f":"IF(B1392=\"\",\"\",IF(AND(H1392=\"\",I1392=\"\"),\"\",IF(AND(E1392<>\"\",F1392<>\"\"),\"FOUT\",IF(AND(E1392=\"\",H1392<>\"\"),\"FOUT\",IF(AND(F1392=\"\",I1392<>\"\"),\"FOUT\",IF(G1392=\"\",\"BTW ?\",\"OK\"))))))","v":""},"","","","",""]
[null,"",null,null,null,null,null,null,null,"","","","","",""]
[null,"",null,null,null,null,null,null,null,"","","","","",""]
[null,"",null,null,null,null,null,null,null,"","","","","",""]
[null,"",null,null,null,null,null,null,null,"","","","","",""]
[null,"",null,null,null,null,null,null,null,"","","","","",""]
[null,"",null,null,null,null,null,null,null,"","","","","",""]
[null,"",null,null,null,null,null,null,null,"","","","","",""]
[null,"",null,null,null,null,null,null,null,"","","","","",""]
[null,"",null,null,null,null,null,null,null,"","","","","",""]
[null,"",null,null,null,null,null,null,null,"","","","","",""]
[null,"",null,null,null,null,null,null,null,"","","","","",""]
[null,"",null,null,null,null,null,null,null,"","","","","",""]
[null,"",null,null,null,null,null,null,null,"","","","","",""]
[null,"",null,null,null,null,null,null,null,"","","","","",""]
[null,"",null,null,null,null,null,null,null,"","","","","",""]
[null,"",null,null,null,null,null,null,null,"","","","","",""]
[null,"",null,null,null,null,null,null,null,"","","","","",""]
[null,"",null,null,null,null,null,null,null,"","","","","",""]
[null,"",null,null,null,null,null,null,null,"","","","","",""]
[null,"",null,null,null,null,null,null,null,"","","","","",""]
[null,"",null,null,null,null,null,null,null,"","","","","",""]
[null,{"$f":"IF(C1414=\"\",\"\",IF(B1413=\"Nr.\",1,B1413+1))","v":""},null,null,null,null,null,null,null,"",{"$f":"IF(H1414=\"\",\"\",(H1414/((1+$G1414)*100))*($G1414*100))","v":""},{"$f":"IF(I1414=\"\",\"\",(I1414/((1+$G1414)*100))*($G1414*100))","v":""},{"$f":"IF(H1414=\"\",\"\",+H1414-K1414)","v":""},{"$f":"IF(I1414=\"\",\"\",+I1414-L1414)","v":""},{"$f":"IF(C1414=\"\",\"\",MONTH(C1414))","v":""}]
[null,"",null,null,null,null,null,null,null,"","","","","",""]
[null,"",null,null,null,null,null,null,null,"","","","","",""]
[null,"",null,null,null,null,null,null,null,"","","","","",""]
[null,"",null,null,null,null,null,null,null,"","","","","",""]
[null,"",null,null,null,null,null,null,null,"","","","","",""]
[null,"",null,null,null,null,null,null,null,"","","","","",""]
[null,"",null,null,null,null,null,null,null,"","","","","",""]
[null,"",null,null,null,null,null,null,null,"","","","","",""]
[null,"",null,null,null,null,null,null,null,"","","","","",""]
[null,"",null,null,null,null,null,null,null,"","","","","",""]
[null,"",null,null,null,null,null,null,null,"","","","","",""]
[null,"",null,null,null,null,null,null,null,"","","","","",""]
[null,"",null,null,null,null,null,null,null,"","","","","",""]
[null,"",null,null,null,null,null,null,null,"","","","","",""]
[null,"",null,null,null,null,null,null,null,"","","","","",""]
[null,"",null,null,null,null,null,null,null,"","","","","",""]
[null,"",null,null,null,null,null,null,null,"","","","","",""]
[null,"",null,null,null,null,null,null,null,"","","","","",""]
[null,"",null,null,null,null,null,null,null,"","","","","",""]
[null,"",null,null,null,null,null,null,null,"","","","","",""]
[null,"",null,null,null,null,null,null,null,"","","","","",""]
[null,"",null,null,null,null,null,null,null,"","","","","",""]
[null,"",null,null,null,null,null,null,null,"","","","","",""]
[null,"",null,null,null,null,null,null,null,"","","","","",""]
[null,"",null,null,null,null,null,null,null,"","","","","",""]
[null,"",null,null,null,null,null,null,null,"","","","","",""]
[null,"",null,null,null,null,null,null,null,"","","","","",""]
[null,"",null,null,null,null,null,null,null,"","","","","",""]
[null,"",null,null,null,null,null,null,null,"","","","","",""]
[null,"",null,null,null,null,null,null,null,"","","","","",""]
[null,"",null,null,null,null,null,null,null,"","","","","",""]
[null,"",null,null,null,null,null,null,null,"","","","","",""]
[null,"",null,null,null,null,null,null,null,"","","","","",""]
[null,"",null,null,null,null,null,null,null,"","","","","",""]
[null,"",null,null,null,null,null,null,null,"","","","","",""]
[null,"",null,null,null,null,null,null,null,"","","","","",""]
[null,"",null,null,null,null,null,null,null,"","","","","",""]
[null,"",null,null,null,null,null,null,null,"","","","","",""]
[null,"",null,null,null,null,null,null,null,"","","","","",""]
[null,"",null,null,null,null,null,null,null,"","","","","",""]
[null,"",null,null,null,null,null,null,null,"","","","","",""]
[null,"",null,null,null,null,null,null,null,{"$f":"IF(B1456=\"\",\"\",IF(AND(H1456=\"\",I1456=\"\"),\"\",IF(AND(E1456<>\"\",F1456<>\"\"),\"FOUT\",IF(AND(E1456=\"\",H1456<>\"\"),\"FOUT\",IF(AND(F1456=\"\",I1456<>\"\"),\"FOUT\",IF(G1456=\"\",\"BTW ?\",\"OK\"))))))","v":""},"","","","",""]
[null,"",null,null,null,null,null,null,null,"","","","","",""]
[null,"",null,null,null,null,null,null,null,"","","","","",""]
[null,"",null,null,null,null,null,null,null,"","","","","",""]
[null,"",null,null,null,null,null,null,null,"","","","","",""]
[null,"",null,null,null,null,null,null,null,"","","","","",""]
[null,"",null,null,null,null,null,null,null,"","","","","",""]
[null,"",null,null,null,null,null,null,null,"","","","","",""]
[null,"",null,null,null,null,null,null,null,"","","","","",""]
[null,"",null,null,null,null,null,null,null,"","","","","",""]
[null,"",null,null,null,null,null,null,null,"","","","","",""]
[null,"",null,null,null,null,null,null,null,"","","","","",""]
[null,"",null,null,null,null,null,null,null,"","","","","",""]
[null,"",null,null,null,null,null,null,null,"","","","","",""]
[null,"",null,null,null,null,null,null,null,"","","","","",""]
[null,"",null,null,null,null,null,null,null,"","","","","",""]
[null,"",null,null,null,null,null,null,null,"","","","","",""]
[null,"",null,null,null,null,null,null,null,"","","","","",""]
[null,"",null,null,null,null,null,null,null,"","","","","",""]
[null,"",null,null,null,null,null,null,null,"","","","","",""]
[null,"",null,null,null,null,null,null,null,"","","","","",""]
[null,"",null,null,null,null,null,null,null,"","","","","",""]
[null,{"$f":"IF(C1478=\"\",\"\",IF(B1477=\"Nr.\",1,B1477+1))","v":""},null,null,null,null,null,null,null,"",{"$f":"IF(H1478=\"\",\"\",(H1478/((1+$G1478)*100))*($G1478*100))","v":""},{"$f":"IF(I1478=\"\",\"\",(I1478/((1+$G1478)*100))*($G1478*100))","v":""},{"$f":"IF(H1478=\"\",\"\",+H1478-K1478)","v":""},{"$f":"IF(I1478=\"\",\"\",+I1478-L1478)","v":""},{"$f":"IF(C1478=\"\",\"\",MONTH(C1478))","v":""}]
[null,"",null,null,null,null,null,null,null,"","","","","",""]
[null,"",null,null,null,null,null,null,null,"","","","","",""]
[null,"",null,null,null,null,null,null,null,"","","","","",""]
[null,"",null,null,null,null,null,null,null,"","","","","",""]
[null,"",null,null,null,null,null,null,null,"","","","","",""]
[null,"",null,null,null,null,null,null,null,"","","","","",""]
[null,"",null,null,null,null,null,null,null,"","","","","",""]
[null,"",null,null,null,null,null,null,null,"","","","","",""]
[null,"",null,null,null,null,null,null,null,"","","","","",""]
[null,"",null,null,null,null,null,null,null,"","","","","",""]
[null,"",null,null,null,null,null,null,null,"","","","","",""]
[null,"",null,null,null,null,null,null,null,"","","","","",""]
[null,"",null,null,null,null,null,null,null,"","","","","",""]
[null,"",null,null,null,null,null,null,null,"","","","","",""]
[null,"",null,null,null,null,null,null,null,"","","","","",""]
[null,"",null,null,null,null,null,null,null,"","","","","",""]
[null,"",null,null,null,null,null,null,null,"","","","","",""]
[null,"",null,null,null,null,null,null,null,"","","","","",""]
[null,"",null,null,null,null,null,null,null,"","","","","",""]
[null,"",null,null,null,null,null,null,null,"","","","","",""]
[null,"",null,null,null,null,null,null,null,"","","","","",""]
[null,"",null,null,null,null,null,null,null,"","","","","",""]
[null,"",null,null,null,null,null,null,null,"","","","","",""]
[null,"",null,null,null,null,null,null,null,"","","","","",""]
[null,"",null,null,null,null,null,null,null,"","","","","",""]
[null,"",null,null,null,null,null,null,null,"","","","","",""]
[null,"",null,null,null,null,null,null,null,"","","","","",""]
[null,"",null,null,null,null,null,null,null,"","","","","",""]
[null,"",null,null,null,null,null,null,null,"","","","","",""]
[null,"",null,null,null,null,null,null,null,"","","","","",""]
[null,"",null,null,null,null,null,null,null,"","","","","",""]
[null,"",null,null,null,null,null,null,null,"","","","","",""]
[null,"",null,null,null,null,null,null,null,"","","","","",""]
[null,"",null,null,null,null,null,null,null,"","","","","",""]
[null,"",null,null,null,null,null,null,null,"","","","","",""]
[null,"",null,null,null,null,null,null,null,"","","","","",""]
[null,"",null,null,null,null,null,null,null,"","","","","",""]
[null,"",null,null,null,null,null,null,null,"","","","","",""]
[null,"",null,null,null,null,null,null,null,"","","","","",""]
[null,"",null,null,null,null,null,null,null,"","","","","",""]
[null,"",null,null,null,null,null,null,null,"","","","","",""]
[null,"",null,null,null,null,null,null,null,{"$f":"IF(B1520=\"\",\"\",IF(AND(H1520=\"\",I1520=\"\"),\"\",IF(AND(E1520<>\"\",F1520<>\"\"),\"FOUT\",IF(AND(E1520=\"\",H1520<>\"\"),\"FOUT\",IF(AND(F1520=\"\",I1520<>\"\"),\"FOUT\",IF(G1520=\"\",\"BTW ?\",\"OK\"))))))","v":""},"","","","",""]
[null,"",null,null,null,null,null,null,null,"","","","","",""]
[null,"",null,null,null,null,null,null,null,"","","","","",""]
[null,"",null,null,null,null,null,null,null,"","","","","",""]
[null,"",null,null,null,null,null,null,null,"","","","","",""]
[null,"",null,null,null,null,null,null,null,"","","","","",""]
[null,"",null,null,null,null,null,null,null,"","","","","",""]
[null,"",null,null,null,null,null,null,null,"","","","","",""]
[null,"",null,null,null,null,null,null,null,"","","","","",""]
[null,"",null,null,null,null,null,null,null,"","","","","",""]
[null,"",null,null,null,null,null,null,null,"","","","","",""]
[null,"",null,null,null,null,null,null,null,"","","","","",""]
[null,"",null,null,null,null,null,null,null,"","","","","",""]
[null,"",null,null,null,null,null,null,null,"","","","","",""]
[null,"",null,null,null,null,null,null,null,"","","","","",""]
[null,"",null,null,null,null,null,null,null,"","","","","",""]
[null,"",null,null,null,null,null,null,null,"","","","","",""]
[null,"",null,null,null,null,null,null,null,"","","","","",""]
[null,"",null,null,null,null,null,null,null,"","","","","",""]
[null,"",null,null,null,null,null,null,null,"","","","","",""]
[null,"",null,null,null,null,null,null,null,"","","","","",""]
[null,"",null,null,null,null,null,null,null,"","","","","",""]
[null,{"$f":"IF(C1542=\"\",\"\",IF(B1541=\"Nr.\",1,B1541+1))","v":""},null,null,null,null,null,null,null,"",{"$f":"IF(H1542=\"\",\"\",(H1542/((1+$G1542)*100))*($G1542*100))","v":""},{"$f":"IF(I1542=\"\",\"\",(I1542/((1+$G1542)*100))*($G1542*100))","v":""},{"$f":"IF(H1542=\"\",\"\",+H1542-K1542)","v":""},{"$f":"IF(I1542=\"\",\"\",+I1542-L1542)","v":""},{"$f":"IF(C1542=\"\",\"\",MONTH(C1542))","v":""}]
[null,"",null,null,null,null,null,null,null,"","","","","",""]
[null,"",null,null,null,null,null,null,null,"","","","","",""]
[null,"",null,null,null,null,null,null,null,"","","","","",""]
[null,"",null,null,null,null,null,null,null,"","","","","",""]
[null,"",null,null,null,null,null,null,null,"","","","","",""]
[null,"",null,null,null,null,null,null,null,"","","","","",""]
[null,"",null,null,null,null,null,null,null,"","","","","",""]
[null,"",null,null,null,null,null,null,null,"","","","","",""]
[null,"",null,null,null,null,null,null,null,"","","","","",""]
[null,"",null,null,null,null,null,null,null,"","","","","",""]
[null,"",null,null,null,null,null,null,null,"","","","","",""]
[null,"",null,null,null,null,null,null,null,"","","","","",""]
[null,"",null,null,null,null,null,null,null,"","","","","",""]
[null,"",null,null,null,null,null,null,null,"","","","","",""]
[null,"",null,null,null,null,null,null,null,"","","","","",""]
[null,"",null,null,null,null,null,null,null,"","","","","",""]
[null,"",null,null,null,null,null,null,null,"","","","","",""]
[null,"",null,null,null,null,null,null,null,"","","","","",""]
[null,"",null,null,null,null,null,null,null,"","","","","",""]
[null,"",null,null,null,null,null,null,null,"","","","","",""]
[null,"",null,null,null,null,null,null,null,"","","","","",""]
[null,"",null,null,null,null,null,null,null,"","","","","",""]
[null,"",null,null,null,null,null,null,null,"","","","","",""]
[null,"",null,null,null,null,null,null,null,"","","","","",""]
[null,"",null,null,null,null,null,null,null,"","","","","",""]
[null,"",null,null,null,null,null,null,null,"","","","","",""]
[null,"",null,null,null,null,null,null,null,"","","","","",""]
[null,"",null,null,null,null,null,null,null,"","","","","",""]
[null,"",null,null,null,null,null,null,null,"","","","","",""]
[null,"",null,null,null,null,null,null,null,"","","","","",""]
[null,"",null,null,null,null,null,null,null,"","","","","",""]
[null,"",null,null,null,null,null,null,null,"","","","","",""]
[null,"",null,null,null,null,null,null,null,"","","","","",""]
[null,"",null,null,null,null,null,null,null,"","","","","",""]
[null,"",null,null,null,null,null,null,null,"","","","","",""]
[null,"",null,null,null,null,null,null,null,"","","","","",""]
[null,"",null,null,null,null,null,null,null,"","","","","",""]
[null,"",null,null,null,null,null,null,null,"","","","","",""]
[null,"",null,null,null,null,null,null,null,"","","","","",""]
[null,"",null,null,null,null,null,null,null,"","","","","",""]
[null,"",null,null,null,null,null,null,null,"","","","","",""]
[null,"",null,null,null,null,null,null,null,{"$f":"IF(B1584=\"\",\"\",IF(AND(H1584=\"\",I1584=\"\"),\"\",IF(AND(E1584<>\"\",F1584<>\"\"),\"FOUT\",IF(AND(E1584=\"\",H1584<>\"\"),\"FOUT\",IF(AND(F1584=\"\",I1584<>\"\"),\"FOUT\",IF(G1584=\"\",\"BTW ?\",\"OK\"))))))","v":""},"","","","",""]
[null,"",null,null,null,null,null,null,null,"","","","","",""]
[null,"",null,null,null,null,null,null,null,"","","","","",""]
[null,"",null,null,null,null,null,null,null,"","","","","",""]
[null,"",null,null,null,null,null,null,null,"","","","","",""]
[null,"",null,null,null,null,null,null,null,"","","","","",""]
[null,"",null,null,null,null,null,null,null,"","","","","",""]
[null,"",null,null,null,null,null,null,null,"","","","","",""]
[null,"",null,null,null,null,null,null,null,"","","","","",""]
[null,"",null,null,null,null,null,null,null,"","","","","",""]
[null,"",null,null,null,null,null,null,null,"","","","","",""]
[null,"",null,null,null,null,null,null,null,"","","","","",""]
[null,"",null,null,null,null,null,null,null,"","","","","",""]
[null,"",null,null,null,null,null,null,null,"","","","","",""]
[null,"",null,null,null,null,null,null,null,"","","","","",""]
[null,"",null,null,null,null,null,null,null,"","","","","",""]
[null,"",null,null,null,null,null,null,null,"","","","","",""]
[null,"",null,null,null,null,null,null,null,"","","","","",""]
[null,"",null,null,null,null,null,null,null,"","","","","",""]
[null,"",null,null,null,null,null,null,null,"","","","","",""]
[null,"",null,null,null,null,null,null,null,"","","","","",""]
[null,"",null,null,null,null,null,null,null,"","","","","",""]
[null,{"$f":"IF(C1606=\"\",\"\",IF(B1605=\"Nr.\",1,B1605+1))","v":""},null,null,null,null,null,null,null,"",{"$f":"IF(H1606=\"\",\"\",(H1606/((1+$G1606)*100))*($G1606*100))","v":""},{"$f":"IF(I1606=\"\",\"\",(I1606/((1+$G1606)*100))*($G1606*100))","v":""},{"$f":"IF(H1606=\"\",\"\",+H1606-K1606)","v":""},{"$f":"IF(I1606=\"\",\"\",+I1606-L1606)","v":""},{"$f":"IF(C1606=\"\",\"\",MONTH(C1606))","v":""}]
[null,"",null,null,null,null,null,null,null,"","","","","",""]
[null,"",null,null,null,null,null,null,null,"","","","","",""]
[null,"",null,null,null,null,null,null,null,"","","","","",""]
[null,"",null,null,null,null,null,null,null,"","","","","",""]
[null,"",null,null,null,null,null,null,null,"","","","","",""]
[null,"",null,null,null,null,null,null,null,"","","","","",""]
[null,"",null,null,null,null,null,null,null,"","","","","",""]
[null,"",null,null,null,null,null,null,null,"","","","","",""]
[null,"",null,null,null,null,null,null,null,"","","","","",""]
[null,"",null,null,null,null,null,null,null,"","","","","",""]
[null,"",null,null,null,null,null,null,null,"","","","","",""]
[null,"",null,null,null,null,null,null,null,"","","","","",""]
[null,"",null,null,null,null,null,null,null,"","","","","",""]
[null,"",null,null,null,null,null,null,null,"","","","","",""]
[null,"",null,null,null,null,null,null,null,"","","","","",""]
[null,"",null,null,null,null,null,null,null,"","","","","",""]
[null,"",null,null,null,null,null,null,null,"","","","","",""]
[null,"",null,null,null,null,null,null,null,"","","","","",""]
[null,"",null,null,null,null,null,null,null,"","","","","",""]
[null,"",null,null,null,null,null,null,null,"","","","","",""]
[null,"",null,null,null,null,null,null,null,"","","","","",""]
[null,"",null,null,null,null,null,null,null,"","","","","",""]
[null,"",null,null,null,null,null,null,null,"","","","","",""]
[null,"",null,null,null,null,null,null,null,"","","","","",""]
[null,"",null,null,null,null,null,null,null,"","","","","",""]
[null,"",null,null,null,null,null,null,null,"","","","","",""]
[null,"",null,null,null,null,null,null,null,"","","","","",""]
[null,"",null,null,null,null,null,null,null,"","","","","",""]
[null,"",null,null,null,null,null,null,null,"","","","","",""]
[null,"",null,null,null,null,null,null,null,"","","","","",""]
[null,"",null,null,null,null,null,null,null,"","","","","",""]
[null,"",null,null,null,null,null,null,null,"","","","","",""]
[null,"",null,null,null,null,null,null,null,"","","","","",""]
[null,"",null,null,null,null,null,null,null,"","","","","",""]
[null,"",null,null,null,null,null,null,null,"","","","","",""]
[null,"",null,null,null,null,null,null,null,"","","","","",""]
[null,"",null,null,null,null,null,null,null,"","","","","",""]
[null,"",null,null,null,null,null,null,null,"","","","","",""]
[null,"",null,null,null,null,null,null,null,"","","","","",""]
[null,"",null,null,null,null,null,null,null,"","","","","",""]
[null,"",null,null,null,null,null,null,null,"","","","","",""]
[null,"",null,null,null,null,null,null,null,{"$f":"IF(B1648=\"\",\"\",IF(AND(H1648=\"\",I1648=\"\"),\"\",IF(AND(E1648<>\"\",F1648<>\"\"),\"FOUT\",IF(AND(E1648=\"\",H1648<>\"\"),\"FOUT\",IF(AND(F1648=\"\",I1648<>\"\"),\"FOUT\",IF(G1648=\"\",\"BTW ?\",\"OK\"))))))","v":""},"","","","",""]
[null,"",null,null,null,null,null,null,null,"","","","","",""]
[null,"",null,null,null,null,null,null,null,"","","","","",""]
[null,"",null,null,null,null,null,null,null,"","","","","",""]
[null,"",null,null,null,null,null,null,null,"","","","","",""]
[null,"",null,null,null,null,null,null,null,"","","","","",""]
[null,"",null,null,null,null,null,null,null,"","","","","",""]
[null,"",null,null,null,null,null,null,null,"","","","","",""]
[null,"",null,null,null,null,null,null,null,"","","","","",""]
[null,"",null,null,null,null,null,null,null,"","","","","",""]
[null,"",null,null,null,null,null,null,null,"","","","","",""]
[null,"",null,null,null,null,null,null,null,"","","","","",""]
[null,"",null,null,null,null,null,null,null,"","","","","",""]
[null,"",null,null,null,null,null,null,null,"","","","","",""]
[null,"",null,null,null,null,null,null,null,"","","","","",""]
[null,"",null,null,null,null,null,null,null,"","","","","",""]
[null,"",null,null,null,null,null,null,null,"","","","","",""]
[null,"",null,null,null,null,null,null,null,"","","","","",""]
[null,"",null,null,null,null,null,null,null,"","","","","",""]
[null,"",null,null,null,null,null,null,null,"","","","","",""]
[null,"",null,null,null,null,null,null,null,"","","","","",""]
[null,"",null,null,null,null,null,null,null,"","","","","",""]
[null,{"$f":"IF(C1670=\"\",\"\",IF(B1669=\"Nr.\",1,B1669+1))","v":""},null,null,null,null,null,null,null,"",{"$f":"IF(H1670=\"\",\"\",(H1670/((1+$G1670)*100))*($G1670*100))","v":""},{"$f":"IF(I1670=\"\",\"\",(I1670/((1+$G1670)*100))*($G1670*100))","v":""},{"$f":"IF(H1670=\"\",\"\",+H1670-K1670)","v":""},{"$f":"IF(I1670=\"\",\"\",+I1670-L1670)","v":""},{"$f":"IF(C1670=\"\",\"\",MONTH(C1670))","v":""}]
[null,"",null,null,null,null,null,null,null,"","","","","",""]
[null,"",null,null,null,null,null,null,null,"","","","","",""]
[null,"",null,null,null,null,null,null,null,"","","","","",""]
[null,"",null,null,null,null,null,null,null,"","","","","",""]
[null,"",null,null,null,null,null,null,null,"","","","","",""]
[null,"",null,null,null,null,null,null,null,"","","","","",""]
[null,"",null,null,null,null,null,null,null,"","","","","",""]
[null,"",null,null,null,null,null,null,null,"","","","","",""]
[null,"",null,null,null,null,null,null,null,"","","","","",""]
[null,"",null,null,null,null,null,null,null,"","","","","",""]
[null,"",null,null,null,null,null,null,null,"","","","","",""]
[null,"",null,null,null,null,null,null,null,"","","","","",""]
[null,"",null,null,null,null,null,null,null,"","","","","",""]
[null,"",null,null,null,null,null,null,null,"","","","","",""]
[null,"",null,null,null,null,null,null,null,"","","","","",""]
[null,"",null,null,null,null,null,null,null,"","","","","",""]
[null,"",null,null,null,null,null,null,null,"","","","","",""]
[null,"",null,null,null,null,null,null,null,"","","","","",""]
[null,"",null,null,null,null,null,null,null,"","","","","",""]
[null,"",null,null,null,null,null,null,null,"","","","","",""]
[null,"",null,null,null,null,null,null,null,"","","","","",""]
[null,"",null,null,null,null,null,null,null,"","","","","",""]
[null,"",null,null,null,null,null,null,null,"","","","","",""]
[null,"",null,null,null,null,null,null,null,"","","","","",""]
[null,"",null,null,null,null,null,null,null,"","","","","",""]
[null,"",null,null,null,null,null,null,null,"","","","","",""]
[null,"",null,null,null,null,null,null,null,"","","","","",""]
[null,"",null,null,null,null,null,null,null,"","","","","",""]
[null,"",null,null,null,null,null,null,null,"","","","","",""]
[null,"",null,null,null,null,null,null,null,"","","","","",""]
[null,"",null,null,null,null,null,null,null,"","","","","",""]
[null,"",null,null,null,null,null,null,null,"","","","","",""]
[null,"",null,null,null,null,null,null,null,"","","","","",""]
[null,"",null,null,null,null,null,null,null,"","","","","",""]
[null,"",null,null,null,null,null,null,null,"","","","","",""]
[null,"",null,null,null,null,null,null,null,"","","","","",""]
[null,"",null,null,null,null,null,null,null,"","","","","",""]
[null,"",null,null,null,null,null,null,null,"","","","","",""]
[null,"",null,null,null,null,null,null,null,"","","","","",""]
[null,"",null,null,null,null,null,null,null,"","","","","",""]
[null,"",null,null,null,null,null,null,null,"","","","","",""]
[null,"",null,null,null,null,null,null,null,{"$f":"IF(B1712=\"\",\"\",IF(AND(H1712=\"\",I1712=\"\"),\"\",IF(AND(E1712<>\"\",F1712<>\"\"),\"FOUT\",IF(AND(E1712=\"\",H1712<>\"\"),\"FOUT\",IF(AND(F1712=\"\",I1712<>\"\"),\"FOUT\",IF(G1712=\"\",\"BTW ?\",\"OK\"))))))","v":""},"","","","",""]
[null,"",null,null,null,null,null,null,null,"","","","","",""]
[null,"",null,null,null,null,null,null,null,"","","","","",""]
[null,"",null,null,null,null,null,null,null,"","","","","",""]
[null,"",null,null,null,null,null,null,null,"","","","","",""]
[null,"",null,null,null,null,null,null,null,"","","","","",""]
[null,"",null,null,null,null,null,null,null,"","","","","",""]
[null,"",null,null,null,null,null,null,null,"","","","","",""]
[null,"",null,null,null,null,null,null,null,"","","","","",""]
[null,"",null,null,null,null,null,null,null,"","","","","",""]
[null,"",null,null,null,null,null,null,null,"","","","","",""]
[null,"",null,null,null,null,null,null,null,"","","","","",""]
[null,"",null,null,null,null,null,null,null,"","","","","",""]
[null,"",null,null,null,null,null,null,null,"","","","","",""]
[null,"",null,null,null,null,null,null,null,"","","","","",""]
[null,"",null,null,null,null,null,null,null,"","","","","",""]
[null,"",null,null,null,null,null,null,null,"","","","","",""]
[null,"",null,null,null,null,null,null,null,"","","","","",""]
[null,"",null,null,null,null,null,null,null,"","","","","",""]
[null,"",null,null,null,null,null,null,null,"","","","","",""]
[null,"",null,null,null,null,null,null,null,"","","","","",""]
[null,"",null,null,null,null,null,null,null,"","","","","",""]
[null,{"$f":"IF(C1734=\"\",\"\",IF(B1733=\"Nr.\",1,B1733+1))","v":""},null,null,null,null,null,null,null,"",{"$f":"IF(H1734=\"\",\"\",(H1734/((1+$G1734)*100))*($G1734*100))","v":""},{"$f":"IF(I1734=\"\",\"\",(I1734/((1+$G1734)*100))*($G1734*100))","v":""},{"$f":"IF(H1734=\"\",\"\",+H1734-K1734)","v":""},{"$f":"IF(I1734=\"\",\"\",+I1734-L1734)","v":""},{"$f":"IF(C1734=\"\",\"\",MONTH(C1734))","v":""}]
[null,"",null,null,null,null,null,null,null,"","","","","",""]
[null,"",null,null,null,null,null,null,null,"","","","","",""]
[null,"",null,null,null,null,null,null,null,"","","","","",""]
[null,"",null,null,null,null,null,null,null,"","","","","",""]
[null,"",null,null,null,null,null,null,null,"","","","","",""]
[null,"",null,null,null,null,null,null,null,"","","","","",""]
[null,"",null,null,null,null,null,null,null,"","","","","",""]
[null,"",null,null,null,null,null,null,null,"","","","","",""]
[null,"",null,null,null,null,null,null,null,"","","","","",""]
[null,"",null,null,null,null,null,null,null,"","","","","",""]
[null,"",null,null,null,null,null,null,null,"","","","","",""]
[null,"",null,null,null,null,null,null,null,"","","","","",""]
[null,"",null,null,null,null,null,null,null,"","","","","",""]
[null,"",null,null,null,null,null,null,null,"","","","","",""]
[null,"",null,null,null,null,null,null,null,"","","","","",""]
[null,"",null,null,null,null,null,null,null,"","","","","",""]
[null,"",null,null,null,null,null,null,null,"","","","","",""]
[null,"",null,null,null,null,null,null,null,"","","","","",""]
[null,"",null,null,null,null,null,null,null,"","","","","",""]
[null,"",null,null,null,null,null,null,null,"","","","","",""]
[null,"",null,null,null,null,null,null,null,"","","","","",""]
[null,"",null,null,null,null,null,null,null,"","","","","",""]
[null,"",null,null,null,null,null,null,null,"","","","","",""]
[null,"",null,null,null,null,null,null,null,"","","","","",""]
[null,"",null,null,null,null,null,null,null,"","","","","",""]
[null,"",null,null,null,null,null,null,null,"","","","","",""]
[null,"",null,null,null,null,null,null,null,"","","","","",""]
[null,"",null,null,null,null,null,null,null,"","","","","",""]
[null,"",null,null,null,null,null,null,null,"","","","","",""]
[null,"",null,null,null,null,null,null,null,"","","","","",""]
[null,"",null,null,null,null,null,null,null,"","","","","",""]
[null,"",null,null,null,null,null,null,null,"","","","","",""]
[null,"",null,null,null,null,null,null,null,"","","","","",""]
[null,"",null,null,null,null,null,null,null,"","","","","",""]
[null,"",null,null,null,null,null,null,null,"","","","","",""]
[null,"",null,null,null,null,null,null,null,"","","","","",""]
[null,"",null,null,null,null,null,null,null,"","","","","",""]
[null,"",null,null,null,null,null,null,null,"","","","","",""]
[null,"",null,null,null,null,null,null,null,"","","","","",""]
[null,"",null,null,null,null,null,null,null,"","","","","",""]
[null,"",null,null,null,null,null,null,null,"","","","","",""]
[null,"",null,null,null,null,null,null,null,{"$f":"IF(B1776=\"\",\"\",IF(AND(H1776=\"\",I1776=\"\"),\"\",IF(AND(E1776<>\"\",F1776<>\"\"),\"FOUT\",IF(AND(E1776=\"\",H1776<>\"\"),\"FOUT\",IF(AND(F1776=\"\",I1776<>\"\"),\"FOUT\",IF(G1776=\"\",\"BTW ?\",\"OK\"))))))","v":""},"","","","",""]
[null,"",null,null,null,null,null,null,null,"","","","","",""]
[null,"",null,null,null,null,null,null,null,"","","","","",""]
[null,"",null,null,null,null,null,null,null,"","","","","",""]
[null,"",null,null,null,null,null,null,null,"","","","","",""]
[null,"",null,null,null,null,null,null,null,"","","","","",""]
[null,"",null,null,null,null,null,null,null,"","","","","",""]
[null,"",null,null,null,null,null,null,null,"","","","","",""]
[null,"",null,null,null,null,null,null,null,"","","","","",""]
[null,"",null,null,null,null,null,null,null,"","","","","",""]
[null,"",null,null,null,null,null,null,null,"","","","","",""]
[null,"",null,null,null,null,null,null,null,"","","","","",""]
[null,"",null,null,null,null,null,null,null,"","","","","",""]
[null,"",null,null,null,null,null,null,null,"","","","","",""]
[null,"",null,null,null,null,null,null,null,"","","","","",""]
[null,"",null,null,null,null,null,null,null,"","","","","",""]
[null,"",null,null,null,null,null,null,null,"","","","","",""]
[null,"",null,null,null,null,null,null,null,"","","","","",""]
[null,"",null,null,null,null,null,null,null,"","","","","",""]
[null,"",null,null,null,null,null,null,null,"","","","","",""]
[null,"",null,null,null,null,null,null,null,"","","","","",""]
[null,"",null,null,null,null,null,null,null,"","","","","",""]
[null,{"$f":"IF(C1798=\"\",\"\",IF(B1797=\"Nr.\",1,B1797+1))","v":""},null,null,null,null,null,null,null,"",{"$f":"IF(H1798=\"\",\"\",(H1798/((1+$G1798)*100))*($G1798*100))","v":""},{"$f":"IF(I1798=\"\",\"\",(I1798/((1+$G1798)*100))*($G1798*100))","v":""},{"$f":"IF(H1798=\"\",\"\",+H1798-K1798)","v":""},{"$f":"IF(I1798=\"\",\"\",+I1798-L1798)","v":""},{"$f":"IF(C1798=\"\",\"\",MONTH(C1798))","v":""}]
[null,"",null,null,null,null,null,null,null,"","","","","",""]
[null,"",null,null,null,null,null,null,null,"","","","","",""]
[null,"",null,null,null,null,null,null,null,"","","","","",""]
[null,"",null,null,null,null,null,null,null,"","","","","",""]
[null,"",null,null,null,null,null,null,null,"","","","","",""]
[null,"",null,null,null,null,null,null,null,"","","","","",""]
[null,"",null,null,null,null,null,null,null,"","","","","",""]
[null,"",null,null,null,null,null,null,null,"","","","","",""]
[null,"",null,null,null,null,null,null,null,"","","","","",""]
[null,"",null,null,null,null,null,null,null,"","","","","",""]
[null,"",null,null,null,null,null,null,null,"","","","","",""]
[null,"",null,null,null,null,null,null,null,"","","","","",""]
[null,"",null,null,null,null,null,null,null,"","","","","",""]
[null,"",null,null,null,null,null,null,null,"","","","","",""]
[null,"",null,null,null,null,null,null,null,"","","","","",""]
[null,"",null,null,null,null,null,null,null,"","","","","",""]
[null,"",null,null,null,null,null,null,null,"","","","","",""]
[null,"",null,null,null,null,null,null,null,"","","","","",""]
[null,"",null,null,null,null,null,null,null,"","","","","",""]
[null,"",null,null,null,null,null,null,null,"","","","","",""]
[null,"",null,null,null,null,null,null,null,"","","","","",""]
[null,"",null,null,null,null,null,null,null,"","","","","",""]
[null,"",null,null,null,null,null,null,null,"","","","","",""]
[null,"",null,null,null,null,null,null,null,"","","","","",""]
[null,"",null,null,null,null,null,null,null,"","","","","",""]
[null,"",null,null,null,null,null,null,null,"","","","","",""]
[null,"",null,null,null,null,null,null,null,"","","","","",""]
[null,"",null,null,null,null,null,null,null,"","","","","",""]
[null,"",null,null,null,null,null,null,null,"","","","","",""]
[null,"",null,null,null,null,null,null,null,"","","","","",""]
[null,"",null,null,null,null,null,null,null,"","","","","",""]
[null,"",null,null,null,null,null,null,null,"","","","","",""]
[null,"",null,null,null,null,null,null,null,"","","","","",""]
[null,"",null,null,null,null,null,null,null,"","","","","",""]
[null,"",null,null,null,null,null,null,null,"","","","","",""]
[null,"",null,null,null,null,null,null,null,"","","","","",""]
[null,"",null,null,null,null,null,null,null,"","","","","",""]
[null,"",null,null,null,null,null,null,null,"","","","","",""]
[null,"",null,null,null,null,null,null,null,"","","","","",""]
[null,"",null,null,null,null,null,null,null,"","","","","",""]
[null,"",null,null,null,null,null,null,null,"","","","","",""]
[null,"",null,null,null,null,null,null,null,{"$f":"IF(B1840=\"\",\"\",IF(AND(H1840=\"\",I1840=\"\"),\"\",IF(AND(E1840<>\"\",F1840<>\"\"),\"FOUT\",IF(AND(E1840=\"\",H1840<>\"\"),\"FOUT\",IF(AND(F1840=\"\",I1840<>\"\"),\"FOUT\",IF(G1840=\"\",\"BTW ?\",\"OK\"))))))","v":""},"","","","",""]
[null,"",null,null,null,null,null,null,null,"","","","","",""]
[null,"",null,null,null,null,null,null,null,"","","","","",""]
[null,"",null,null,null,null,null,null,null,"","","","","",""]
[null,"",null,null,null,null,null,null,null,"","","","","",""]
[null,"",null,null,null,null,null,null,null,"","","","","",""]
[null,"",null,null,null,null,null,null,null,"","","","","",""]
[null,"",null,null,null,null,null,null,null,"","","","","",""]
[null,"",null,null,null,null,null,null,null,"","","","","",""]
[null,"",null,null,null,null,null,null,null,"","","","","",""]
[null,"",null,null,null,null,null,null,null,"","","","","",""]
[null,"",null,null,null,null,null,null,null,"","","","","",""]
[null,"",null,null,null,null,null,null,null,"","","","","",""]
[null,"",null,null,null,null,null,null,null,"","","","","",""]
[null,"",null,null,null,null,null,null,null,"","","","","",""]
[null,"",null,null,null,null,null,null,null,"","","","","",""]
[null,"",null,null,null,null,null,null,null,"","","","","",""]
[null,"",null,null,null,null,null,null,null,"","","","","",""]
[null,"",null,null,null,null,null,null,null,"","","","","",""]
[null,"",null,null,null,null,null,null,null,"","","","","",""]
[null,"",null,null,null,null,null,null,null,"","","","","",""]
[null,"",null,null,null,null,null,null,null,"","","","","",""]
[null,{"$f":"IF(C1862=\"\",\"\",IF(B1861=\"Nr.\",1,B1861+1))","v":""},null,null,null,null,null,null,null,"",{"$f":"IF(H1862=\"\",\"\",(H1862/((1+$G1862)*100))*($G1862*100))","v":""},{"$f":"IF(I1862=\"\",\"\",(I1862/((1+$G1862)*100))*($G1862*100))","v":""},{"$f":"IF(H1862=\"\",\"\",+H1862-K1862)","v":""},{"$f":"IF(I1862=\"\",\"\",+I1862-L1862)","v":""},{"$f":"IF(C1862=\"\",\"\",MONTH(C1862))","v":""}]
[null,"",null,null,null,null,null,null,null,"","","","","",""]
[null,"",null,null,null,null,null,null,null,"","","","","",""]
[null,"",null,null,null,null,null,null,null,"","","","","",""]
[null,"",null,null,null,null,null,null,null,"","","","","",""]
[null,"",null,null,null,null,null,null,null,"","","","","",""]
[null,"",null,null,null,null,null,null,null,"","","","","",""]
[null,"",null,null,null,null,null,null,null,"","","","","",""]
[null,"",null,null,null,null,null,null,null,"","","","","",""]
[null,"",null,null,null,null,null,null,null,"","","","","",""]
[null,"",null,null,null,null,null,null,null,"","","","","",""]
[null,"",null,null,null,null,null,null,null,"","","","","",""]
[null,"",null,null,null,null,null,null,null,"","","","","",""]
[null,"",null,null,null,null,null,null,null,"","","","","",""]
[null,"",null,null,null,null,null,null,null,"","","","","",""]
[null,"",null,null,null,null,null,null,null,"","","","","",""]
[null,"",null,null,null,null,null,null,null,"","","","","",""]
[null,"",null,null,null,null,null,null,null,"","","","","",""]
[null,"",null,null,null,null,null,null,null,"","","","","",""]
[null,"",null,null,null,null,null,null,null,"","","","","",""]
[null,"",null,null,null,null,null,null,null,"","","","","",""]
[null,"",null,null,null,null,null,null,null,"","","","","",""]
[null,"",null,null,null,null,null,null,null,"","","","","",""]
[null,"",null,null,null,null,null,null,null,"","","","","",""]
[null,"",null,null,null,null,null,null,null,"","","","","",""]
[null,"",null,null,null,null,null,null,null,"","","","","",""]
[null,"",null,null,null,null,null,null,null,"","","","","",""]
[null,"",null,null,null,null,null,null,null,"","","","","",""]
[null,"",null,null,null,null,null,null,null,"","","","","",""]
[null,"",null,null,null,null,null,null,null,"","","","","",""]
[null,"",null,null,null,null,null,null,null,"","","","","",""]
[null,"",null,null,null,null,null,null,null,"","","","","",""]
[null,"",null,null,null,null,null,null,null,"","","","","",""]
[null,"",null,null,null,null,null,null,null,"","","","","",""]
[null,"",null,null,null,null,null,null,null,"","","","","",""]
[null,"",null,null,null,null,null,null,null,"","","","","",""]
[null,"",null,null,null,null,null,null,null,"","","","","",""]
[null,"",null,null,null,null,null,null,null,"","","","","",""]
[null,"",null,null,null,null,null,null,null,"","","","","",""]
[null,"",null,null,null,null,null,null,null,"","","","","",""]
[null,"",null,null,null,null,null,null,null,"","","","","",""]
[null,"",null,null,null,null,null,null,null,"","","","","",""]
[null,"",null,null,null,null,null,null,null,{"$f":"IF(B1904=\"\",\"\",IF(AND(H1904=\"\",I1904=\"\"),\"\",IF(AND(E1904<>\"\",F1904<>\"\"),\"FOUT\",IF(AND(E1904=\"\",H1904<>\"\"),\"FOUT\",IF(AND(F1904=\"\",I1904<>\"\"),\"FOUT\",IF(G1904=\"\",\"BTW ?\",\"OK\"))))))","v":""},"","","","",""]
[null,"",null,null,null,null,null,null,null,"","","","","",""]
[null,"",null,null,null,null,null,null,null,"","","","","",""]
[null,"",null,null,null,null,null,null,null,"","","","","",""]
[null,"",null,null,null,null,null,null,null,"","","","","",""]
[null,"",null,null,null,null,null,null,null,"","","","","",""]
[null,"",null,null,null,null,null,null,null,"","","","","",""]
[null,"",null,null,null,null,null,null,null,"","","","","",""]
[null,"",null,null,null,null,null,null,null,"","","","","",""]
[null,"",null,null,null,null,null,null,null,"","","","","",""]
[null,"",null,null,null,null,null,null,null,"","","","","",""]
[null,"",null,null,null,null,null,null,null,"","","","","",""]
[null,"",null,null,null,null,null,null,null,"","","","","",""]
[null,"",null,null,null,null,null,null,null,"","","","","",""]
[null,"",null,null,null,null,null,null,null,"","","","","",""]
[null,"",null,null,null,null,null,null,null,"","","","","",""]
[null,"",null,null,null,null,null,null,null,"","","","","",""]
[null,"",null,null,null,null,null,null,null,"","","","","",""]
[null,"",null,null,null,null,null,null,null,"","","","","",""]
[null,"",null,null,null,null,null,null,null,"","","","","",""]
[null,"",null,null,null,null,null,null,null,"","","","","",""]
[null,"",null,null,null,null,null,null,null,"","","","","",""]
[null,{"$f":"IF(C1926=\"\",\"\",IF(B1925=\"Nr.\",1,B1925+1))","v":""},null,null,null,null,null,null,null,"",{"$f":"IF(H1926=\"\",\"\",(H1926/((1+$G1926)*100))*($G1926*100))","v":""},{"$f":"IF(I1926=\"\",\"\",(I1926/((1+$G1926)*100))*($G1926*100))","v":""},{"$f":"IF(H1926=\"\",\"\",+H1926-K1926)","v":""},{"$f":"IF(I1926=\"\",\"\",+I1926-L1926)","v":""},{"$f":"IF(C1926=\"\",\"\",MONTH(C1926))","v":""}]
[null,"",null,null,null,null,null,null,null,"","","","","",""]
[null,"",null,null,null,null,null,null,null,"","","","","",""]
[null,"",null,null,null,null,null,null,null,"","","","","",""]
[null,"",null,null,null,null,null,null,null,"","","","","",""]
[null,"",null,null,null,null,null,null,null,"","","","","",""]
[null,"",null,null,null,null,null,null,null,"","","","","",""]
[null,"",null,null,null,null,null,null,null,"","","","","",""]
[null,"",null,null,null,null,null,null,null,"","","","","",""]
[null,"",null,null,null,null,null,null,null,"","","","","",""]
[null,"",null,null,null,null,null,null,null,"","","","","",""]
[null,"",null,null,null,null,null,null,null,"","","","","",""]
[null,"",null,null,null,null,null,null,null,"","","","","",""]
[null,"",null,null,null,null,null,null,null,"","","","","",""]
[null,"",null,null,null,null,null,null,null,"","","","","",""]
[null,"",null,null,null,null,null,null,null,"","","","","",""]
[null,"",null,null,null,null,null,null,null,"","","","","",""]
[null,"",null,null,null,null,null,null,null,"","","","","",""]
[null,"",null,null,null,null,null,null,null,"","","","","",""]
[null,"",null,null,null,null,null,null,null,"","","","","",""]
[null,"",null,null,null,null,null,null,null,"","","","","",""]
[null,"",null,null,null,null,null,null,null,"","","","","",""]
[null,"",null,null,null,null,null,null,null,"","","","","",""]
[null,"",null,null,null,null,null,null,null,"","","","","",""]
[null,"",null,null,null,null,null,null,null,"","","","","",""]
[null,"",null,null,null,null,null,null,null,"","","","","",""]
[null,"",null,null,null,null,null,null,null,"","","","","",""]
[null,"",null,null,null,null,null,null,null,"","","","","",""]
[null,"",null,null,null,null,null,null,null,"","","","","",""]
[null,"",null,null,null,null,null,null,null,"","","","","",""]
[null,"",null,null,null,null,null,null,null,"","","","","",""]
[null,"",null,null,null,null,null,null,null,"","","","","",""]
[null,"",null,null,null,null,null,null,null,"","","","","",""]
[null,"",null,null,null,null,null,null,null,"","","","","",""]
[null,"",null,null,null,null,null,null,null,"","","","","",""]
[null,"",null,null,null,null,null,null,null,"","","","","",""]
[null,"",null,null,null,null,null,null,null,"","","","","",""]
[null,"",null,null,null,null,null,null,null,"","","","","",""]
[null,"",null,null,null,null,null,null,null,"","","","","",""]
[null,"",null,null,null,null,null,null,null,"","","","","",""]
[null,"",null,null,null,null,null,null,null,"","","","","",""]
[null,"",null,null,null,null,null,null,null,"","","","","",""]
[null,"",null,null,null,null,null,null,null,{"$f":"IF(B1968=\"\",\"\",IF(AND(H1968=\"\",I1968=\"\"),\"\",IF(AND(E1968<>\"\",F1968<>\"\"),\"FOUT\",IF(AND(E1968=\"\",H1968<>\"\"),\"FOUT\",IF(AND(F1968=\"\",I1968<>\"\"),\"FOUT\",IF(G1968=\"\",\"BTW ?\",\"OK\"))))))","v":""},"","","","",""]
[null,"",null,null,null,null,null,null,null,"","","","","",""]
[null,"",null,null,null,null,null,null,null,"","","","","",""]
[null,"",null,null,null,null,null,null,null,"","","","","",""]
[null,"",null,null,null,null,null,null,null,"","","","","",""]
[null,"",null,null,null,null,null,null,null,"","","","","",""]
[null,"",null,null,null,null,null,null,null,"","","","","",""]
[null,"",null,null,null,null,null,null,null,"","","","","",""]
[null,"",null,null,null,null,null,null,null,"","","","","",""]
[null,"",null,null,null,null,null,null,null,"","","","","",""]
[null,"",null,null,null,null,null,null,null,"","","","","",""]
[null,"",null,null,null,null,null,null,null,"","","","","",""]
[null,"",null,null,null,null,null,null,null,"","","","","",""]
[null,"",null,null,null,null,null,null,null,"","","","","",""]
[null,"",null,null,null,null,null,null,null,"","","","","",""]
[null,"",null,null,null,null,null,null,null,"","","","","",""]
[null,"",null,null,null,null,null,null,null,"","","","","",""]
[null,"",null,null,null,null,null,null,null,"","","","","",""]
[null,"",null,null,null,null,null,null,null,"","","","","",""]
[null,"",null,null,null,null,null,null,null,"","","","","",""]
[null,"",null,null,null,null,null,null,null,"","","","","",""]
[null,"",null,null,null,null,null,null,null,"","","","","",""]
[null,{"$f":"IF(C1990=\"\",\"\",IF(B1989=\"Nr.\",1,B1989+1))","v":""},null,null,null,null,null,null,null,"",{"$f":"IF(H1990=\"\",\"\",(H1990/((1+$G1990)*100))*($G1990*100))","v":""},{"$f":"IF(I1990=\"\",\"\",(I1990/((1+$G1990)*100))*($G1990*100))","v":""},{"$f":"IF(H1990=\"\",\"\",+H1990-K1990)","v":""},{"$f":"IF(I1990=\"\",\"\",+I1990-L1990)","v":""},{"$f":"IF(C1990=\"\",\"\",MONTH(C1990))","v":""}]
[null,"",null,null,null,null,null,null,null,"","","","","",""]
[null,"",null,null,null,null,null,null,null,"","","","","",""]
[null,"",null,null,null,null,null,null,null,"","","","","",""]
[null,"",null,null,null,null,null,null,null,"","","","","",""]
[null,"",null,null,null,null,null,null,null,"","","","","",""]
[null,"",null,null,null,null,null,null,null,"","","","","",""]
[null,"",null,null,null,null,null,null,null,"","","","","",""]
[null,"",null,null,null,null,null,null,null,"","","","","",""]
[null,"",null,null,null,null,null,null,null,"","","","","",""]
[null,"",null,null,null,null,null,null,null,"","","","","",""]
[null,"",null,null,null,null,null,null,null,"","","","","",""]
[null,"",null,null,null,null,null,null,null,"","","","","",""]
[null,"",null,null,null,null,null,null,null,{"$f":"IF(B2032=\"\",\"\",IF(AND(H2032=\"\",I2032=\"\"),\"\",IF(AND(E2032<>\"\",F2032<>\"\"),\"FOUT\",IF(AND(E2032=\"\",H2032<>\"\"),\"FOUT\",IF(AND(F2032=\"\",I2032<>\"\"),\"FOUT\",IF(G2032=\"\",\"BTW ?\",\"OK\"))))))","v":""},"","","","",""]
[null,"",null,null,null,null,null,null,null,"","","","","",""]
[null,"",null,null,null,null,null,null,null,"","","","","",""]
[null,"",null,null,null,null,null,null,null,"","","","","",""]
[null,"",null,null,null,null,null,null,null,"","","","","",""]
[null,"",null,null,null,null,null,null,null,"","","","","",""]
[null,"",null,null,null,null,null,null,null,"","","","","",""]
[null,"",null,null,null,null,null,null,null,"","","","","",""]
[null,"",null,null,null,null,null,null,null,"","","","","",""]
[null,"",null,null,null,null,null,null,null,"","","","","",""]
[null,"",null,null,null,null,null,null,null,"","","","","",""]
[null,"",null,null,null,null,null,null,null,"","","","","",""]
[null,"",null,null,null,null,null,null,null,"","","","","",""]
[null,"",null,null,null,null,null,null,null,"","","","","",""]
[null,"",null,null,null,null,null,null,null,"","","","","",""]
[null,"",null,null,null,null,null,null,null,"","","","","",""]
[null,"",null,null,null,null,null,null,null,"","","","","",""]
[null,"",null,null,null,null,null,null,null,"","","","","",""]
[null,"",null,null,null,null,null,null,null,"","","","","",""]
[null,"",null,null,null,null,null,null,null,"","","","","",""]
[null,"",null,null,null,null,null,null,null,"","","","","",""]
[null,"",null,null,null,null,null,null,null,"","","","","",""]
[null,"",null,null,null,null,null,null,null,"","","","","",""]
[null,"",null,null,null,null,null,null,null,"","","","","",""]
[null,"",null,null,null,null,null,null,null,"","","","","",""]
[null,"",null,null,null,null,null,null,null,"","","","","",""]
[null,"",null,null,null,null,null,null,null,"","","","","",""]
[null,"",null,null,null,null,null,null,null,"","","","","",""]
[null,"",null,null,null,null,null,null,null,"","","","","",""]
[null,"",null,null,null,null,null,null,null,"","","","","",""]
[null,"",null,null,null,null,null,null,null,"","","","","",""]
[null,"",null,null,null,null,null,null,null,"","","","","",""]
[null,"",null,null,null,null,null,null,null,"","","","","",""]
[null,"",null,null,null,null,null,null,null,"","","","","",""]
[null,"",null,null,null,null,null,null,null,"","","","","",""]
[null,"",null,null,null,null,null,null,null,"","","","","",""]
[null,"",null,null,null,null,null,null,null,"","","","","",""]
[null,"",null,null,null,null,null,null,null,{"$f":"IF(B2480=\"\",\"\",IF(AND(H2480=\"\",I2480=\"\"),\"\",IF(AND(E2480<>\"\",F2480<>\"\"),\"FOUT\",IF(AND(E2480=\"\",H2480<>\"\"),\"FOUT\",IF(AND(F2480=\"\",I2480<>\"\"),\"FOUT\",IF(G2480=\"\",\"BTW ?\",\"OK\"))))))","v":""},"","","","",""]
[null,"",null,null,null,null,null,null,null,"","","","","",""]
[null,"",null,null,null,null,null,null,null,"","","","","",""]
[null,"",null,null,null,null,null,null,null,"","","","","",""]
[null,"",null,null,null,null,null,null,null,"","","","","",""]
[null,"",null,null,null,null,null,null,null,"","","","","",""]
[null,"",null,null,null,null,null,null,null,"","","","","",""]
[null,"",null,null,null,null,null,null,null,"","","","","",""]
[null,"",null,null,null,null,null,null,null,"","","","","",""]
[null,"",null,null,null,null,null,null,null,"","","","","",""]
[null,"",null,null,null,null,null,null,null,"","","","","",""]
[null,"",null,null,null,null,null,null,null,"","","","","",""]
[null,"",null,null,null,null,null,null,null,"","","","","",""]
[null,"",null,null,null,null,null,null,null,"","","","","",""]
[null,"",null,null,null,null,null,null,null,"","","","","",""]
[null,"",null,null,null,null,null,null,null,"","","","","",""]
[null,"",null,null,null,null,null,null,null,"","","","","",""]
[null,"",null,null,null,null,null,null,null,"","","","","",""]
[null,"",null,null,null,null,null,null,null,"","","","","",""]
[null,"",null,null,null,null,null,null,null,"","","","","",""]
[null,"",null,null,null,null,null,null,null,"","","","","",""]
[null,"",null,null,null,null,null,null,null,"","","","","",""]
[null,"",null,null,null,null,null,null,null,"","","","","",""]
[null,"",null,null,null,null,null,null,null,"","","","","",""]
[null,"",null,null,null,null,null,null,null,"","","","","",""]
[null,"",null,null,null,null,null,null,null,"","","","","",""]
[null,"",null,null,null,null,null,null,null,"","","","","",""]
[null,"",null,null,null,null,null,null,null,"","","","","",""]
[null,"",null,null,null,null,null,null,null,"","","","","",""]
[null,"",null,null,null,null,null,null,null,"","","","","",""]
[null,"",null,null,null,null,null,null,null,"","","","","",""]
[null,"",null,null,null,null,null,null,null,"","","","","",""]
[null,"",null,null,null,null,null,null,null,"","","","","",""]
[null,"",null,null,null,null,null,null,null,"","","","","",""]
[null,"",null,null,null,null,null,null,null,"","","","","",""]
[null,"",null,null,null,null,null,null,null,"","","","","",""]
[null,"",null,null,null,null,null,null,null,"","","","","",""]
[null,"",null,null,null,null,null,null,null,"","","","","",""]
[null,"",null,null,null,null,null,null,null,"","","","","",""]
[null,"",null,null,null,null,null,null,null,"","","","","",""]
[null,"",null,null,null,null,null,null,null,"","","","","",""]
[null,"",null,null,null,null,null,null,null,"","","","","",""]
[null,"",null,null,null,null,null,null,null,"","","","","",""]
[null,"",null,null,null,null,null,null,null,"","","","","",""]
[null,"",null,null,null,null,null,null,null,"","","","","",""]
[null,"",null,null,null,null,null,null,null,"","","","","",""]
[null,"",null,null,null,null,null,null,null,"","","","","",""]
[null,"",null,null,null,null,null,null,null,"","","","","",""]
[null,"",null,null,null,null,null,null,null,"","","","","",""]
[null,"",null,null,null,null,null,null,null,"","","","","",""]
[null,"",null,null,null,null,null,null,null,"","","","","",""]
[null,"",null,null,null,null,null,null,null,"","","","","",""]
[null,"",null,null,null,null,null,null,null,"","","","","",""]
[null,"",null,null,null,null,null,null,null,"","","","","",""]
[null,"",null,null,null,null,null,null,null,"","","","","",""]
[null,"",null,null,null,null,null,null,null,"","","","","",""]
[null,"",null,null,null,null,null,null,null,"","","","","",""]
[null,"",null,null,null,null,null,null,null,"","","","","",""]
[null,"",null,null,null,null,null,null,null,"","","","","",""]
[null,"",null,null,null,null,null,null,null,"","","","","",""]
[null,"",null,null,null,null,null,null,null,"","","","","",""]
[null,"",null,null,null,null,null,null,null,"","","","","",""]
[null,"",null,null,null,null,null,null,null,"","","","","",""]
[null,"",null,null,null,null,null,null,null,"","","","","",""]
[null,"",null,null,null,null,null,null,null,"","","","","",""]
[null,"",null,null,null,null,null,null,null,"","","","","",""]
[null,"",null,null,null,null,null,null,null,"","","","","",""]
[null,"",null,null,null,null,null,null,null,"","","","","",""]
[null,"",null,null,null,null,null,null,null,"","","","","",""]
[null,"",null,null,null,null,null,null,null,"","","","","",""]
[null,"",null,null,null,null,null,null,null,"","","","","",""]
[null,"",null,null,null,null,null,null,null,"","","","","",""]
[null,"",null,null,null,null,null,null,null,"","","","","",""]
[null,"",null,null,null,null,null,null,null,"","","","","",""]
[null,"",null,null,null,null,null,null,null,"","","","","",""]
[null,"",null,null,null,null,null,null,null,"","","","","",""]
[null,"",null,null,null,null,null,null,null,"","","","","",""]
[null,"",null,null,null,null,null,null,null,"","","","","",""]
[null,"",null,null,null,null,null,null,null,"","","","","",""]
[null,"",null,null,null,null,null,null,null,"","","","","",""]
[null,"",null,null,null,null,null,null,null,"","","","","",""]
[null,"",null,null,null,null,null,null,null,"","","","","",""]
[null,"",null,null,null,null,null,null,null,"","","","","",""]
[null,"",null,null,null,null,null,null,null,"","","","","",""]
[null,"",null,null,null,null,null,null,null,"","","","","",""]
[null,"",null,null,null,null,null,null,null,"","","","","",""]
[null,"",null,null,null,null,null,null,null,"","","","","",""]
[null,"",null,null,null,null,null,null,null,"","","","","",""]
[null,"",null,null,null,null,null,null,null,"","","","","",""]
[null,"",null,null,null,null,null,null,null,"","","","","",""]
[null,"",null,null,null,null,null,null,null,"","","","","",""]
[null,"",null,null,null,null,null,null,null,"","","","","",""]
[null,"",null,null,null,null,null,null,null,"","","","","",""]
[null,"",null,null,null,null,null,null,null,"","","","","",""]
[null,"",null,null,null,null,null,null,null,"","","","","",""]
[null,"",null,null,null,null,null,null,null,"","","","","",""]
[null,"",null,null,null,null,null,null,null,"","","","","",""]
[null,"",null,null,null,null,null,null,null,"","","","","",""]
[null,"",null,null,null,null,null,null,null,"","","","","",""]
[null,"",null,null,null,null,null,null,null,"","","","","",""]
[null,"",null,null,null,null,null,null,null,"","","","","",""]
[null,"",null,null,null,null,null,null,null,"","","","","",""]
[null,"",null,null,null,null,null,null,null,"","","","","",""]
[null,"",null,null,null,null,null,null,null,"","","","","",""]
[null,"",null,null,null,null,null,null,null,"","","","","",""]
[null,"",null,null,null,null,null,null,null,"","","","","",""]
[null,"",null,null,null,null,null,null,null,"","","","","",""]
[null,"",null,null,null,null,null,null,null,"","","","","",""]
[null,"",null,null,null,null,null,null,null,"","","","","",""]
[null,"",null,null,null,null,null,null,null,"","","","","",""]
[null,"",null,null,null,null,null,null,null,"","","","","",""]
[null,"",null,null,null,null,null,null,null,"","","","","",""]
[null,"",null,null,null,null,null,null,null,"","","","","",""]
[null,"",null,null,null,null,null,null,null,"","","","","",""]
[null,"",null,null,null,null,null,null,null,"","","","","",""]
[null,"",null,null,null,null,null,null,null,"","","","","",""]
[null,"",null,null,null,null,null,null,null,"","","","","",""]
[null,"",null,null,null,null,null,null,null,"","","","","",""]
[null,"",null,null,null,null,null,null,null,"","","","","",""]
[null,"",null,null,null,null,null,null,null,"","","","","",""]
[null,"",null,null,null,null,null,null,null,"","","","","",""]
[null,{"$f":"IF(C3974=\"\",\"\",IF(B3973=\"Nr.\",1,B3973+1))","v":""},null,null,null,null,null,null,null,"",{"$f":"IF(H3974=\"\",\"\",(H3974/((1+$G3974)*100))*($G3974*100))","v":""},{"$f":"IF(I3974=\"\",\"\",(I3974/((1+$G3974)*100))*($G3974*100))","v":""},{"$f":"IF(H3974=\"\",\"\",+H3974-K3974)","v":""},{"$f":"IF(I3974=\"\",\"\",+I3974-L3974)","v":""},{"$f":"IF(C3974=\"\",\"\",MONTH(C3974))","v":""}]
[null,"",null,null,null,null,null,null,null,"","","","","",""]
[null,"",null,null,null,null,null,null,null,"","","","","",""]
[null,"",null,null,null,null,null,null,null,"","","","","",""]
[null,"",null,null,null,null,null,null,null,"","","","","",""]
[null,"",null,null,null,null,null,null,null,"","","","","",""]
[null,"",null,null,null,null,null,null,null,"","","","","",""]
[null,"",null,null,null,null,null,null,null,"","","","","",""]
[null,"",null,null,null,null,null,null,null,"","","","","",""]
[null,"",null,null,null,null,null,null,null,"","","","","",""]
[null,"",null,null,null,null,null,null,null,"","","","","",""]
[null,"",null,null,null,null,null,null,null,"","","","","",""]
[null,"",null,null,null,null,null,null,null,"","","","","",""]
[null,"",null,null,null,null,null,null,null,"","","","","",""]
[null,"",null,null,null,null,null,null,null,"","","","","",""]
[null,"",null,null,null,null,null,null,null,"","","","","",""]
[null,"",null,null,null,null,null,null,null,"","","","","",""]
[null,"",null,null,null,null,null,null,null,"","","","","",""]
[null,"",null,null,null,null,null,null,null,"","","","","",""]
[null,"",null,null,null,null,null,null,null,"","","","","",""]
[null,"",null,null,null,null,null,null,null,"","","","","",""]
[null,"",null,null,null,null,null,null,null,"","","","","",""]
[null,"",null,null,null,null,null,null,null,"","","","","",""]
[null,"",null,null,null,null,null,null,null,"","","","","",""]
[null,"",null,null,null,null,null,null,null,"","","","","",""]
[null,"",null,null,null,null,null,null,null,"","","","","",""]
[null,"",null,null,null,null,null,null,null,"","","","","",""]
[null,"",null,null,null,null,null,null,null,"","","","","",""]
[null,"",null,null,null,null,null,null,null,"","","","","",""]
[null,"",null,null,null,null,null,null,null,"","","","","",""]
[null,"",null,null,null,null,null,null,null,"","","","","",""]
[null,"",null,null,null,null,null,null,null,"","","","","",""]
[null,"",null,null,null,null,null,null,null,"","","","","",""]
[null,"",null,null,null,null,null,null,null,"","","","","",""]
[null,"",null,null,null,null,null,null,null,"","","","","",""]
[null,"",null,null,null,null,null,null,null,"","","","","",""]
[null,"",null,null,null,null,null,null,null,"","","","","",""]
[null,"",null,null,null,null,null,null,null,"","","","","",""]
[null,"",null,null,null,null,null,null,null,"","","","","",""]
[null,"",null,null,null,null,null,null,null,"","","","","",""]
[null,"",null,null,null,null,null,null,null,"","","","","",""]
[null,"",null,null,null,null,null,null,null,"","","","","",""]
[null,"",null,null,null,null,null,null,null,"","","","","",""]
[null,"",null,null,null,null,null,null,null,"","","","","",""]
[null,"",null,null,null,null,null,null,null,"","","","","",""]
[null,"",null,null,null,null,null,null,null,"","","","","",""]
[null,"",null,null,null,null,null,null,null,"","","","","",""]
[null,"",null,null,null,null,null,null,null,"","","","","",""]
[null,"",null,null,null,null,null,null,null,"","","","","",""]
[null,"",null,null,null,null,null,null,null,"","","","","",""]
[null,"",null,null,null,null,null,null,null,"","","","","",""]
[null,"",null,null,null,null,null,null,null,"","","","","",""]
[null,"",null,null,null,null,null,null,null,"","","","","",""]
[null,"",null,null,null,null,null,null,null,"","","","","",""]
[null,"",null,null,null,null,null,null,null,"","","","","",""]
[null,"",null,null,null,null,null,null,null,"","","","","",""]
[null,"",null,null,null,null,null,null,null,"","","","","",""]
[null,"",null,null,null,null,null,null,null,"","","","","",""]
[null,"",null,null,null,null,null,null,null,"","","","","",""]
[null,"",null,null,null,null,null,null,null,"","","","","",""]
[null,"",null,null,null,null,null,null,null,"","","","","",""]
[null,"",null,null,null,null,null,null,null,"","","","","",""]
[null,"",null,null,null,null,null,null,null,"","","","","",""]
[null,"",null,null,null,null,null,null,null,"","","","","",""]
[null,"",null,null,null,null,null,null,null,"","","","","",""]
[null,"",null,null,null,null,null,null,null,"","","","","",""]
[null,"",null,null,null,null,null,null,null,"","","","","",""]
[null,"",null,null,null,null,null,null,null,"","","","","",""]
[null,{"$f":"IF(C4806=\"\",\"\",IF(B4805=\"Nr.\",1,B4805+1))","v":""},null,null,null,null,null,null,null,"",{"$f":"IF(H4806=\"\",\"\",(H4806/((1+$G4806)*100))*($G4806*100))","v":""},{"$f":"IF(I4806=\"\",\"\",(I4806/((1+$G4806)*100))*($G4806*100))","v":""},{"$f":"IF(H4806=\"\",\"\",+H4806-K4806)","v":""},{"$f":"IF(I4806=\"\",\"\",+I4806-L4806)","v":""},{"$f":"IF(C4806=\"\",\"\",MONTH(C4806))","v":""}]
[null,"",null,null,null,null,null,null,null,"","","","","",""]
[null,"",null,null,null,null,null,null,null,"","","","","",""]
[null,"",null,null,null,null,null,null,null,"","","","","",""]
[null,"",null,null,null,null,null,null,null,"","","","","",""]
[null,"",null,null,null,null,null,null,null,"","","","","",""]
[null,"",null,null,null,null,null,null,null,"","","","","",""]
[null,"",null,null,null,null,null,null,null,"","","","","",""]
[null,"",null,null,null,null,null,null,null,{"$f":"IF(B4912=\"\",\"\",IF(AND(H4912=\"\",I4912=\"\"),\"\",IF(AND(E4912<>\"\",F4912<>\"\"),\"FOUT\",IF(AND(E4912=\"\",H4912<>\"\"),\"FOUT\",IF(AND(F4912=\"\",I4912<>\"\"),\"FOUT\",IF(G4912=\"\",\"BTW ?\",\"OK\"))))))","v":""},"","","","",""]
[null,"",null,null,null,null,null,null,null,"","","","","",""]
[null,"",null,null,null,null,null,null,null,"","","","","",""]
[null,"",null,null,null,null,null,null,null,"","","","","",""]
[null,"",null,null,null,null,null,null,null,"","","","","",""]
[null,"",null,null,null,null,null,null,null,"","","","","",""]
[null,"",null,null,null,null,null,null,null,"","","","","",""]
[null,"",null,null,null,null,null,null,null,"","","","","",""]
[null,"",null,null,null,null,null,null,null,"","","","","",""]
[null,"",null,null,null,null,null,null,null,"","","","","",""]
[null,"",null,null,null,null,null,null,null,"","","","","",""]
[null,"",null,null,null,null,null,null,null,"","","","","",""]
[null,"",null,null,null,null,null,null,null,"","","","","",""]
[null,"",null,null,null,null,null,null,null,"","","","","",""]
[null,"",null,null,null,null,null,null,null,"","","","","",""]
[null,"",null,null,null,null,null,null,null,"","","","","",""]
[null,"",null,null,null,null,null,null,null,"","","","","",""]
[null,"",null,null,null,null,null,null,null,"","","","","",""]
[null,"",null,null,null,null,null,null,null,"","","","","",""]
[null,"",null,null,null,null,null,null,null,"","","","","",""]
[null,"",null,null,null,null,null,null,null,"","","","","",""]
[null,"",null,null,null,null,null,null,null,{"$f":"IF(B5168=\"\",\"\",IF(AND(H5168=\"\",I5168=\"\"),\"\",IF(AND(E5168<>\"\",F5168<>\"\"),\"FOUT\",IF(AND(E5168=\"\",H5168<>\"\"),\"FOUT\",IF(AND(F5168=\"\",I5168<>\"\"),\"FOUT\",IF(G5168=\"\",\"BTW ?\",\"OK\"))))))","v":""},"","","","",""]
[null,"",null,null,null,null,null,null,null,"","","","","",""]
[null,"",null,null,null,null,null,null,null,"","","","","",""]
[null,"",null,null,null,null,null,null,null,"","","","","",""]
[null,"",null,null,null,null,null,null,null,"","","","","",""]
[null,"",null,null,null,null,null,null,null,"","","","","",""]
[null,"",null,null,null,null,null,null,null,"","","","","",""]
[null,"",null,null,null,null,null,null,null,"","","","","",""]
[null,"",null,null,null,null,null,null,null,"","","","","",""]
[null,"",null,null,null,null,null,null,null,"","","","","",""]
[null,"",null,null,null,null,null,null,null,"","","","","",""]
[null,"",null,null,null,null,null,null,null,"","","","","",""]
[null,"",null,null,null,null,null,null,null,"","","","","",""]
[null,"",null,null,null,null,null,null,null,"","","","","",""]
[null,"",null,null,null,null,null,null,null,"","","","","",""]
[null,"",null,null,null,null,null,null,null,"","","","","",""]
[null,"",null,null,null,null,null,null,null,"","","","","",""]
[null,"",null,null,null,null,null,null,null,"","","","","",""]
[null,"",null,null,null,null,null,null,null,"","","","","",""]
[null,"",null,null,null,null,null,null,null,"","","","","",""]
[null,"",null,null,null,null,null,null,null,"","","","","",""]
[null,"",null,null,null,null,null,null,null,"","","","","",""]
[null,"",null,null,null,null,null,null,null,"","","","","",""]
[null,"",null,null,null,null,null,null,null,"","","","","",""]
[null,"",null,null,null,null,null,null,null,"","","","","",""]
[null,"",null,null,null,null,null,null,null,"","","","","",""]
[null,"",null,null,null,null,null,null,null,"","","","","",""]
[null,"",null,null,null,null,null,null,null,"","","","","",""]
[null,"",null,null,null,null,null,null,null,"","","","","",""]
[null,"",null,null,null,null,null,null,null,"","","","","",""]
[null,"",null,null,null,null,null,null,null,"","","","","",""]
[null,"",null,null,null,null,null,null,null,{"$f":"IF(B5552=\"\",\"\",IF(AND(H5552=\"\",I5552=\"\"),\"\",IF(AND(E5552<>\"\",F5552<>\"\"),\"FOUT\",IF(AND(E5552=\"\",H5552<>\"\"),\"FOUT\",IF(AND(F5552=\"\",I5552<>\"\"),\"FOUT\",IF(G5552=\"\",\"BTW ?\",\"OK\"))))))","v":""},"","","","",""]
[null,"",null,null,null,null,null,null,null,"","","","","",""]
[null,"",null,null,null,null,null,null,null,"","","","","",""]
[null,"",null,null,null,null,null,null,null,"","","","","",""]
[null,"",null,null,null,null,null,null,null,"","","","","",""]
[null,"",null,null,null,null,null,null,null,{"$f":"IF(B5616=\"\",\"\",IF(AND(H5616=\"\",I5616=\"\"),\"\",IF(AND(E5616<>\"\",F5616<>\"\"),\"FOUT\",IF(AND(E5616=\"\",H5616<>\"\"),\"FOUT\",IF(AND(F5616=\"\",I5616<>\"\"),\"FOUT\",IF(G5616=\"\",\"BTW ?\",\"OK\"))))))","v":""},"","","","",""]
[null,"",null,null,null,null,null,null,null,"","","","","",""]
[null,"",null,null,null,null,null,null,null,"","","","","",""]
[null,"",null,null,null,null,null,null,null,"","","","","",""]
[null,"",null,null,null,null,null,null,null,"","","","","",""]
[null,"",null,null,null,null,null,null,null,"","","","","",""]
[null,"",null,null,null,null,null,null,null,"","","","","",""]
[null,"",null,null,null,null,null,null,null,"","","","","",""]
[null,"",null,null,null,null,null,null,null,"","","","","",""]
[null,"",null,null,null,null,null,null,null,"","","","","",""]
[null,"",null,null,null,null,null,null,null,"","","","","",""]
[null,"",null,null,null,null,null,null,null,"","","","","",""]
[null,"",null,null,null,null,null,null,null,"","","","","",""]
[null,"",null,null,null,null,null,null,null,"","","","","",""]
[null,"",null,null,null,null,null,null,null,"","","","","",""]
[null,"",null,null,null,null,null,null,null,"","","","","",""]
[null,"",null,null,null,null,null,null,null,"","","","","",""]
[null,"",null,null,null,null,null,null,null,"","","","","",""]
[null,"",null,null,null,null,null,null,null,"","","","","",""]
[null,"",null,null,null,null,null,null,null,"","","","","",""]
[null,"",null,null,null,null,null,null,null,"","","","","",""]
[null,"",null,null,null,null,null,null,null,"","","","","",""]
[null,"",null,null,null,null,null,null,null,"","","","","",""]
[null,{"$f":"IF(C5894=\"\",\"\",IF(B5893=\"Nr.\",1,B5893+1))","v":""},null,null,null,null,null,null,null,"",{"$f":"IF(H5894=\"\",\"\",(H5894/((1+$G5894)*100))*($G5894*100))","v":""},{"$f":"IF(I5894=\"\",\"\",(I5894/((1+$G5894)*100))*($G5894*100))","v":""},{"$f":"IF(H5894=\"\",\"\",+H5894-K5894)","v":""},{"$f":"IF(I5894=\"\",\"\",+I5894-L5894)","v":""},{"$f":"IF(C5894=\"\",\"\",MONTH(C5894))","v":""}]
[null,"",null,null,null,null,null,null,null,"","","","","",""]
[null,"",null,null,null,null,null,null,null,"","","","","",""]
[null,"",null,null,null,null,null,null,null,"","","","","",""]
[null,"",null,null,null,null,null,null,null,"","","","","",""]
[null,"",null,null,null,null,null,null,null,"","","","","",""]
[null,"",null,null,null,null,null,null,null,"","","","","",""]
[null,"",null,null,null,null,null,null,null,"","","","","",""]
[null,"",null,null,null,null,null,null,null,"","","","","",""]
[null,"",null,null,null,null,null,null,null,{"$f":"IF(B6000=\"\",\"\",IF(AND(H6000=\"\",I6000=\"\"),\"\",IF(AND(E6000<>\"\",F6000<>\"\"),\"FOUT\",IF(AND(E6000=\"\",H6000<>\"\"),\"FOUT\",IF(AND(F6000=\"\",I6000<>\"\"),\"FOUT\",IF(G6000=\"\",\"BTW ?\",\"OK\"))))))","v":""},"","","","",""]
[null,"",null,null,null,null,null,null,null,"","","","","",""]
[null,"",null,null,null,null,null,null,null,"","","","","",""]
[null,"",null,null,null,null,null,null,null,"","","","","",""]
[null,"",null,null,null,null,null,null,null,"","","","","",""]
[null,"",null,null,null,null,null,null,null,"","","","","",""]
[null,"",null,null,null,null,null,null,null,"","","","","",""]
[null,"",null,null,null,null,null,null,null,"","","","","",""]
[null,"",null,null,null,null,null,null,null,"","","","","",""]
[null,"",null,null,null,null,null,null,null,"","","","","",""]
[null,"",null,null,null,null,null,null,null,"","","","","",""]
[null,"",null,null,null,null,null,null,null,"","","","","",""]
[null,"",null,null,null,null,null,null,null,"","","","","",""]
[null,"",null,null,null,null,null,null,null,"","","","","",""]
[null,"",null,null,null,null,null,null,null,"","","","","",""]
[null,"",null,null,null,null,null,null,null,"","","","","",""]
[null,"",null,null,null,null,null,null,null,"","","","","",""]
[null,"",null,null,null,null,null,null,null,"","","","","",""]
[null,"",null,null,null,null,null,null,null,"","","","","",""]
[null,"",null,null,null,null,null,null,null,"","","","","",""]
[null,"",null,null,null,null,null,null,null,"","","","","",""]
[null,"",null,null,null,null,null,null,null,{"$f":"IF(B6256=\"\",\"\",IF(AND(H6256=\"\",I6256=\"\"),\"\",IF(AND(E6256<>\"\",F6256<>\"\"),\"FOUT\",IF(AND(E6256=\"\",H6256<>\"\"),\"FOUT\",IF(AND(F6256=\"\",I6256<>\"\"),\"FOUT\",IF(G6256=\"\",\"BTW ?\",\"OK\"))))))","v":""},"","","","",""]
[null,"",null,null,null,null,null,null,null,"","","","","",""]
[null,"",null,null,null,null,null,null,null,"","","","","",""]
[null,"",null,null,null,null,null,null,null,"","","","","",""]
[null,"",null,null,null,null,null,null,null,"","","","","",""]
[null,"",null,null,null,null,null,null,null,"","","","","",""]
[null,"",null,null,null,null,null,null,null,"","","","","",""]
[null,"",null,null,null,null,null,null,null,"","","","","",""]
[null,"",null,null,null,null,null,null,null,"","","","","",""]
[null,"",null,null,null,null,null,null,null,"","","","","",""]
[null,"",null,null,null,null,null,null,null,"","","","","",""]
[null,"",null,null,null,null,null,null,null,"","","","","",""]
[null,"",null,null,null,null,null,null,null,"","","","","",""]
[null,"",null,null,null,null,null,null,null,"","","","","",""]
[null,"",null,null,null,null,null,null,null,"","","","","",""]
[null,"",null,null,null,null,null,null,null,"","","","","",""]
[null,"",null,null,null,null,null,null,null,"","","","","",""]
[null,"",null,null,null,null,null,null,null,"","","","","",""]
[null,"",null,null,null,null,null,null,null,"","","","","",""]
[null,"",null,null,null,null,null,null,null,"","","","","",""]
[null,"",null,null,null,null,null,null,null,"","","","","",""]
[null,"",null,null,null,null,null,null,null,"","","","","",""]
[null,"",null,null,null,null,null,null,null,"","","","","",""]
[null,"",null,null,null,null,null,null,null,"","","","","",""]
[null,"",null,null,null,null,null,null,null,"","","","","",""]
[null,"",null,null,null,null,null,null,null,"","","","","",""]
[null,"",null,null,null,null,null,null,null,"","","","","",""]
[null,"",null,null,null,null,null,null,null,"","","","","",""]
[null,"",null,null,null,null,null,null,null,"","","","","",""]
[null,"",null,null,null,null,null,null,null,"","","","","",""]
[null,"",null,null,null,null,null,null,null,"","","","","",""]
[null,"",null,null,null,null,null,null,null,"","","","","",""]
[null,"",null,null,null,null,null,null,null,"","","","","",""]
[null,"",null,null,null,null,null,null,null,"","","","","",""]
[null,"",null,null,null,null,null,null,null,"","","","","",""]
[null,"",null,null,null,null,null,null,null,"","","","","",""]
[null,"",null,null,null,null,null,null,null,"","","","","",""]
[null,"",null,null,null,null,null,null,null,"","","","","",""]
[null,"",null,null,null,null,null,null,null,"","","","","",""]
[null,"",null,null,null,null,null,null,null,"","","","","",""]
[null,"",null,null,null,null,null,null,null,"","","","","",""]
[null,"",null,null,null,null,null,null,null,"","","","","",""]
[null,"",null,null,null,null,null,null,null,"","","","","",""]
[null,"",null,null,null,null,null,null,null,"","","","","",""]
[null,"",null,null,null,null,null,null,null,"","","","","",""]
[null,"",null,null,null,null,null,null,null,"","","","","",""]
[null,"",null,null,null,null,null,null,null,"","","","","",""]
[null,"",null,null,null,null,null,null,null,"","","","","",""]
[null,{"$f":"IF(C6854=\"\",\"\",IF(B6853=\"Nr.\",1,B6853+1))","v":""},null,null,null,null,null,null,null,"",{"$f":"IF(H6854=\"\",\"\",(H6854/((1+$G6854)*100))*($G6854*100))","v":""},{"$f":"IF(I6854=\"\",\"\",(I6854/((1+$G6854)*100))*($G6854*100))","v":""},{"$f":"IF(H6854=\"\",\"\",+H6854-K6854)","v":""},{"$f":"IF(I6854=\"\",\"\",+I6854-L6854)","v":""},{"$f":"IF(C6854=\"\",\"\",MONTH(C6854))","v":""}]
[null,"",null,null,null,null,null,null,null,"","","","","",""]
[null,"",null,null,null,null,null,null,null,"","","","","",""]
[null,"",null,null,null,null,null,null,null,"","","","","",""]
[null,"",null,null,null,null,null,null,null,"","","","","",""]
[null,"",null,null,null,null,null,null,null,"","","","","",""]
[null,"",null,null,null,null,null,null,null,"","","","","",""]
[null,"",null,null,null,null,null,null,null,"","","","","",""]
[null,"",null,null,null,null,null,null,null,"","","","","",""]
[null,"",null,null,null,null,null,null,null,{"$f":"IF(B6960=\"\",\"\",IF(AND(H6960=\"\",I6960=\"\"),\"\",IF(AND(E6960<>\"\",F6960<>\"\"),\"FOUT\",IF(AND(E6960=\"\",H6960<>\"\"),\"FOUT\",IF(AND(F6960=\"\",I6960<>\"\"),\"FOUT\",IF(G6960=\"\",\"BTW ?\",\"OK\"))))))","v":""},"","","","",""]
[null,"",null,null,null,null,null,null,null,"","","","","",""]
[null,"",null,null,null,null,null,null,null,"","","","","",""]
[null,"",null,null,null,null,null,null,null,"","","","","",""]
[null,"",null,null,null,null,null,null,null,"","","","","",""]
[null,"",null,null,null,null,null,null,null,"","","","","",""]
[null,"",null,null,null,null,null,null,null,"","","","","",""]
[null,"",null,null,null,null,null,null,null,"","","","","",""]
[null,"",null,null,null,null,null,null,null,"","","","","",""]
[null,"",null,null,null,null,null,null,null,"","","","","",""]
[null,"",null,null,null,null,null,null,null,"","","","","",""]
[null,"",null,null,null,null,null,null,null,"","","","","",""]
[null,"",null,null,null,null,null,null,null,"","","","","",""]
[null,"",null,null,null,null,null,null,null,"","","","","",""]
[null,"",null,null,null,null,null,null,null,"","","","","",""]
[null,"",null,null,null,null,null,null,null,"","","","","",""]
[null,"",null,null,null,null,null,null,null,"","","","","",""]
[null,"",null,null,null,null,null,null,null,"","","","","",""]
[null,"",null,null,null,null,null,null,null,"","","","","",""]
[null,"",null,null,null,null,null,null,null,"","","","","",""]
[null,"",null,null,null,null,null,null,null,"","","","","",""]
[null,"",null,null,null,null,null,null,null,"","","","","",""]
[null,{"$f":"IF(C7238=\"\",\"\",IF(B7237=\"Nr.\",1,B7237+1))","v":""},null,null,null,null,null,null,null,"",{"$f":"IF(H7238=\"\",\"\",(H7238/((1+$G7238)*100))*($G7238*100))","v":""},{"$f":"IF(I7238=\"\",\"\",(I7238/((1+$G7238)*100))*($G7238*100))","v":""},{"$f":"IF(H7238=\"\",\"\",+H7238-K7238)","v":""},{"$f":"IF(I7238=\"\",\"\",+I7238-L7238)","v":""},{"$f":"IF(C7238=\"\",\"\",MONTH(C7238))","v":""}]
[null,"",null,null,null,null,null,null,null,"","","","","",""]
[null,"",null,null,null,null,null,null,null,"","","","","",""]
[null,"",null,null,null,null,null,null,null,"","","","","",""]
[null,"",null,null,null,null,null,null,null,"","","","","",""]
[null,"",null,null,null,null,null,null,null,"","","","","",""]
[null,{"$f":"IF(C7302=\"\",\"\",IF(B7301=\"Nr.\",1,B7301+1))","v":""},null,null,null,null,null,null,null,"",{"$f":"IF(H7302=\"\",\"\",(H7302/((1+$G7302)*100))*($G7302*100))","v":""},{"$f":"IF(I7302=\"\",\"\",(I7302/((1+$G7302)*100))*($G7302*100))","v":""},{"$f":"IF(H7302=\"\",\"\",+H7302-K7302)","v":""},{"$f":"IF(I7302=\"\",\"\",+I7302-L7302)","v":""},{"$f":"IF(C7302=\"\",\"\",MONTH(C7302))","v":""}]
[null,"",null,null,null,null,null,null,null,"","","","","",""]
[null,"",null,null,null,null,null,null,null,"","","","","",""]
[null,"",null,null,null,null,null,null,null,"","","","","",""]
[null,"",null,null,null,null,null,null,null,"","","","","",""]
[null,"",null,null,null,null,null,null,null,"","","","","",""]
[null,"",null,null,null,null,null,null,null,"","","","","",""]
[null,"",null,null,null,null,null,null,null,"","","","","",""]
[null,"",null,null,null,null,null,null,null,"","","","","",""]
[null,"",null,null,null,null,null,null,null,"","","","","",""]
[null,"",null,null,null,null,null,null,null,"","","","","",""]
[null,"",null,null,null,null,null,null,null,"","","","","",""]
[null,"",null,null,null,null,null,null,null,"","","","","",""]
[null,"",null,null,null,null,null,null,null,"","","","","",""]
[null,"",null,null,null,null,null,null,null,"","","","","",""]
[null,"",null,null,null,null,null,null,null,"","","","","",""]
[null,"",null,null,null,null,null,null,null,"","","","","",""]
[null,"",null,null,null,null,null,null,null,"","","","","",""]
[null,"",null,null,null,null,null,null,null,"","","","","",""]
[null,"",null,null,null,null,null,null,null,"","","","","",""]
[null,"",null,null,null,null,null,null,null,"","","","","",""]
[null,"",null,null,null,null,null,null,null,"","","","","",""]
[null,"",null,null,null,null,null,null,null,"","","","","",""]
[null,"",null,null,null,null,null,null,null,"","","","","",""]
[null,"",null,null,null,null,null,null,null,"","","","","",""]
[null,"",null,null,null,null,null,null,null,"","","","","",""]
[null,"",null,null,null,null,null,null,null,"","","","","",""]
[null,"",null,null,null,null,null,null,null,"","","","","",""]
[null,"",null,null,null,null,null,null,null,"","","","","",""]
[null,"",null,null,null,null,null,null,null,{"$f":"IF(B7664=\"\",\"\",IF(AND(H7664=\"\",I7664=\"\"),\"\",IF(AND(E7664<>\"\",F7664<>\"\"),\"FOUT\",IF(AND(E7664=\"\",H7664<>\"\"),\"FOUT\",IF(AND(F7664=\"\",I7664<>\"\"),\"FOUT\",IF(G7664=\"\",\"BTW ?\",\"OK\"))))))","v":""},"","","","",""]
[null,"",null,null,null,null,null,null,null,"","","","","",""]
[null,{"$f":"IF(C7686=\"\",\"\",IF(B7685=\"Nr.\",1,B7685+1))","v":""},null,null,null,null,null,null,null,"",{"$f":"IF(H7686=\"\",\"\",(H7686/((1+$G7686)*100))*($G7686*100))","v":""},{"$f":"IF(I7686=\"\",\"\",(I7686/((1+$G7686)*100))*($G7686*100))","v":""},{"$f":"IF(H7686=\"\",\"\",+H7686-K7686)","v":""},{"$f":"IF(I7686=\"\",\"\",+I7686-L7686)","v":""},{"$f":"IF(C7686=\"\",\"\",MONTH(C7686))","v":""}]
[null,"",null,null,null,null,null,null,null,"","","","","",""]
[null,"",null,null,null,null,null,null,null,"","","","","",""]
[null,"",null,null,null,null,null,null,null,"","","","","",""]
[null,"",null,null,null,null,null,null,null,"","","","","",""]
[null,"",null,null,null,null,null,null,null,"","","","","",""]
[null,"",null,null,null,null,null,null,null,"","","","","",""]
[null,"",null,null,null,null,null,null,null,"","","","","",""]
[null,"",null,null,null,null,null,null,null,"","","","","",""]
[null,"",null,null,null,null,null,null,null,"","","","","",""]
[null,"",null,null,null,null,null,null,null,"","","","","",""]
[null,"",null,null,null,null,null,null,null,"","","","","",""]
[null,"",null,null,null,null,null,null,null,"","","","","",""]
[null,"",null,null,null,null,null,null,null,"","","","","",""]
[null,"",null,null,null,null,null,null,null,"","","","","",""]
[null,"",null,null,null,null,null,null,null,"","","","","",""]
[null,"",null,null,null,null,null,null,null,"","","","","",""]
[null,"",null,null,null,null,null,null,null,"","","","","",""]
[null,"",null,null,null,null,null,null,null,"","","","","",""]
[null,"",null,null,null,null,null,null,null,"","","","","",""]
[null,"",null,null,null,null,null,null,null,"","","","","",""]
[null,"",null,null,null,null,null,null,null,"","","","","",""]
[null,"",null,null,null,null,null,null,null,"","","","","",""]
[null,"",null,null,null,null,null,null,null,"","","","","",""]
[null,"",null,null,null,null,null,null,null,"","","","","",""]
[null,"",null,null,null,null,null,null,null,"","","","","",""]
[null,"",null,null,null,null,null,null,null,"","","","","",""]
[null,"",null,null,null,null,null,null,null,"","","","","",""]
[null,"",null,null,null,null,null,null,null,"","","","","",""]
[null,"",null,null,null,null,null,null,null,{"$f":"IF(B8048=\"\",\"\",IF(AND(H8048=\"\",I8048=\"\"),\"\",IF(AND(E8048<>\"\",F8048<>\"\"),\"FOUT\",IF(AND(E8048=\"\",H8048<>\"\"),\"FOUT\",IF(AND(F8048=\"\",I8048<>\"\"),\"FOUT\",IF(G8048=\"\",\"BTW ?\",\"OK\"))))))","v":""},"","","","",""]
[null,"",null,null,null,null,null,null,null,"","","","","",""]
[null,"",null,null,null,null,null,null,null,"","","","","",""]
[null,"",null,null,null,null,null,null,null,"","","","","",""]
[null,"",null,null,null,null,null,null,null,"","","","","",""]
[null,"",null,null,null,null,null,null,null,"","","","","",""]
[null,"",null,null,null,null,null,null,null,"","","","","",""]
[null,"",null,null,null,null,null,null,null,"","","","","",""]
[null,"",null,null,null,null,null,null,null,"","","","","",""]
[null,"",null,null,null,null,null,null,null,"","","","","",""]
[null,"",null,null,null,null,null,null,null,"","","","","",""]
[null,"",null,null,null,null,null,null,null,"","","","","",""]
[null,"",null,null,null,null,null,null,null,"","","","","",""]
[null,"",null,null,null,null,null,null,null,"","","","","",""]
[null,"",null,null,null,null,null,null,null,"","","","","",""]
[null,"",null,null,null,null,null,null,null,"","","","","",""]
[null,"",null,null,null,null,null,null,null,"","","","","",""]
[null,"",null,null,null,null,null,null,null,"","","","","",""]
[null,"",null,null,null,null,null,null,null,"","","","","",""]
[null,"",null,null,null,null,null,null,null,"","","","","",""]
[null,"",null,null,null,null,null,null,null,"","","","","",""]
[null,"",null,null,null,null,null,null,null,"","","","","",""]
[null,"",null,null,null,null,null,null,null,"","","","","",""]
[null,"",null,null,null,null,null,null,null,"","","","","",""]
[null,"",null,null,null,null,null,null,null,"","","","","",""]
[null,"",null,null,null,null,null,null,null,"","","","","",""]
[null,"",null,null,null,null,null,null,null,"","","","","",""]
[null,"",null,null,null,null,null,null,null,"","","","","",""]
[null,"",null,null,null,null,null,null,null,"","","","","",""]
[null,"",null,null,null,null,null,null,null,"","","","","",""]
[null,"",null,null,null,null,null,null,null,"","","","","",""]
[null,"",null,null,null,null,null,null,null,{"$f":"IF(B8432=\"\",\"\",IF(AND(H8432=\"\",I8432=\"\"),\"\",IF(AND(E8432<>\"\",F8432<>\"\"),\"FOUT\",IF(AND(E8432=\"\",H8432<>\"\"),\"FOUT\",IF(AND(F8432=\"\",I8432<>\"\"),\"FOUT\",IF(G8432=\"\",\"BTW ?\",\"OK\"))))))","v":""},"","","","",""]
[null,"",null,null,null,null,null,null,null,"","","","","",""]
[null,"",null,null,null,null,null,null,null,"","","","","",""]
[null,"",null,null,null,null,null,null,null,"","","","","",""]
[null,"",null,null,null,null,null,null,null,"","","","","",""]
[null,"",null,null,null,null,null,null,null,"","","","","",""]
[null,"",null,null,null,null,null,null,null,{"$f":"IF(B8496=\"\",\"\",IF(AND(H8496=\"\",I8496=\"\"),\"\",IF(AND(E8496<>\"\",F8496<>\"\"),\"FOUT\",IF(AND(E8496=\"\",H8496<>\"\"),\"FOUT\",IF(AND(F8496=\"\",I8496<>\"\"),\"FOUT\",IF(G8496=\"\",\"BTW ?\",\"OK\"))))))","v":""},"","","","",""]
[null,"",null,null,null,null,null,null,null,"","","","","",""]
[null,"",null,null,null,null,null,null,null,"","","","","",""]
[null,"",null,null,null,null,null,null,null,"","","","","",""]
[null,"",null,null,null,null,null,null,null,"","","","","",""]
[null,"",null,null,null,null,null,null,null,"","","","","",""]
[null,"",null,null,null,null,null,null,null,"","","","","",""]
[null,"",null,null,null,null,null,null,null,"","","","","",""]
[null,"",null,null,null,null,null,null,null,"","","","","",""]
[null,"",null,null,null,null,null,null,null,"","","","","",""]
[null,"",null,null,null,null,null,null,null,"","","","","",""]
[null,"",null,null,null,null,null,null,null,"","","","","",""]
[null,"",null,null,null,null,null,null,null,"","","","","",""]
[null,"",null,null,null,null,null,null,null,"","","","","",""]
[null,"",null,null,null,null,null,null,null,"","","","","",""]
[null,"",null,null,null,null,null,null,null,"","","","","",""]
[null,"",null,null,null,null,null,null,null,"","","","","",""]
[null,"",null,null,null,null,null,null,null,"","","","","",""]
[null,"",null,null,null,null,null,null,null,"","","","","",""]
[null,"",null,null,null,null,null,null,null,"","","","","",""]
[null,"",null,null,null,null,null,null,null,"","","","","",""]
[null,"",null,null,null,null,null,null,null,"","","","","",""]
[null,"",null,null,null,null,null,null,null,"","","","","",""]
[null,"",null,null,null,null,null,null,null,"","","","","",""]
[null,"",null,null,null,null,null,null,null,"","","","","",""]
[null,"",null,null,null,null,null,null,null,"","","","","",""]
[null,"",null,null,null,null,null,null,null,"","","","","",""]
[null,"",null,null,null,null,null,null,null,"","","","","",""]
[null,"",null,null,null,null,null,null,null,"","","","","",""]
[null,"",null,null,null,null,null,null,null,"","","","","",""]
[null,"",null,null,null,null,null,null,null,"","","","","",""]
[null,"",null,null,null,null,null,null,null,"","","","","",""]
[null,"",null,null,null,null,null,null,null,"","","","","",""]
[null,"",null,null,null,null,null,null,null,"","","","","",""]
[null,"",null,null,null,null,null,null,null,"","","","","",""]
[null,"",null,null,null,null,null,null,null,"","","","","",""]
[null,"",null,null,null,null,null,null,null,"","","","","",""]
[null,"",null,null,null,null,null,null,null,"","","","","",""]
[null,"",null,null,null,null,null,null,null,"","","","","",""]
[null,"",null,null,null,null,null,null,null,"","","","","",""]
[null,"",null,null,null,null,null,null,null,"","","","","",""]
[null,"",null,null,null,null,null,null,null,"","","","","",""]
[null,"",null,null,null,null,null,null,null,"","","","","",""]
[null,"",null,null,null,null,null,null,null,"","","","","",""]
[null,"",null,null,null,null,null,null,null,"","","","","",""]
[null,"",null,null,null,null,null,null,null,"","","","","",""]
[null,"",null,null,null,null,null,null,null,"","","","","",""]
[null,"",null,null,null,null,null,null,null,"","","","","",""]
[null,"",null,null,null,null,null,null,null,"","","","","",""]
[null,"",null,null,null,null,null,null,null,"","","","","",""]
[null,"",null,null,null,null,null,null,null,"","","","","",""]
[null,"",null,null,null,null,null,null,null,"","","","","",""]
[null,"",null,null,null,null,null,null,null,"","","","","",""]
[null,"",null,null,null,null,null,null,null,"","","","","",""]
[null,"",null,null,null,null,null,null,null,"","","","","",""]
[null,"",null,null,null,null,null,null,null,"","","","","",""]
[null,"",null,null,null,null,null,null,null,"","","","","",""]
[null,"",null,null,null,null,null,null,null,"","","","","",""]
[null,"",null,null,null,null,null,null,null,"","","","","",""]
[null,"",null,null,null,null,null,null,null,"","","","","",""]
[null,"",null,null,null,null,null,null,null,"","","","","",""]
[null,"",null,null,null,null,null,null,null,"","","","","",""]
[null,"",null,null,null,null,null,null,null,"","","","","",""]
[null,"",null,null,null,null,null,null,null,"","","","","",""]
[null,"",null,null,null,null,null,null,null,"","","","","",""]
[null,"",null,null,null,null,null,null,null,"","","","","",""]
[null,"",null,null,null,null,null,null,null,"","","","","",""]
[null,"",null,null,null,null,null,null,null,"","","","","",""]
[null,"",null,null,null,null,null,null,null,"","","","","",""]
[null,"",null,null,null,null,null,null,null,"","","","","",""]
[null,"",null,null,null,null,null,null,null,"","","","","",""]
[null,"",null,null,null,null,null,null,null,"","","","","",""]
[null,"",null,null,null,null,null,null,null,"","","","","",""]
[null,"",null,null,null,null,null,null,null,"","","","","",""]
[null,"",null,null,null,null,null,null,null,"","","","","",""]
[null,"",null,null,null,null,null,null,null,"","","","","",""]
[null,"",null,null,null,null,null,null,null,"","","","","",""]
[null,"",null,null,null,null,null,null,null,"","","","","",""]
[null,"",null,null,null,null,null,null,null,"","","","","",""]
[null,"",null,null,null,null,null,null,null,"","","","","",""]
[null,"",null,null,null,null,null,null,null,"","","","","",""]
[null,"",null,null,null,null,null,null,null,"","","","","",""]
[null,"",null,null,null,null,null,null,null,"","","","","",""]
[null,"",null,null,null,null,null,null,null,"","","","","",""]
[null,"",null,null,null,null,null,null,null,"","","","","",""]
[null,"",null,null,null,null,null,null,null,"","","","","",""]
[null,"",null,null,null,null,null,null,null,"","","","","",""]
[null,"",null,null,null,null,null,null,null,"","","","","",""]
[null,"",null,null,null,null,null,null,null,"","","","","",""]
[null,"",null,null,null,null,null,null,null,"","","","","",""]
[null,"",null,null,null,null,null,null,null,"","","","","",""]
[null,"",null,null,null,null,null,null,null,"","","","","",""]
[null,"",null,null,null,null,null,null,null,"","","","","",""]
[null,"",null,null,null,null,null,null,null,"","","","","",""]
[null,"",null,null,null,null,null,null,null,"","","","","",""]
[null,"",null,null,null,null,null,null,null,"","","","","",""]
[null,"",null,null,null,null,null,null,null,"","","","","",""]
[null,"",null,null,null,null,null,null,null,"","","","","",""]
[null,"",null,null,null,null,null,null,null,"","","","","",""]
[null,"",null,null,null,null,null,null,null,"","","","","",""]
[null,{"$f":"IF(C9734=\"\",\"\",IF(B9733=\"Nr.\",1,B9733+1))","v":""},null,null,null,null,null,null,null,"",{"$f":"IF(H9734=\"\",\"\",(H9734/((1+$G9734)*100))*($G9734*100))","v":""},{"$f":"IF(I9734=\"\",\"\",(I9734/((1+$G9734)*100))*($G9734*100))","v":""},{"$f":"IF(H9734=\"\",\"\",+H9734-K9734)","v":""},{"$f":"IF(I9734=\"\",\"\",+I9734-L9734)","v":""},{"$f":"IF(C9734=\"\",\"\",MONTH(C9734))","v":""}]
[null,"",null,null,null,null,null,null,null,"","","","","",""]
[null,"",null,null,null,null,null,null,null,"","","","","",""]
[null,"",null,null,null,null,null,null,null,"","","","","",""]
[null,"",null,null,null,null,null,null,null,"","","","","",""]
[null,"",null,null,null,null,null,null,null,"","","","","",""]
[null,"",null,null,null,null,null,null,null,"","","","","",""]
[null,"",null,null,null,null,null,null,null,"","","","","",""]
[null,"",null,null,null,null,null,null,null,"","","","","",""]
[null,"",null,null,null,null,null,null,null,"","","","","",""]
[null,"",null,null,null,null,null,null,null,"","","","","",""]
[null,"",null,null,null,null,null,null,null,"","","","","",""]
[null,"",null,null,null,null,null,null,null,"","","","","",""]
[null,"",null,null,null,null,null,null,null,"","","","","",""]
[null,"",null,null,null,null,null,null,null,"","","","","",""]
[null,"",null,null,null,null,null,null,null,"","","","","",""]
[null,"",null,null,null,null,null,null,null,"","","","","",""]
[null,"",null,null,null,null,null,null,null,"","","","","",""]
[null,"",null,null,null,null,null,null,null,"","","","","",""]
[null,"",null,null,null,null,null,null,null,"","","","","",""]
[null,"",null,null,null,null,null,null,null,"","","","","",""]
[null,"",null,null,null,null,null,null,null,"","","","","",""]
[null,"",null,null,null,null,null,null,null,"","","","","",""]
[null,"",null,null,null,null,null,null,null,"","","","","",""]
[null,"",null,null,null,null,null,null,null,"","","","","",""]
[null,"",null,null,null,null,null,null,null,"","","","","",""]
[null,"",null,null,null,null,null,null,null,"","","","","",""]
[null,"",null,null,null,null,null,null,null,"","","","","",""]
[null,"",null,null,null,null,null,null,null,"","","","","",""]
[null,"",null,null,null,null,null,null,null,"","","","","",""]
[null,"",null,null,null,null,null,null,null,"","","","","",""]
[null,{"$f":"IF(C10118=\"\",\"\",IF(B10117=\"Nr.\",1,B10117+1))","v":""},null,null,null,null,null,null,null,"",{"$f":"IF(H10118=\"\",\"\",(H10118/((1+$G10118)*100))*($G10118*100))","v":""},{"$f":"IF(I10118=\"\",\"\",(I10118/((1+$G10118)*100))*($G10118*100))","v":""},{"$f":"IF(H10118=\"\",\"\",+H10118-K10118)","v":""},{"$f":"IF(I10118=\"\",\"\",+I10118-L10118)","v":""},{"$f":"IF(C10118=\"\",\"\",MONTH(C10118))","v":""}]
[null,"",null,null,null,null,null,null,null,"","","","","",""]
[null,"",null,null,null,null,null,null,null,"","","","","",""]
[null,"",null,null,null,null,null,null,null,"","","","","",""]
[null,"",null,null,null,null,null,null,null,"","","","","",""]
[null,"",null,null,null,null,null,null,null,"","","","","",""]
[null,"",null,null,null,null,null,null,null,"","","","","",""]
[null,"",null,null,null,null,null,null,null,"","","","","",""]
[null,"",null,null,null,null,null,null,null,"","","","","",""]
[null,"",null,null,null,null,null,null,null,"","","","","",""]
[null,"",null,null,null,null,null,null,null,"","","","","",""]
[null,"",null,null,null,null,null,null,null,"","","","","",""]
[null,"",null,null,null,null,null,null,null,"","","","","",""]
[null,"",null,null,null,null,null,null,null,"","","","","",""]
[null,"",null,null,null,null,null,null,null,"","","","","",""]
[null,"",null,null,null,null,null,null,null,"","","","","",""]
[null,"",null,null,null,null,null,null,null,"","","","","",""]
[null,"",null,null,null,null,null,null,null,"","","","","",""]
[null,"",null,null,null,null,null,null,null,"","","","","",""]
[null,"",null,null,null,null,null,null,null,"","","","","",""]
[null,"",null,null,null,null,null,null,null,"","","","","",""]
[null,"",null,null,null,null,null,null,null,"","","","","",""]
[null,"",null,null,null,null,null,null,null,"","","","","",""]
[null,"",null,null,null,null,null,null,null,"","","","","",""]
[null,"",null,null,null,null,null,null,null,"","","","","",""]
[null,"",null,null,null,null,null,null,null,"","","","","",""]
[null,"",null,null,null,null,null,null,null,"","","","","",""]
[null,"",null,null,null,null,null,null,null,"","","","","",""]
[null,"",null,null,null,null,null,null,null,"","","","","",""]
[null,"",null,null,null,null,null,null,null,"","","","","",""]
[null,"",null,null,null,null,null,null,null,{"$f":"IF(B10480=\"\",\"\",IF(AND(H10480=\"\",I10480=\"\"),\"\",IF(AND(E10480<>\"\",F10480<>\"\"),\"FOUT\",IF(AND(E10480=\"\",H10480<>\"\"),\"FOUT\",IF(AND(F10480=\"\",I10480<>\"\"),\"FOUT\",IF(G10480=\"\",\"BTW ?\",\"OK\"))))))","v":""},"","","","",""]
[null,"",null,null,null,null,null,null,null,"","","","","",""]
[null,"",null,null,null,null,null,null,null,"","","","","",""]
[null,"",null,null,null,null,null,null,null,"","","","","",""]
[null,"",null,null,null,null,null,null,null,"","","","","",""]
[null,"",null,null,null,null,null,null,null,"","","","","",""]
[null,"",null,null,null,null,null,null,null,"","","","","",""]
[null,"",null,null,null,null,null,null,null,"","","","","",""]
[null,"",null,null,null,null,null,null,null,"","","","","",""]
[null,"",null,null,null,null,null,null,null,"","","","","",""]
[null,"",null,null,null,null,null,null,null,"","","","","",""]
[null,"",null,null,null,null,null,null,null,"","","","","",""]
[null,"",null,null,null,null,null,null,null,"","","","","",""]
[null,"",null,null,null,null,null,null,null,"","","","","",""]
[null,"",null,null,null,null,null,null,null,"","","","","",""]
[null,"",null,null,null,null,null,null,null,"","","","","",""]
[null,"",null,null,null,null,null,null,null,"","","","","",""]
[null,"",null,null,null,null,null,null,null,"","","","","",""]
[null,"",null,null,null,null,null,null,null,"","","","","",""]
[null,"",null,null,null,null,null,null,null,"","","","","",""]
[null,"",null,null,null,null,null,null,null,"","","","","",""]
[null,"",null,null,null,null,null,null,null,"","","","","",""]
[null,"",null,null,null,null,null,null,null,"","","","","",""]
[null,"",null,null,null,null,null,null,null,"","","","","",""]
[null,"",null,null,null,null,null,null,null,"","","","","",""]
[null,"",null,null,null,null,null,null,null,"","","","","",""]
[null,"",null,null,null,null,null,null,null,"","","","","",""]
[null,"",null,null,null,null,null,null,null,"","","","","",""]
[null,"",null,null,null,null,null,null,null,"","","","","",""]
[null,"",null,null,null,null,null,null,null,"","","","","",""]
[null,"",null,null,null,null,null,null,null,"","","","","",""]
[null,"",null,null,null,null,null,null,null,"","","","","",""]
[null,"",null,null,null,null,null,null,null,"","","","","",""]
[null,"",null,null,null,null,null,null,null,"","","","","",""]
[null,"",null,null,null,null,null,null,null,"","","","","",""]
[null,"",null,null,null,null,null,null,null,"","","","","",""]
[null,"",null,null,null,null,null,null,null,{"$f":"IF(B10928=\"\",\"\",IF(AND(H10928=\"\",I10928=\"\"),\"\",IF(AND(E10928<>\"\",F10928<>\"\"),\"FOUT\",IF(AND(E10928=\"\",H10928<>\"\"),\"FOUT\",IF(AND(F10928=\"\",I10928<>\"\"),\"FOUT\",IF(G10928=\"\",\"BTW ?\",\"OK\"))))))","v":""},"","","","",""]
[null,"",null,null,null,null,null,null,null,"","","","","",""]
[null,"",null,null,null,null,null,null,null,"","","","","",""]
[null,"",null,null,null,null,null,null,null,"","","","","",""]
[null,"",null,null,null,null,null,null,null,"","","","","",""]
[null,"",null,null,null,null,null,null,null,"","","","","",""]
[null,"",null,null,null,null,null,null,null,"","","","","",""]
[null,"",null,null,null,null,null,null,null,"","","","","",""]
[null,"",null,null,null,null,null,null,null,"","","","","",""]
[null,"",null,null,null,null,null,null,null,"","","","","",""]
[null,"",null,null,null,null,null,null,null,"","","","","",""]
[null,"",null,null,null,null,null,null,null,"","","","","",""]
[null,"",null,null,null,null,null,null,null,"","","","","",""]
[null,"",null,null,null,null,null,null,null,"","","","","",""]
[null,"",null,null,null,null,null,null,null,"","","","","",""]
[null,"",null,null,null,null,null,null,null,"","","","","",""]
[null,"",null,null,null,null,null,null,null,"","","","","",""]
[null,"",null,null,null,null,null,null,null,"","","","","",""]
[null,"",null,null,null,null,null,null,null,"","","","","",""]
[null,"",null,null,null,null,null,null,null,"","","","","",""]
[null,"",null,null,null,null,null,null,null,"","","","","",""]
[null,"",null,null,null,null,null,null,null,{"$f":"IF(B11184=\"\",\"\",IF(AND(H11184=\"\",I11184=\"\"),\"\",IF(AND(E11184<>\"\",F11184<>\"\"),\"FOUT\",IF(AND(E11184=\"\",H11184<>\"\"),\"FOUT\",IF(AND(F11184=\"\",I11184<>\"\"),\"FOUT\",IF(G11184=\"\",\"BTW ?\",\"OK\"))))))","v":""},"","","","",""]
[null,"",null,null,null,null,null,null,null,"","","","","",""]
[null,"",null,null,null,null,null,null,null,"","","","","",""]
[null,"",null,null,null,null,null,null,null,"","","","","",""]
[null,"",null,null,null,null,null,null,null,"","","","","",""]
[null,"",null,null,null,null,null,null,null,"","","","","",""]
[null,"",null,null,null,null,null,null,null,"","","","","",""]
[null,"",null,null,null,null,null,null,null,"","","","","",""]
[null,"",null,null,null,null,null,null,null,"","","","","",""]
[null,"",null,null,null,null,null,null,null,"","","","","",""]
[null,"",null,null,null,null,null,null,null,"","","","","",""]
[null,"",null,null,null,null,null,null,null,"","","","","",""]
[null,"",null,null,null,null,null,null,null,"","","","","",""]
[null,"",null,null,null,null,null,null,null,"","","","","",""]
[null,"",null,null,null,null,null,null,null,"","","","","",""]
[null,"",null,null,null,null,null,null,null,"","","","","",""]
[null,"",null,null,null,null,null,null,null,"","","","","",""]
[null,"",null,null,null,null,null,null,null,"","","","","",""]
[null,"",null,null,null,null,null,null,null,"","","","","",""]
[null,"",null,null,null,null,null,null,null,"","","","","",""]
[null,"",null,null,null,null,null,null,null,"","","","","",""]
[null,"",null,null,null,null,null,null,null,"","","","","",""]
[null,"",null,null,null,null,null,null,null,"","","","","",""]
[null,{"$f":"IF(C11462=\"\",\"\",IF(B11461=\"Nr.\",1,B11461+1))","v":""},null,null,null,null,null,null,null,"",{"$f":"IF(H11462=\"\",\"\",(H11462/((1+$G11462)*100))*($G11462*100))","v":""},{"$f":"IF(I11462=\"\",\"\",(I11462/((1+$G11462)*100))*($G11462*100))","v":""},{"$f":"IF(H11462=\"\",\"\",+H11462-K11462)","v":""},{"$f":"IF(I11462=\"\",\"\",+I11462-L11462)","v":""},{"$f":"IF(C11462=\"\",\"\",MONTH(C11462))","v":""}]
[null,"",null,null,null,null,null,null,null,"","","","","",""]
[null,"",null,null,null,null,null,null,null,"","","","","",""]
[null,"",null,null,null,null,null,null,null,"","","","","",""]
[null,"",null,null,null,null,null,null,null,"","","","","",""]
[null,"",null,null,null,null,null,null,null,"","","","","",""]
[null,"",null,null,null,null,null,null,null,"","","","","",""]
[null,"",null,null,null,null,null,null,null,"","","","","",""]
[null,"",null,null,null,null,null,null,null,"","","","","",""]
[null,"",null,null,null,null,null,null,null,"","","","","",""]
[null,"",null,null,null,null,null,null,null,"","","","","",""]
[null,"",null,null,null,null,null,null,null,"","","","","",""]
[null,"",null,null,null,null,null,null,null,"","","","","",""]
[null,"",null,null,null,null,null,null,null,"","","","","",""]
[null,"",null,null,null,null,null,null,null,"","","","","",""]
[null,"",null,null,null,null,null,null,null,"","","","","",""]
[null,"",null,null,null,null,null,null,null,"","","","","",""]
[null,"",null,null,null,null,null,null,null,"","","","","",""]
[null,"",null,null,null,null,null,null,null,"","","","","",""]
[null,"",null,null,null,null,null,null,null,"","","","","",""]
[null,"",null,null,null,null,null,null,null,"","","","","",""]
[null,"",null,null,null,null,null,null,null,"","","","","",""]
[null,"",null,null,null,null,null,null,null,"","","","","",""]
[null,"",null,null,null,null,null,null,null,"","","","","",""]
[null,"",null,null,null,null,null,null,null,"","","","","",""]
[null,"",null,null,null,null,null,null,null,"","","","","",""]
[null,"",null,null,null,null,null,null,null,"","","","","",""]
[null,"",null,null,null,null,null,null,null,"","","","","",""]
[null,"",null,null,null,null,null,null,null,"","","","","",""]
[null,"",null,null,null,null,null,null,null,"","","","","",""]
[null,"",null,null,null,null,null,null,null,"","","","","",""]
[null,"",null,null,null,null,null,null,null,"","","","","",""]
[null,"",null,null,null,null,null,null,null,"","","","","",""]
[null,"",null,null,null,null,null,null,null,"","","","","",""]
[null,"",null,null,null,null,null,null,null,"","","","","",""]
[null,"",null,null,null,null,null,null,null,"","","","","",""]
[null,"",null,null,null,null,null,null,null,"","","","","",""]
[null,"",null,null,null,null,null,null,null,"","","","","",""]
[null,"",null,null,null,null,null,null,null,"","","","","",""]
[null,"",null,null,null,null,null,null,null,"","","","","",""]
[null,"",null,null,null,null,null,null,null,"","","","","",""]
[null,"",null,null,null,null,null,null,null,"","","","","",""]
[null,"",null,null,null,null,null,null,null,"","","","","",""]
[null,"",null,null,null,null,null,null,null,"","","","","",""]
[null,"",null,null,null,null,null,null,null,"","","","","",""]
[null,"",null,null,null,null,null,null,null,"","","","","",""]
[null,"",null,null,null,null,null,null,null,"","","","","",""]
[null,"",null,null,null,null,null,null,null,"","","","","",""]
[null,"",null,null,null,null,null,null,null,"","","","","",""]
[null,"",null,null,null,null,null,null,null,"","","","","",""]
[null,"",null,null,null,null,null,null,null,"","","","","",""]
[null,"",null,null,null,null,null,null,null,"","","","","",""]
[null,"",null,null,null,null,null,null,null,"","","","","",""]
[null,"",null,null,null,null,null,null,null,"","","","","",""]
[null,"",null,null,null,null,null,null,null,"","","","","",""]
[null,"",null,null,null,null,null,null,null,"","","","","",""]
[null,"",null,null,null,null,null,null,null,"","","","","",""]
[null,"",null,null,null,null,null,null,null,"","","","","",""]
[null,"",null,null,null,null,null,null,null,"","","","","",""]
[null,"",null,null,null,null,null,null,null,"","","","","",""]
[null,"",null,null,null,null,null,null,null,"","","","","",""]
[null,"",null,null,null,null,null,null,null,"","","","","",""]
[null,"",null,null,null,null,null,null,null,"","","","","",""]
[null,"",null,null,null,null,null,null,null,"","","","","",""]
[null,"",null,null,null,null,null,null,null,"","","","","",""]
[null,"",null,null,null,null,null,null,null,"","","","","",""]
[null,"",null,null,null,null,null,null,null,"","","","","",""]
[null,"",null,null,null,null,null,null,null,"","","","","",""]
[null,"",null,null,null,null,null,null,null,"","","","","",""]
[null,"",null,null,null,null,null,null,null,"","","","","",""]
[null,"",null,null,null,null,null,null,null,"","","","","",""]
[null,"",null,null,null,null,null,null,null,"","","","","",""]
[null,"",null,null,null,null,null,null,null,"","","","","",""]
[null,"",null,null,null,null,null,null,null,"","","","","",""]
[null,"",null,null,null,null,null,null,null,"","","","","",""]
[null,"",null,null,null,null,null,null,null,"","","","","",""]
[null,"",null,null,null,null,null,null,null,"","","","","",""]
[null,"",null,null,null,null,null,null,null,"","","","","",""]
[null,"",null,null,null,null,null,null,null,"","","","","",""]
[null,"",null,null,null,null,null,null,null,"","","","","",""]
[null,"",null,null,null,null,null,null,null,"","","","","",""]
[null,"",null,null,null,null,null,null,null,"","","","","",""]
[null,"",null,null,null,null,null,null,null,"","","","","",""]
[null,"",null,null,null,null,null,null,null,"","","","","",""]
[null,"",null,null,null,null,null,null,null,"","","","","",""]
[null,"",null,null,null,null,null,null,null,"","","","","",""]
[null,"",null,null,null,null,null,null,null,"","","","","",""]
[null,"",null,null,null,null,null,null,null,"","","","","",""]
[null,"",null,null,null,null,null,null,null,"","","","","",""]
[null,"",null,null,null,null,null,null,null,"","","","","",""]
[null,"",null,null,null,null,null,null,null,"","","","","",""]
[null,"",null,null,null,null,null,null,null,"","","","","",""]
[null,"",null,null,null,null,null,null,null,"","","","","",""]
[null,"",null,null,null,null,null,null,null,"","","","","",""]
[null,"",null,null,null,null,null,null,null,"","","","","",""]
[null,"",null,null,null,null,null,null,null,"","","","","",""]
[null,"",null,null,null,null,null,null,null,"","","","","",""]
[null,"",null,null,null,null,null,null,null,"","","","","",""]
[null,"",null,null,null,null,null,null,null,"","","","","",""]
[null,"",null,null,null,null,null,null,null,"","","","","",""]
[null,"",null,null,null,null,null,null,null,"","","","","",""]
[null,"",null,null,null,null,null,null,null,"","","","","",""]
[null,"",null,null,null,null,null,null,null,"","","","","",""]
[null,"",null,null,null,null,null,null,null,"","","","","",""]
[null,"",null,null,null,null,null,null,null,"","","","","",""]
[null,"",null,null,null,null,null,null,null,"","","","","",""]
[null,"",null,null,null,null,null,null,null,"","","","","",""]
[null,"",null,null,null,null,null,null,null,"","","","","",""]
[null,"",null,null,null,null,null,null,null,"","","","","",""]
[null,"",null,null,null,null,null,null,null,"","","","","",""]
[null,"",null,null,null,null,null,null,null,"","","","","",""]
[null,"",null,null,null,null,null,null,null,"","","","","",""]
[null,"",null,null,null,null,null,null,null,"","","","","",""]
[null,"",null,null,null,null,null,null,null,"","","","","",""]
[null,"",null,null,null,null,null,null,null,"","","","","",""]
[null,"",null,null,null,null,null,null,null,"","","","","",""]
[null,"",null,null,null,null,null,null,null,"","","","","",""]
[null,"",null,null,null,null,null,null,null,"","","","","",""]
[null,"",null,null,null,null,null,null,null,"","","","","",""]
[null,"",null,null,null,null,null,null,null,"","","","","",""]
[null,"",null,null,null,null,null,null,null,"","","","","",""]
[null,"",null,null,null,null,null,null,null,"","","","","",""]
[null,"",null,null,null,null,null,null,null,"","","","","",""]
[null,"",null,null,null,null,null,null,null,"","","","","",""]
[null,"",null,null,null,null,null,null,null,"","","","","",""]
[null,"",null,null,null,null,null,null,null,"","","","","",""]
[null,"",null,null,null,null,null,null,null,"","","","","",""]
[null,"",null,null,null,null,null,null,null,"","","","","",""]
[null,"",null,null,null,null,null,null,null,"","","","","",""]
[null,"",null,null,null,null,null,null,null,"","","","","",""]
[null,"",null,null,null,null,null,null,null,"","","","","",""]
[null,"",null,null,null,null,null,null,null,"","","","","",""]
[null,"",null,null,null,null,null,null,null,"","","","","",""]
[null,"",null,null,null,null,null,null,null,"","","","","",""]
[null,"",null,null,null,null,null,null,null,"","","","","",""]
[null,"",null,null,null,null,null,null,null,"","","","","",""]
[null,"",null,null,null,null,null,null,null,"","","","","",""]
[null,"",null,null,null,null,null,null,null,"","","","","",""]
[null,"",null,null,null,null,null,null,null,"","","","","",""]
[null,"",null,null,null,null,null,null,null,"","","","","",""]
[null,"",null,null,null,null,null,null,null,"","","","","",""]
[null,"",null,null,null,null,null,null,null,"","","","","",""]
[null,"",null,null,null,null,null,null,null,"","","","","",""]
[null,"",null,null,null,null,null,null,null,"","","","","",""]
[null,"",null,null,null,null,null,null,null,"","","","","",""]
[null,{"$f":"IF(C13254=\"\",\"\",IF(B13253=\"Nr.\",1,B13253+1))","v":""},null,null,null,null,null,null,null,"",{"$f":"IF(H13254=\"\",\"\",(H13254/((1+$G13254)*100))*($G13254*100))","v":""},{"$f":"IF(I13254=\"\",\"\",(I13254/((1+$G13254)*100))*($G13254*100))","v":""},{"$f":"IF(H13254=\"\",\"\",+H13254-K13254)","v":""},{"$f":"IF(I13254=\"\",\"\",+I13254-L13254)","v":""},{"$f":"IF(C13254=\"\",\"\",MONTH(C13254))","v":""}]
[null,"",null,null,null,null,null,null,null,"","","","","",""]
[null,"",null,null,null,null,null,null,null,"","","","","",""]
[null,"",null,null,null,null,null,null,null,"","","","","",""]
[null,"",null,null,null,null,null,null,null,"","","","","",""]
[null,"",null,null,null,null,null,null,null,"","","","","",""]
[null,{"$f":"IF(C13318=\"\",\"\",IF(B13317=\"Nr.\",1,B13317+1))","v":""},null,null,null,null,null,null,null,"",{"$f":"IF(H13318=\"\",\"\",(H13318/((1+$G13318)*100))*($G13318*100))","v":""},{"$f":"IF(I13318=\"\",\"\",(I13318/((1+$G13318)*100))*($G13318*100))","v":""},{"$f":"IF(H13318=\"\",\"\",+H13318-K13318)","v":""},{"$f":"IF(I13318=\"\",\"\",+I13318-L13318)","v":""},{"$f":"IF(C13318=\"\",\"\",MONTH(C13318))","v":""}]
[null,"",null,null,null,null,null,null,null,"","","","","",""]
[null,"",null,null,null,null,null,null,null,"","","","","",""]
[null,"",null,null,null,null,null,null,null,"","","","","",""]
[null,"",null,null,null,null,null,null,null,"","","","","",""]
[null,"",null,null,null,null,null,null,null,"","","","","",""]
[null,"",null,null,null,null,null,null,null,"","","","","",""]
[null,"",null,null,null,null,null,null,null,"","","","","",""]
[null,"",null,null,null,null,null,null,null,"","","","","",""]
[null,"",null,null,null,null,null,null,null,"","","","","",""]
[null,"",null,null,null,null,null,null,null,"","","","","",""]
[null,"",null,null,null,null,null,null,null,"","","","","",""]
[null,"",null,null,null,null,null,null,null,"","","","","",""]
[null,"",null,null,null,null,null,null,null,"","","","","",""]
[null,"",null,null,null,null,null,null,null,"","","","","",""]
[null,"",null,null,null,null,null,null,null,"","","","","",""]
[null,"",null,null,null,null,null,null,null,"","","","","",""]
[null,"",null,null,null,null,null,null,null,"","","","","",""]
[null,"",null,null,null,null,null,null,null,"","","","","",""]
[null,"",null,null,null,null,null,null,null,"","","","","",""]
[null,"",null,null,null,null,null,null,null,"","","","","",""]
[null,"",null,null,null,null,null,null,null,"","","","","",""]
[null,"",null,null,null,null,null,null,null,"","","","","",""]
[null,"",null,null,null,null,null,null,null,"","","","","",""]
[null,"",null,null,null,null,null,null,null,"","","","","",""]
[null,"",null,null,null,null,null,null,null,"","","","","",""]
[null,"",null,null,null,null,null,null,null,"","","","","",""]
[null,"",null,null,null,null,null,null,null,"","","","","",""]
[null,"",null,null,null,null,null,null,null,"","","","","",""]
[null,"",null,null,null,null,null,null,null,"","","","","",""]
[null,"",null,null,null,null,null,null,null,"","","","","",""]
[null,{"$f":"IF(C13702=\"\",\"\",IF(B13701=\"Nr.\",1,B13701+1))","v":""},null,null,null,null,null,null,null,"",{"$f":"IF(H13702=\"\",\"\",(H13702/((1+$G13702)*100))*($G13702*100))","v":""},{"$f":"IF(I13702=\"\",\"\",(I13702/((1+$G13702)*100))*($G13702*100))","v":""},{"$f":"IF(H13702=\"\",\"\",+H13702-K13702)","v":""},{"$f":"IF(I13702=\"\",\"\",+I13702-L13702)","v":""},{"$f":"IF(C13702=\"\",\"\",MONTH(C13702))","v":""}]
[null,"",null,null,null,null,null,null,null,"","","","","",""]
[null,"",null,null,null,null,null,null,null,"","","","","",""]
[null,"",null,null,null,null,null,null,null,"","","","","",""]
[null,"",null,null,null,null,null,null,null,"","","","","",""]
[null,"",null,null,null,null,null,null,null,"","","","","",""]
[null,"",null,null,null,null,null,null,null,"","","","","",""]
[null,"",null,null,null,null,null,null,null,"","","","","",""]
[null,"",null,null,null,null,null,null,null,"","","","","",""]
[null,"",null,null,null,null,null,null,null,"","","","","",""]
[null,"",null,null,null,null,null,null,null,"","","","","",""]
[null,"",null,null,null,null,null,null,null,"","","","","",""]
[null,"",null,null,null,null,null,null,null,"","","","","",""]
[null,"",null,null,null,null,null,null,null,"","","","","",""]
[null,"",null,null,null,null,null,null,null,"","","","","",""]
[null,"",null,null,null,null,null,null,null,"","","","","",""]
[null,"",null,null,null,null,null,null,null,"","","","","",""]
[null,"",null,null,null,null,null,null,null,"","","","","",""]
[null,"",null,null,null,null,null,null,null,"","","","","",""]
[null,"",null,null,null,null,null,null,null,"","","","","",""]
[null,"",null,null,null,null,null,null,null,"","","","","",""]
[null,"",null,null,null,null,null,null,null,"","","","","",""]
[null,"",null,null,null,null,null,null,null,"","","","","",""]
[null,"",null,null,null,null,null,null,null,"","","","","",""]
[null,"",null,null,null,null,null,null,null,"","","","","",""]
[null,"",null,null,null,null,null,null,null,"","","","","",""]
[null,"",null,null,null,null,null,null,null,"","","","","",""]
[null,"",null,null,null,null,null,null,null,"","","","","",""]
[null,"",null,null,null,null,null,null,null,"","","","","",""]
[null,"",null,null,null,null,null,null,null,{"$f":"IF(B14064=\"\",\"\",IF(AND(H14064=\"\",I14064=\"\"),\"\",IF(AND(E14064<>\"\",F14064<>\"\"),\"FOUT\",IF(AND(E14064=\"\",H14064<>\"\"),\"FOUT\",IF(AND(F14064=\"\",I14064<>\"\"),\"FOUT\",IF(G14064=\"\",\"BTW ?\",\"OK\"))))))","v":""},"","","","",""]
[null,"",null,null,null,null,null,null,null,"","","","","",""]
[null,{"$f":"IF(C14086=\"\",\"\",IF(B14085=\"Nr.\",1,B14085+1))","v":""},null,null,null,null,null,null,null,"",{"$f":"IF(H14086=\"\",\"\",(H14086/((1+$G14086)*100))*($G14086*100))","v":""},{"$f":"IF(I14086=\"\",\"\",(I14086/((1+$G14086)*100))*($G14086*100))","v":""},{"$f":"IF(H14086=\"\",\"\",+H14086-K14086)","v":""},{"$f":"IF(I14086=\"\",\"\",+I14086-L14086)","v":""},{"$f":"IF(C14086=\"\",\"\",MONTH(C14086))","v":""}]
[null,"",null,null,null,null,null,null,null,"","","","","",""]
[null,"",null,null,null,null,null,null,null,"","","","","",""]
[null,"",null,null,null,null,null,null,null,"","","","","",""]
[null,"",null,null,null,null,null,null,null,"","","","","",""]
[null,"",null,null,null,null,null,null,null,"","","","","",""]
[null,"",null,null,null,null,null,null,null,"","","","","",""]
[null,"",null,null,null,null,null,null,null,"","","","","",""]
[null,"",null,null,null,null,null,null,null,"","","","","",""]
[null,"",null,null,null,null,null,null,null,"","","","","",""]
[null,"",null,null,null,null,null,null,null,"","","","","",""]
[null,"",null,null,null,null,null,null,null,"","","","","",""]
[null,"",null,null,null,null,null,null,null,"","","","","",""]
[null,"",null,null,null,null,null,null,null,"","","","","",""]
[null,"",null,null,null,null,null,null,null,"","","","","",""]
[null,"",null,null,null,null,null,null,null,"","","","","",""]
[null,"",null,null,null,null,null,null,null,"","","","","",""]
[null,"",null,null,null,null,null,null,null,"","","","","",""]
[null,"",null,null,null,null,null,null,null,"","","","","",""]
[null,"",null,null,null,null,null,null,null,"","","","","",""]
[null,"",null,null,null,null,null,null,null,"","","","","",""]
[null,"",null,null,null,null,null,null,null,"","","","","",""]
[null,"",null,null,null,null,null,null,null,"","","","","",""]
[null,"",null,null,null,null,null,null,null,"","","","","",""]
[null,"",null,null,null,null,null,null,null,"","","","","",""]
[null,"",null,null,null,null,null,null,null,"","","","","",""]
[null,"",null,null,null,null,null,null,null,"","","","","",""]
[null,"",null,null,null,null,null,null,null,"","","","","",""]
[null,"",null,null,null,null,null,null,null,"","","","","",""]
[null,"",null,null,null,null,null,null,null,"","","","","",""]
[null,"",null,null,null,null,null,null,null,"","","","","",""]
[null,"",null,null,null,null,null,null,null,"","","","","",""]
[null,"",null,null,null,null,null,null,null,"","","","","",""]
[null,"",null,null,null,null,null,null,null,"","","","","",""]
[null,"",null,null,null,null,null,null,null,"","","","","",""]
[null,"",null,null,null,null,null,null,null,{"$f":"IF(B14512=\"\",\"\",IF(AND(H14512=\"\",I14512=\"\"),\"\",IF(AND(E14512<>\"\",F14512<>\"\"),\"FOUT\",IF(AND(E14512=\"\",H14512<>\"\"),\"FOUT\",IF(AND(F14512=\"\",I14512<>\"\"),\"FOUT\",IF(G14512=\"\",\"BTW ?\",\"OK\"))))))","v":""},"","","","",""]
[null,"",null,null,null,null,null,null,null,"","","","","",""]
[null,"",null,null,null,null,null,null,null,"","","","","",""]
[null,"",null,null,null,null,null,null,null,"","","","","",""]
[null,"",null,null,null,null,null,null,null,"","","","","",""]
[null,"",null,null,null,null,null,null,null,"","","","","",""]
[null,"",null,null,null,null,null,null,null,"","","","","",""]
[null,"",null,null,null,null,null,null,null,"","","","","",""]
[null,"",null,null,null,null,null,null,null,"","","","","",""]
[null,"",null,null,null,null,null,null,null,"","","","","",""]
[null,"",null,null,null,null,null,null,null,"","","","","",""]
[null,"",null,null,null,null,null,null,null,"","","","","",""]
[null,"",null,null,null,null,null,null,null,"","","","","",""]
[null,"",null,null,null,null,null,null,null,"","","","","",""]
[null,"",null,null,null,null,null,null,null,"","","","","",""]
[null,"",null,null,null,null,null,null,null,"","","","","",""]
[null,"",null,null,null,null,null,null,null,"","","","","",""]
[null,"",null,null,null,null,null,null,null,"","","","","",""]
[null,"",null,null,null,null,null,null,null,"","","","","",""]
[null,"",null,null,null,null,null,null,null,"","","","","",""]
[null,"",null,null,null,null,null,null,null,"","","","","",""]
[null,"",null,null,null,null,null,null,null,"","","","","",""]
[null,"",null,null,null,null,null,null,null,"","","","","",""]
[null,"",null,null,null,null,null,null,null,"","","","","",""]
[null,"",null,null,null,null,null,null,null,"","","","","",""]
[null,"",null,null,null,null,null,null,null,"","","","","",""]
[null,"",null,null,null,null,null,null,null,"","","","","",""]
[null,"",null,null,null,null,null,null,null,"","","","","",""]
[null,"",null,null,null,null,null,null,null,"","","","","",""]
[null,"",null,null,null,null,null,null,null,"","","","","",""]
[null,"",null,null,null,null,null,null,null,"","","","","",""]
[null,"",null,null,null,null,null,null,null,{"$f":"IF(B14896=\"\",\"\",IF(AND(H14896=\"\",I14896=\"\"),\"\",IF(AND(E14896<>\"\",F14896<>\"\"),\"FOUT\",IF(AND(E14896=\"\",H14896<>\"\"),\"FOUT\",IF(AND(F14896=\"\",I14896<>\"\"),\"FOUT\",IF(G14896=\"\",\"BTW ?\",\"OK\"))))))","v":""},"","","","",""]
[null,"",null,null,null,null,null,null,null,"","","","","",""]
[null,"",null,null,null,null,null,null,null,"","","","","",""]
[null,"",null,null,null,null,null,null,null,"","","","","",""]
[null,"",null,null,null,null,null,null,null,"","","","","",""]
[null,"",null,null,null,null,null,null,null,{"$f":"IF(B14960=\"\",\"\",IF(AND(H14960=\"\",I14960=\"\"),\"\",IF(AND(E14960<>\"\",F14960<>\"\"),\"FOUT\",IF(AND(E14960=\"\",H14960<>\"\"),\"FOUT\",IF(AND(F14960=\"\",I14960<>\"\"),\"FOUT\",IF(G14960=\"\",\"BTW ?\",\"OK\"))))))","v":""},"","","","",""]
[null,"",null,null,null,null,null,null,null,"","","","","",""]
[null,"",null,null,null,null,null,null,null,"","","","","",""]
[null,"",null,null,null,null,null,null,null,"","","","","",""]
[null,"",null,null,null,null,null,null,null,"","","","","",""]
[null,"",null,null,null,null,null,null,null,"","","","","",""]
[null,"",null,null,null,null,null,null,null,"","","","","",""]
[null,"",null,null,null,null,null,null,null,"","","","","",""]
[null,"",null,null,null,null,null,null,null,"","","","","",""]
[null,"",null,null,null,null,null,null,null,"","","","","",""]
[null,"",null,null,null,null,null,null,null,"","","","","",""]
[null,"",null,null,null,null,null,null,null,"","","","","",""]
[null,"",null,null,null,null,null,null,null,"","","","","",""]
[null,"",null,null,null,null,null,null,null,"","","","","",""]
[null,"",null,null,null,null,null,null,null,"","","","","",""]
[null,"",null,null,null,null,null,null,null,"","","","","",""]
[null,"",null,null,null,null,null,null,null,"","","","","",""]
[null,"",null,null,null,null,null,null,null,"","","","","",""]
[null,"",null,null,null,null,null,null,null,"","","","","",""]
[null,"",null,null,null,null,null,null,null,"","","","","",""]
[null,"",null,null,null,null,null,null,null,"","","","","",""]
[null,"",null,null,null,null,null,null,null,"","","","","",""]
[null,"",null,null,null,null,null,null,null,"","","","","",""]
[null,"",null,null,null,null,null,null,null,"","","","","",""]
[null,"",null,null,null,null,null,null,null,"","","","","",""]
[null,"",null,null,null,null,null,null,null,"","","","","",""]
[null,"",null,null,null,null,null,null,null,"","","","","",""]
[null,"",null,null,null,null,null,null,null,"","","","","",""]
[null,"",null,null,null,null,null,null,null,"","","","","",""]
[null,"",null,null,null,null,null,null,null,"","","","","",""]
[null,"",null,null,null,null,null,null,null,"","","","","",""]
[null,"",null,null,null,null,null,null,null,"","","","","",""]
[null,"",null,null,null,null,null,null,null,"","","","","",""]
[null,"",null,null,null,null,null,null,null,"","","","","",""]
[null,"",null,null,null,null,null,null,null,"","","","","",""]
[null,"",null,null,null,null,null,null,null,"","","","","",""]
[null,"",null,null,null,null,null,null,null,"","","","","",""]
[null,"",null,null,null,null,null,null,null,"","","","","",""]
[null,"",null,null,null,null,null,null,null,"","","","","",""]
[null,"",null,null,null,null,null,null,null,"","","","","",""]
[null,"",null,null,null,null,null,null,null,"","","","","",""]
[null,"",null,null,null,null,null,null,null,"","","","","",""]
[null,"",null,null,null,null,null,null,null,"","","","","",""]
[null,"",null,null,null,null,null,null,null,"","","","","",""]
[null,"",null,null,null,null,null,null,null,"","","","","",""]
[null,"",null,null,null,null,null,null,null,"","","","","",""]
[null,"",null,null,null,null,null,null,null,"","","","","",""]
[null,"",null,null,null,null,null,null,null,"","","","","",""]
[null,"",null,null,null,null,null,null,null,"","","","","",""]
[null,"",null,null,null,null,null,null,null,"","","","","",""]
[null,"",null,null,null,null,null,null,null,"","","","","",""]
[null,"",null,null,null,null,null,null,null,"","","","","",""]
[null,"",null,null,null,null,null,null,null,"","","","","",""]
[null,"",null,null,null,null,null,null,null,"","","","","",""]
[null,"",null,null,null,null,null,null,null,"","","","","",""]
[null,"",null,null,null,null,null,null,null,"","","","","",""]
[null,"",null,null,null,null,null,null,null,"","","","","",""]
[null,"",null,null,null,null,null,null,null,"","","","","",""]
[null,"",null,null,null,null,null,null,null,"","","","","",""]
[null,"",null,null,null,null,null,null,null,"","","","","",""]
[null,"",null,null,null,null,null,null,null,"","","","","",""]
[null,"",null,null,null,null,null,null,null,"","","","","",""]
[null,"",null,null,null,null,null,null,null,"","","","","",""]
[null,"",null,null,null,null,null,null,null,"","","","","",""]
[null,{"$f":"IF(C15750=\"\",\"\",IF(B15749=\"Nr.\",1,B15749+1))","v":""},null,null,null,null,null,null,null,"",{"$f":"IF(H15750=\"\",\"\",(H15750/((1+$G15750)*100))*($G15750*100))","v":""},{"$f":"IF(I15750=\"\",\"\",(I15750/((1+$G15750)*100))*($G15750*100))","v":""},{"$f":"IF(H15750=\"\",\"\",+H15750-K15750)","v":""},{"$f":"IF(I15750=\"\",\"\",+I15750-L15750)","v":""},{"$f":"IF(C15750=\"\",\"\",MONTH(C15750))","v":""}]
[null,"",null,null,null,null,null,null,null,"","","","","",""]
[null,"",null,null,null,null,null,null,null,"","","","","",""]
[null,"",null,null,null,null,null,null,null,"","","","","",""]
[null,"",null,null,null,null,null,null,null,"","","","","",""]
[null,"",null,null,null,null,null,null,null,"","","","","",""]
[null,"",null,null,null,null,null,null,null,"","","","","",""]
[null,"",null,null,null,null,null,null,null,"","","","","",""]
[null,"",null,null,null,null,null,null,null,"","","","","",""]
[null,"",null,null,null,null,null,null,null,"","","","","",""]
[null,"",null,null,null,null,null,null,null,"","","","","",""]
[null,"",null,null,null,null,null,null,null,"","","","","",""]
[null,"",null,null,null,null,null,null,null,"","","","","",""]
[null,"",null,null,null,null,null,null,null,"","","","","",""]
[null,"",null,null,null,null,null,null,null,"","","","","",""]
[null,"",null,null,null,null,null,null,null,"","","","","",""]
[null,{"$f":"IF(C15942=\"\",\"\",IF(B15941=\"Nr.\",1,B15941+1))","v":""},null,null,null,null,null,null,null,"",{"$f":"IF(H15942=\"\",\"\",(H15942/((1+$G15942)*100))*($G15942*100))","v":""},{"$f":"IF(I15942=\"\",\"\",(I15942/((1+$G15942)*100))*($G15942*100))","v":""},{"$f":"IF(H15942=\"\",\"\",+H15942-K15942)","v":""},{"$f":"IF(I15942=\"\",\"\",+I15942-L15942)","v":""},{"$f":"IF(C15942=\"\",\"\",MONTH(C15942))","v":""}]
[null,"",null,null,null,null,null,null,null,"","","","","",""]
[null,"",null,null,null,null,null,null,null,"","","","","",""]
[null,"",null,null,null,null,null,null,null,"","","","","",""]
[null,"",null,null,null,null,null,null,null,"","","","","",""]
[null,"",null,null,null,null,null,null,null,"","","","","",""]
[null,"",null,null,null,null,null,null,null,"","","","","",""]
[null,"",null,null,null,null,null,null,null,"","","","","",""]
[null,"",null,null,null,null,null,null,null,"","","","","",""]
[null,"",null,null,null,null,null,null,null,"","","","","",""]
[null,"",null,null,null,null,null,null,null,"","","","","",""]
[null,"",null,null,null,null,null,null,null,"","","","","",""]
[null,"",null,null,null,null,null,null,null,"","","","","",""]
[null,"",null,null,null,null,null,null,null,"","","","","",""]
[null,"",null,null,null,null,null,null,null,"","","","","",""]
[null,"",null,null,null,null,null,null,null,"","","","","",""]
[null,"",null,null,null,null,null,null,null,"","","","","",""]
[null,"",null,null,null,null,null,null,null,"","","","","",""]
[null,"",null,null,null,null,null,null,null,"","","","","",""]
[null,"",null,null,null,null,null,null,null,"","","","","",""]
[null,"",null,null,null,null,null,null,null,"","","","","",""]
[null,{"$f":"IF(C16198=\"\",\"\",IF(B16197=\"Nr.\",1,B16197+1))","v":""},null,null,null,null,null,null,null,"",{"$f":"IF(H16198=\"\",\"\",(H16198/((1+$G16198)*100))*($G16198*100))","v":""},{"$f":"IF(I16198=\"\",\"\",(I16198/((1+$G16198)*100))*($G16198*100))","v":""},{"$f":"IF(H16198=\"\",\"\",+H16198-K16198)","v":""},{"$f":"IF(I16198=\"\",\"\",+I16198-L16198)","v":""},{"$f":"IF(C16198=\"\",\"\",MONTH(C16198))","v":""}]
[null,"",null,null,null,null,null,null,null,"","","","","",""]
[null,"",null,null,null,null,null,null,null,"","","","","",""]
[null,"",null,null,null,null,null,null,null,"","","","","",""]
[null,"",null,null,null,null,null,null,null,"","","","","",""]
[null,"",null,null,null,null,null,null,null,"","","","","",""]
[null,"",null,null,null,null,null,null,null,"","","","","",""]
[null,"",null,null,null,null,null,null,null,"","","","","",""]
[null,"",null,null,null,null,null,null,null,"","","","","",""]
[null,"",null,null,null,null,null,null,null,"","","","","",""]
[null,"",null,null,null,null,null,null,null,"","","","","",""]
[null,"",null,null,null,null,null,null,null,"","","","","",""]
[null,"",null,null,null,null,null,null,null,"","","","","",""]
[null,"",null,null,null,null,null,null,null,"","","","","",""]
[null,"",null,null,null,null,null,null,null,"","","","","",""]
[null,"",null,null,null,null,null,null,null,"","","","","",""]
[null,"",null,null,null,null,null,null,null,"","","","","",""]
[null,"",null,null,null,null,null,null,null,"","","","","",""]
[null,"",null,null,null,null,null,null,null,"","","","","",""]
[null,"",null,null,null,null,null,null,null,"","","","","",""]
[null,"",null,null,null,null,null,null,null,"","","","","",""]
[null,"",null,null,null,null,null,null,null,"","","","","",""]
[null,"",null,null,null,null,null,null,null,"","","","","",""]
[null,"",null,null,null,null,null,null,null,"","","","","",""]
[null,"",null,null,null,null,null,null,null,"","","","","",""]
[null,"",null,null,null,null,null,null,null,"","","","","",""]
[null,"",null,null,null,null,null,null,null,"","","","","",""]
[null,"",null,null,null,null,null,null,null,"","","","","",""]
[null,"",null,null,null,null,null,null,null,"","","","","",""]
[null,"",null,null,null,null,null,null,null,"","","","","",""]
[null,"",null,null,null,null,null,null,null,"","","","","",""]
[null,{"$f":"IF(C16582=\"\",\"\",IF(B16581=\"Nr.\",1,B16581+1))","v":""},null,null,null,null,null,null,null,"",{"$f":"IF(H16582=\"\",\"\",(H16582/((1+$G16582)*100))*($G16582*100))","v":""},{"$f":"IF(I16582=\"\",\"\",(I16582/((1+$G16582)*100))*($G16582*100))","v":""},{"$f":"IF(H16582=\"\",\"\",+H16582-K16582)","v":""},{"$f":"IF(I16582=\"\",\"\",+I16582-L16582)","v":""},{"$f":"IF(C16582=\"\",\"\",MONTH(C16582))","v":""}]
[null,"",null,null,null,null,null,null,null,"","","","","",""]
[null,"",null,null,null,null,null,null,null,"","","","","",""]
[null,"",null,null,null,null,null,null,null,"","","","","",""]
[null,"",null,null,null,null,null,null,null,"","","","","",""]
[null,"",null,null,null,null,null,null,null,"","","","","",""]
[null,"",null,null,null,null,null,null,null,"","","","","",""]
[null,"",null,null,null,null,null,null,null,"","","","","",""]
[null,"",null,null,null,null,null,null,null,"","","","","",""]
[null,"",null,null,null,null,null,null,null,"","","","","",""]
[null,"",null,null,null,null,null,null,null,"","","","","",""]
[null,"",null,null,null,null,null,null,null,"","","","","",""]
[null,"",null,null,null,null,null,null,null,"","","","","",""]
[null,"",null,null,null,null,null,null,null,"","","","","",""]
[null,"",null,null,null,null,null,null,null,{"$f":"IF(B16752=\"\",\"\",IF(AND(H16752=\"\",I16752=\"\"),\"\",IF(AND(E16752<>\"\",F16752<>\"\"),\"FOUT\",IF(AND(E16752=\"\",H16752<>\"\"),\"FOUT\",IF(AND(F16752=\"\",I16752<>\"\"),\"FOUT\",IF(G16752=\"\",\"BTW ?\",\"OK\"))))))","v":""},"","","","",""]
[null,"",null,null,null,null,null,null,null,"","","","","",""]
[null,"",null,null,null,null,null,null,null,"","","","","",""]
[null,"",null,null,null,null,null,null,null,"","","","","",""]
[null,"",null,null,null,null,null,null,null,"","","","","",""]
[null,"",null,null,null,null,null,null,null,"","","","","",""]
[null,"",null,null,null,null,null,null,null,"","","","","",""]
[null,"",null,null,null,null,null,null,null,"","","","","",""]
[null,"",null,null,null,null,null,null,null,"","","","","",""]
[null,"",null,null,null,null,null,null,null,"","","","","",""]
[null,"",null,null,null,null,null,null,null,"","","","","",""]
[null,"",null,null,null,null,null,null,null,"","","","","",""]
[null,"",null,null,null,null,null,null,null,"","","","","",""]
[null,"",null,null,null,null,null,null,null,"","","","","",""]
[null,"",null,null,null,null,null,null,null,"","","","","",""]
[null,"",null,null,null,null,null,null,null,{"$f":"IF(B16944=\"\",\"\",IF(AND(H16944=\"\",I16944=\"\"),\"\",IF(AND(E16944<>\"\",F16944<>\"\"),\"FOUT\",IF(AND(E16944=\"\",H16944<>\"\"),\"FOUT\",IF(AND(F16944=\"\",I16944<>\"\"),\"FOUT\",IF(G16944=\"\",\"BTW ?\",\"OK\"))))))","v":""},"","","","",""]
[null,"",null,null,null,null,null,null,null,"","","","","",""]
[null,"",null,null,null,null,null,null,null,"","","","","",""]
[null,"",null,null,null,null,null,null,null,"","","","","",""]
[null,"",null,null,null,null,null,null,null,"","","","","",""]
[null,"",null,null,null,null,null,null,null,"","","","","",""]
[null,"",null,null,null,null,null,null,null,{"$f":"IF(B17008=\"\",\"\",IF(AND(H17008=\"\",I17008=\"\"),\"\",IF(AND(E17008<>\"\",F17008<>\"\"),\"FOUT\",IF(AND(E17008=\"\",H17008<>\"\"),\"FOUT\",IF(AND(F17008=\"\",I17008<>\"\"),\"FOUT\",IF(G17008=\"\",\"BTW ?\",\"OK\"))))))","v":""},"","","","",""]
[null,"",null,null,null,null,null,null,null,"","","","","",""]
[null,"",null,null,null,null,null,null,null,"","","","","",""]
[null,"",null,null,null,null,null,null,null,"","","","","",""]
[null,"",null,null,null,null,null,null,null,"","","","","",""]
[null,"",null,null,null,null,null,null,null,"","","","","",""]
[null,"",null,null,null,null,null,null,null,"","","","","",""]
[null,"",null,null,null,null,null,null,null,"","","","","",""]
[null,"",null,null,null,null,null,null,null,"","","","","",""]
[null,"",null,null,null,null,null,null,null,"","","","","",""]
[null,"",null,null,null,null,null,null,null,"","","","","",""]
[null,"",null,null,null,null,null,null,null,"","","","","",""]
[null,"",null,null,null,null,null,null,null,"","","","","",""]
[null,"",null,null,null,null,null,null,null,"","","","","",""]
[null,"",null,null,null,null,null,null,null,"","","","","",""]
[null,"",null,null,null,null,null,null,null,"","","","","",""]
[null,"",null,null,null,null,null,null,null,"","","","","",""]
[null,"",null,null,null,null,null,null,null,"","","","","",""]
[null,"",null,null,null,null,null,null,null,"","","","","",""]
[null,"",null,null,null,null,null,null,null,"","","","","",""]
[null,"",null,null,null,null,null,null,null,"","","","","",""]
[null,"",null,null,null,null,null,null,null,"","","","","",""]
[null,"",null,null,null,null,null,null,null,"","","","","",""]
[null,"",null,null,null,null,null,null,null,"","","","","",""]
[null,"",null,null,null,null,null,null,null,"","","","","",""]
[null,"",null,null,null,null,null,null,null,"","","","","",""]
[null,"",null,null,null,null,null,null,null,"","","","","",""]
[null,"",null,null,null,null,null,null,null,"","","","","",""]
[null,"",null,null,null,null,null,null,null,"","","","","",""]
[null,"",null,null,null,null,null,null,null,"","","","","",""]
[null,"",null,null,null,null,null,null,null,"","","","","",""]
[null,"",null,null,null,null,null,null,null,{"$f":"IF(B17392=\"\",\"\",IF(AND(H17392=\"\",I17392=\"\"),\"\",IF(AND(E17392<>\"\",F17392<>\"\"),\"FOUT\",IF(AND(E17392=\"\",H17392<>\"\"),\"FOUT\",IF(AND(F17392=\"\",I17392<>\"\"),\"FOUT\",IF(G17392=\"\",\"BTW ?\",\"OK\"))))))","v":""},"","","","",""]
[null,"",null,null,null,null,null,null,null,"","","","","",""]
[null,"",null,null,null,null,null,null,null,"","","","","",""]
[null,"",null,null,null,null,null,null,null,"","","","","",""]
[null,"",null,null,null,null,null,null,null,"","","","","",""]
[null,"",null,null,null,null,null,null,null,"","","","","",""]
[null,"",null,null,null,null,null,null,null,"","","","","",""]
[null,"",null,null,null,null,null,null,null,"","","","","",""]
[null,"",null,null,null,null,null,null,null,"","","","","",""]
[null,"",null,null,null,null,null,null,null,"","","","","",""]
[null,"",null,null,null,null,null,null,null,"","","","","",""]
[null,"",null,null,null,null,null,null,null,"","","","","",""]
[null,"",null,null,null,null,null,null,null,"","","","","",""]
[null,"",null,null,null,null,null,null,null,"","","","","",""]
[null,"",null,null,null,null,null,null,null,"","","","","",""]
[null,"",null,null,null,null,null,null,null,"","","","","",""]
[null,"",null,null,null,null,null,null,null,"","","","","",""]
[null,"",null,null,null,null,null,null,null,"","","","","",""]
[null,"",null,null,null,null,null,null,null,"","","","","",""]
[null,"",null,null,null,null,null,null,null,"","","","","",""]
[null,"",null,null,null,null,null,null,null,"","","","","",""]
[null,"",null,null,null,null,null,null,null,"","","","","",""]
[null,"",null,null,null,null,null,null,null,"","","","","",""]
[null,"",null,null,null,null,null,null,null,"","","","","",""]
[null,"",null,null,null,null,null,null,null,"","","","","",""]
[null,"",null,null,null,null,null,null,null,"","","","","",""]
[null,"",null,null,null,null,null,null,null,"","","","","",""]
[null,"",null,null,null,null,null,null,null,"","","","","",""]
[null,"",null,null,null,null,null,null,null,"","","","","",""]
[null,"",null,null,null,null,null,null,null,"","","","","",""]
[null,"",null,null,null,null,null,null,null,"","","","","",""]
[null,"",null,null,null,null,null,null,null,{"$f":"IF(B17776=\"\",\"\",IF(AND(H17776=\"\",I17776=\"\"),\"\",IF(AND(E17776<>\"\",F17776<>\"\"),\"FOUT\",IF(AND(E17776=\"\",H17776<>\"\"),\"FOUT\",IF(AND(F17776=\"\",I17776<>\"\"),\"FOUT\",IF(G17776=\"\",\"BTW ?\",\"OK\"))))))","v":""},"","","","",""]
[null,"",null,null,null,null,null,null,null,"","","","","",""]
[null,"",null,null,null,null,null,null,null,"","","","","",""]
[null,"",null,null,null,null,null,null,null,"","","","","",""]
[null,"",null,null,null,null,null,null,null,"","","","","",""]
[null,"",null,null,null,null,null,null,null,"","","","","",""]
[null,"",null,null,null,null,null,null,null,"","","","","",""]
[null,"",null,null,null,null,null,null,null,"","","","","",""]
[null,"",null,null,null,null,null,null,null,"","","","","",""]
[null,"",null,null,null,null,null,null,null,"","","","","",""]
[null,"",null,null,null,null,null,null,null,"","","","","",""]
[null,"",null,null,null,null,null,null,null,"","","","","",""]
[null,"",null,null,null,null,null,null,null,"","","","","",""]
[null,"",null,null,null,null,null,null,null,"","","","","",""]
[null,"",null,null,null,null,null,null,null,"","","","","",""]
[null,"",null,null,null,null,null,null,null,"","","","","",""]
[null,"",null,null,null,null,null,null,null,"","","","","",""]
[null,"",null,null,null,null,null,null,null,"","","","","",""]
[null,"",null,null,null,null,null,null,null,"","","","","",""]
[null,"",null,null,null,null,null,null,null,"","","","","",""]
[null,"",null,null,null,null,null,null,null,"","","","","",""]
[null,"",null,null,null,null,null,null,null,"","","","","",""]
[null,"",null,null,null,null,null,null,null,"","","","","",""]
[null,"",null,null,null,null,null,null,null,"","","","","",""]
[null,"",null,null,null,null,null,null,null,"","","","","",""]
[null,"",null,null,null,null,null,null,null,"","","","","",""]
[null,"",null,null,null,null,null,null,null,"","","","","",""]
[null,"",null,null,null,null,null,null,null,"","","","","",""]
[null,"",null,null,null,null,null,null,null,"","","","","",""]
[null,"",null,null,null,null,null,null,null,"","","","","",""]
[null,"",null,null,null,null,null,null,null,"","","","","",""]
[null,"",null,null,null,null,null,null,null,"","","","","",""]
[null,"",null,null,null,null,null,null,null,"","","","","",""]
[null,"",null,null,null,null,null,null,null,"","","","","",""]
[null,"",null,null,null,null,null,null,null,"","","","","",""]
[null,"",null,null,null,null,null,null,null,"","","","","",""]
[null,"",null,null,null,null,null,null,null,"","","","","",""]
[null,"",null,null,null,null,null,null,null,"","","","","",""]
[null,"",null,null,null,null,null,null,null,"","","","","",""]
[null,"",null,null,null,null,null,null,null,"","","","","",""]
[null,"",null,null,null,null,null,null,null,"","","","","",""]
[null,"",null,null,null,null,null,null,null,"","","","","",""]
[null,"",null,null,null,null,null,null,null,"","","","","",""]
[null,"",null,null,null,null,null,null,null,"","","","","",""]
[null,"",null,null,null,null,null,null,null,"","","","","",""]
[null,"",null,null,null,null,null,null,null,"","","","","",""]
[null,"",null,null,null,null,null,null,null,"","","","","",""]
[null,"",null,null,null,null,null,null,null,"","","","","",""]
[null,"",null,null,null,null,null,null,null,"","","","","",""]
[null,"",null,null,null,null,null,null,null,"","","","","",""]
[null,"",null,null,null,null,null,null,null,"","","","","",""]
[null,"",null,null,null,null,null,null,null,"","","","","",""]
[null,"",null,null,null,null,null,null,null,"","","","","",""]
[null,"",null,null,null,null,null,null,null,"","","","","",""]
[null,"",null,null,null,null,null,null,null,"","","","","",""]
[null,"",null,null,null,null,null,null,null,"","","","","",""]
[null,"",null,null,null,null,null,null,null,"","","","","",""]
[null,"",null,null,null,null,null,null,null,"","","","","",""]
[null,"",null,null,null,null,null,null,null,"","","","","",""]
[null,"",null,null,null,null,null,null,null,"","","","","",""]
[null,"",null,null,null,null,null,null,null,"","","","","",""]
[null,"",null,null,null,null,null,null,null,"","","","","",""]
[null,"",null,null,null,null,null,null,null,"","","","","",""]
[null,"",null,null,null,null,null,null,null,"","","","","",""]
[null,"",null,null,null,null,null,null,null,"","","","","",""]
[null,"",null,null,null,null,null,null,null,"","","","","",""]
[null,"",null,null,null,null,null,null,null,"","","","","",""]
[null,"",null,null,null,null,null,null,null,"","","","","",""]
[null,"",null,null,null,null,null,null,null,"","","","","",""]
[null,"",null,null,null,null,null,null,null,"","","","","",""]
[null,"",null,null,null,null,null,null,null,"","","","","",""]
[null,"",null,null,null,null,null,null,null,"","","","","",""]
[null,"",null,null,null,null,null,null,null,"","","","","",""]
[null,"",null,null,null,null,null,null,null,"","","","","",""]
[null,"",null,null,null,null,null,null,null,"","","","","",""]
[null,"",null,null,null,null,null,null,null,"","","","","",""]
[null,"",null,null,null,null,null,null,null,"","","","","",""]
[null,"",null,null,null,null,null,null,null,"","","","","",""]
[null,"",null,null,null,null,null,null,null,"","","","","",""]
[null,"",null,null,null,null,null,null,null,"","","","","",""]
[null,"",null,null,null,null,null,null,null,"","","","","",""]
[null,"",null,null,null,null,null,null,null,"","","","","",""]
[null,"",null,null,null,null,null,null,null,"","","","","",""]
[null,"",null,null,null,null,null,null,null,"","","","","",""]
[null,"",null,null,null,null,null,null,null,"","","","","",""]
[null,"",null,null,null,null,null,null,null,"","","","","",""]
[null,"",null,null,null,null,null,null,null,"","","","","",""]
[null,"",null,null,null,null,null,null,null,"","","","","",""]
[null,"",null,null,null,null,null,null,null,"","","","","",""]
[null,"",null,null,null,null,null,null,null,"","","","","",""]
[null,"",null,null,null,null,null,null,null,"","","","","",""]
[null,"",null,null,null,null,null,null,null,"","","","","",""]
[null,"",null,null,null,null,null,null,null,"","","","","",""]
[null,"",null,null,null,null,null,null,null,"","","","","",""]
[null,"",null,null,null,null,null,null,null,"","","","","",""]
[null,"",null,null,null,null,null,null,null,"","","","","",""]
[null,"",null,null,null,null,null,null,null,"","","","","",""]
[null,"",null,null,null,null,null,null,null,"","","","","",""]
[null,"",null,null,null,null,null,null,null,"","","","","",""]
[null,"",null,null,null,null,null,null,null,"","","","","",""]
[null,"",null,null,null,null,null,null,null,"","","","","",""]
[null,"",null,null,null,null,null,null,null,"","","","","",""]
[null,"",null,null,null,null,null,null,null,"","","","","",""]
[null,"",null,null,null,null,null,null,null,"","","","","",""]
[null,"",null,null,null,null,null,null,null,"","","","","",""]
[null,"",null,null,null,null,null,null,null,"","","","","",""]
[null,"",null,null,null,null,null,null,null,"","","","","",""]
[null,"",null,null,null,null,null,null,null,"","","","","",""]
[null,"",null,null,null,null,null,null,null,"","","","","",""]
[null,"",null,null,null,null,null,null,null,"","","","","",""]
[null,"",null,null,null,null,null,null,null,"","","","","",""]
[null,"",null,null,null,null,null,null,null,"","","","","",""]
[null,"",null,null,null,null,null,null,null,"","","","","",""]
[null,"",null,null,null,null,null,null,null,"","","","","",""]
[null,"",null,null,null,null,null,null,null,"","","","","",""]
[null,"",null,null,null,null,null,null,null,"","","","","",""]
[null,"",null,null,null,null,null,null,null,"","","","","",""]
[null,"",null,null,null,null,null,null,null,"","","","","",""]
[null,"",null,null,null,null,null,null,null,"","","","","",""]
[null,"",null,null,null,null,null,null,null,"","","","","",""]
[null,"",null,null,null,null,null,null,null,"","","","","",""]
[null,"",null,null,null,null,null,null,null,"","","","","",""]
[null,"",null,null,null,null,null,null,null,"","","","","",""]
[null,"",null,null,null,null,null,null,null,"","","","","",""]
[null,"",null,null,null,null,null,null,null,"","","","","",""]
[null,"",null,null,null,null,null,null,null,"","","","","",""]
[null,"",null,null,null,null,null,null,null,"","","","","",""]
[null,"",null,null,null,null,null,null,null,"","","","","",""]
[null,"",null,null,null,null,null,null,null,"","","","","",""]
[null,"",null,null,null,null,null,null,null,"","","","","",""]
[null,"",null,null,null,null,null,null,null,"","","","","",""]
[null,"",null,null,null,null,null,null,null,"","","","","",""]
[null,"",null,null,null,null,null,null,null,"","","","","",""]
[null,"",null,null,null,null,null,null,null,"","","","","",""]
[null,"",null,null,null,null,null,null,null,"","","","","",""]
[null,"",null,null,null,null,null,null,null,"","","","","",""]
[null,"",null,null,null,null,null,null,null,"","","","","",""]
[null,{"$f":"IF(C19462=\"\",\"\",IF(B19461=\"Nr.\",1,B19461+1))","v":""},null,null,null,null,null,null,null,"",{"$f":"IF(H19462=\"\",\"\",(H19462/((1+$G19462)*100))*($G19462*100))","v":""},{"$f":"IF(I19462=\"\",\"\",(I19462/((1+$G19462)*100))*($G19462*100))","v":""},{"$f":"IF(H19462=\"\",\"\",+H19462-K19462)","v":""},{"$f":"IF(I19462=\"\",\"\",+I19462-L19462)","v":""},{"$f":"IF(C19462=\"\",\"\",MONTH(C19462))","v":""}]
[null,"",null,null,null,null,null,null,null,"","","","","",""]
[null,"",null,null,null,null,null,null,null,"","","","","",""]
[null,"",null,null,null,null,null,null,null,"","","","","",""]
[null,"",null,null,null,null,null,null,null,"","","","","",""]
[null,"",null,null,null,null,null,null,null,"","","","","",""]
[null,"",null,null,null,null,null,null,null,"","","","","",""]
[null,"",null,null,null,null,null,null,null,"","","","","",""]
[null,"",null,null,null,null,null,null,null,"","","","","",""]
[null,"",null,null,null,null,null,null,null,"","","","","",""]
[null,"",null,null,null,null,null,null,null,"","","","","",""]
[null,"",null,null,null,null,null,null,null,"","","","","",""]
[null,"",null,null,null,null,null,null,null,"","","","","",""]
[null,"",null,null,null,null,null,null,null,"","","","","",""]
[null,"",null,null,null,null,null,null,null,"","","","","",""]
[null,"",null,null,null,null,null,null,null,"","","","","",""]
[null,"",null,null,null,null,null,null,null,"","","","","",""]
[null,"",null,null,null,null,null,null,null,"","","","","",""]
[null,"",null,null,null,null,null,null,null,"","","","","",""]
[null,"",null,null,null,null,null,null,null,"","","","","",""]
[null,"",null,null,null,null,null,null,null,"","","","","",""]
[null,{"$f":"IF(C19718=\"\",\"\",IF(B19717=\"Nr.\",1,B19717+1))","v":""},null,null,null,null,null,null,null,"",{"$f":"IF(H19718=\"\",\"\",(H19718/((1+$G19718)*100))*($G19718*100))","v":""},{"$f":"IF(I19718=\"\",\"\",(I19718/((1+$G19718)*100))*($G19718*100))","v":""},{"$f":"IF(H19718=\"\",\"\",+H19718-K19718)","v":""},{"$f":"IF(I19718=\"\",\"\",+I19718-L19718)","v":""},{"$f":"IF(C19718=\"\",\"\",MONTH(C19718))","v":""}]
[null,"",null,null,null,null,null,null,null,"","","","","",""]
[null,"",null,null,null,null,null,null,null,"","","","","",""]
[null,"",null,null,null,null,null,null,null,"","","","","",""]
[null,"",null,null,null,null,null,null,null,"","","","","",""]
[null,"",null,null,null,null,null,null,null,"","","","","",""]
[null,"",null,null,null,null,null,null,null,"","","","","",""]
[null,"",null,null,null,null,null,null,null,"","","","","",""]
[null,"",null,null,null,null,null,null,null,"","","","","",""]
[null,"",null,null,null,null,null,null,null,"","","","","",""]
[null,"",null,null,null,null,null,null,null,"","","","","",""]
[null,"",null,null,null,null,null,null,null,"","","","","",""]
[null,"",null,null,null,null,null,null,null,"","","","","",""]
[null,"",null,null,null,null,null,null,null,"","","","","",""]
[null,"",null,null,null,null,null,null,null,"","","","","",""]
[null,"",null,null,null,null,null,null,null,"","","","","",""]
[null,"",null,null,null,null,null,null,null,"","","","","",""]
[null,"",null,null,null,null,null,null,null,"","","","","",""]
[null,"",null,null,null,null,null,null,null,"","","","","",""]
[null,"",null,null,null,null,null,null,null,"","","","","",""]
[null,"",null,null,null,null,null,null,null,"","","","","",""]
[null,"",null,null,null,null,null,null,null,"","","","","",""]
[null,"",null,null,null,null,null,null,null,"","","","","",""]
[null,"",null,null,null,null,null,null,null,"","","","","",""]
[null,"",null,null,null,null,null,null,null,"","","","","",""]
[null,"",null,null,null,null,null,null,null,"","","","","",""]
[null,"",null,null,null,null,null,null,null,"","","","","",""]
[null,"",null,null,null,null,null,null,null,"","","","","",""]
[null,"",null,null,null,null,null,null,null,"","","","","",""]
[null,"",null,null,null,null,null,null,null,"","","","","",""]
[null,"",null,null,null,null,null,null,null,"","","","","",""]
[null,"",null,null,null,null,null,null,null,"","","","","",""]
[null,"",null,null,null,null,null,null,null,"","","","","",""]
[null,"",null,null,null,null,null,null,null,"","","","","",""]
[null,"",null,null,null,null,null,null,null,"","","","","",""]
[null,"",null,null,null,null,null,null,null,"","","","","",""]
[null,{"$f":"IF(C20166=\"\",\"\",IF(B20165=\"Nr.\",1,B20165+1))","v":""},null,null,null,null,null,null,null,"",{"$f":"IF(H20166=\"\",\"\",(H20166/((1+$G20166)*100))*($G20166*100))","v":""},{"$f":"IF(I20166=\"\",\"\",(I20166/((1+$G20166)*100))*($G20166*100))","v":""},{"$f":"IF(H20166=\"\",\"\",+H20166-K20166)","v":""},{"$f":"IF(I20166=\"\",\"\",+I20166-L20166)","v":""},{"$f":"IF(C20166=\"\",\"\",MONTH(C20166))","v":""}]
[null,"",null,null,null,null,null,null,null,"","","","","",""]
[null,"",null,null,null,null,null,null,null,"","","","","",""]
[null,"",null,null,null,null,null,null,null,"","","","","",""]
[null,"",null,null,null,null,null,null,null,"","","","","",""]
[null,"",null,null,null,null,null,null,null,"","","","","",""]
[null,"",null,null,null,null,null,null,null,"","","","","",""]
[null,"",null,null,null,null,null,null,null,"","","","","",""]
[null,"",null,null,null,null,null,null,null,"","","","","",""]
[null,"",null,null,null,null,null,null,null,"","","","","",""]
[null,"",null,null,null,null,null,null,null,"","","","","",""]
[null,"",null,null,null,null,null,null,null,"","","","","",""]
[null,"",null,null,null,null,null,null,null,"","","","","",""]
[null,"",null,null,null,null,null,null,null,"","","","","",""]
[null,"",null,null,null,null,null,null,null,"","","","","",""]
[null,"",null,null,null,null,null,null,null,"","","","","",""]
[null,"",null,null,null,null,null,null,null,"","","","","",""]
[null,"",null,null,null,null,null,null,null,"","","","","",""]
[null,"",null,null,null,null,null,null,null,"","","","","",""]
[null,"",null,null,null,null,null,null,null,"","","","","",""]
[null,"",null,null,null,null,null,null,null,"","","","","",""]
[null,"",null,null,null,null,null,null,null,"","","","","",""]
[null,"",null,null,null,null,null,null,null,"","","","","",""]
[null,"",null,null,null,null,null,null,null,"","","","","",""]
[null,"",null,null,null,null,null,null,null,"","","","","",""]
[null,"",null,null,null,null,null,null,null,"","","","","",""]
[null,"",null,null,null,null,null,null,null,"","","","","",""]
[null,"",null,null,null,null,null,null,null,"","","","","",""]
[null,"",null,null,null,null,null,null,null,"","","","","",""]
[null,"",null,null,null,null,null,null,null,"","","","","",""]
[null,"",null,null,null,null,null,null,null,{"$f":"IF(B20528=\"\",\"\",IF(AND(H20528=\"\",I20528=\"\"),\"\",IF(AND(E20528<>\"\",F20528<>\"\"),\"FOUT\",IF(AND(E20528=\"\",H20528<>\"\"),\"FOUT\",IF(AND(F20528=\"\",I20528<>\"\"),\"FOUT\",IF(G20528=\"\",\"BTW ?\",\"OK\"))))))","v":""},"","","","",""]
[null,"",null,null,null,null,null,null,null,"","","","","",""]
[null,{"$f":"IF(C20550=\"\",\"\",IF(B20549=\"Nr.\",1,B20549+1))","v":""},null,null,null,null,null,null,null,"",{"$f":"IF(H20550=\"\",\"\",(H20550/((1+$G20550)*100))*($G20550*100))","v":""},{"$f":"IF(I20550=\"\",\"\",(I20550/((1+$G20550)*100))*($G20550*100))","v":""},{"$f":"IF(H20550=\"\",\"\",+H20550-K20550)","v":""},{"$f":"IF(I20550=\"\",\"\",+I20550-L20550)","v":""},{"$f":"IF(C20550=\"\",\"\",MONTH(C20550))","v":""}]
[null,"",null,null,null,null,null,null,null,"","","","","",""]
[null,"",null,null,null,null,null,null,null,"","","","","",""]
[null,"",null,null,null,null,null,null,null,"","","","","",""]
[null,"",null,null,null,null,null,null,null,"","","","","",""]
[null,"",null,null,null,null,null,null,null,"","","","","",""]
[null,"",null,null,null,null,null,null,null,"","","","","",""]
[null,"",null,null,null,null,null,null,null,"","","","","",""]
[null,"",null,null,null,null,null,null,null,"","","","","",""]
[null,"",null,null,null,null,null,null,null,"","","","","",""]
[null,"",null,null,null,null,null,null,null,"","","","","",""]
[null,"",null,null,null,null,null,null,null,"","","","","",""]
[null,"",null,null,null,null,null,null,null,"","","","","",""]
[null,"",null,null,null,null,null,null,null,"","","","","",""]
[null,"",null,null,null,null,null,null,null,"","","","","",""]
[null,"",null,null,null,null,null,null,null,"","","","","",""]
[null,"",null,null,null,null,null,null,null,"","","","","",""]
[null,"",null,null,null,null,null,null,null,"","","","","",""]
[null,"",null,null,null,null,null,null,null,"","","","","",""]
[null,"",null,null,null,null,null,null,null,"","","","","",""]
[null,"",null,null,null,null,null,null,null,"","","","","",""]
[null,"",null,null,null,null,null,null,null,"","","","","",""]
[null,"",null,null,null,null,null,null,null,"","","","","",""]
[null,"",null,null,null,null,null,null,null,"","","","","",""]
[null,"",null,null,null,null,null,null,null,"","","","","",""]
[null,"",null,null,null,null,null,null,null,"","","","","",""]
[null,"",null,null,null,null,null,null,null,"","","","","",""]
[null,"",null,null,null,null,null,null,null,"","","","","",""]
[null,"",null,null,null,null,null,null,null,"","","","","",""]
[null,"",null,null,null,null,null,null,null,{"$f":"IF(B20912=\"\",\"\",IF(AND(H20912=\"\",I20912=\"\"),\"\",IF(AND(E20912<>\"\",F20912<>\"\"),\"FOUT\",IF(AND(E20912=\"\",H20912<>\"\"),\"FOUT\",IF(AND(F20912=\"\",I20912<>\"\"),\"FOUT\",IF(G20912=\"\",\"BTW ?\",\"OK\"))))))","v":""},"","","","",""]
[null,"",null,null,null,null,null,null,null,"","","","","",""]
[null,"",null,null,null,null,null,null,null,"","","","","",""]
[null,"",null,null,null,null,null,null,null,"","","","","",""]
[null,"",null,null,null,null,null,null,null,"","","","","",""]
[null,"",null,null,null,null,null,null,null,"","","","","",""]
[null,"",null,null,null,null,null,null,null,"","","","","",""]
[null,"",null,null,null,null,null,null,null,"","","","","",""]
[null,"",null,null,null,null,null,null,null,"","","","","",""]
[null,"",null,null,null,null,null,null,null,"","","","","",""]
[null,"",null,null,null,null,null,null,null,"","","","","",""]
[null,"",null,null,null,null,null,null,null,"","","","","",""]
[null,"",null,null,null,null,null,null,null,"","","","","",""]
[null,"",null,null,null,null,null,null,null,"","","","","",""]
[null,"",null,null,null,null,null,null,null,"","","","","",""]
[null,"",null,null,null,null,null,null,null,"","","","","",""]
[null,"",null,null,null,null,null,null,null,"","","","","",""]
[null,"",null,null,null,null,null,null,null,"","","","","",""]
[null,"",null,null,null,null,null,null,null,"","","","","",""]
[null,"",null,null,null,null,null,null,null,"","","","","",""]
[null,"",null,null,null,null,null,null,null,"","","","","",""]
[null,"",null,null,null,null,null,null,null,"","","","","",""]
[null,"",null,null,null,null,null,null,null,"","","","","",""]
[null,"",null,null,null,null,null,null,null,"","","","","",""]
[null,"",null,null,null,null,null,null,null,"","","","","",""]
[null,"",null,null,null,null,null,null,null,"","","","","",""]
[null,"",null,null,null,null,null,null,null,"","","","","",""]
[null,"",null,null,null,null,null,null,null,"","","","","",""]
[null,"",null,null,null,null,null,null,null,"","","","","",""]
[null,"",null,null,null,null,null,null,null,"","","","","",""]
[null,"",null,null,null,null,null,null,null,"","","","","",""]
[null,"",null,null,null,null,null,null,null,"","","","","",""]
[null,"",null,null,null,null,null,null,null,"","","","","",""]
[null,"",null,null,null,null,null,null,null,"","","","","",""]
[null,"",null,null,null,null,null,null,null,"","","","","",""]
[null,"",null,null,null,null,null,null,null,"","","","","",""]
[null,"",null,null,null,null,null,null,null,"","","","","",""]
[null,"",null,null,null,null,null,null,null,"","","","","",""]
[null,"",null,null,null,null,null,null,null,"","","","","",""]
[null,"",null,null,null,null,null,null,null,"","","","","",""]
[null,"",null,null,null,null,null,null,null,"","","","","",""]
[null,"",null,null,null,null,null,null,null,"","","","","",""]
[null,"",null,null,null,null,null,null,null,"","","","","",""]
[null,"",null,null,null,null,null,null,null,"","","","","",""]
[null,"",null,null,null,null,null,null,null,"","","","","",""]
[null,"",null,null,null,null,null,null,null,"","","","","",""]
[null,"",null,null,null,null,null,null,null,"","","","","",""]
[null,"",null,null,null,null,null,null,null,"","","","","",""]
[null,"",null,null,null,null,null,null,null,"","","","","",""]
[null,{"$f":"IF(C21510=\"\",\"\",IF(B21509=\"Nr.\",1,B21509+1))","v":""},null,null,null,null,null,null,null,"",{"$f":"IF(H21510=\"\",\"\",(H21510/((1+$G21510)*100))*($G21510*100))","v":""},{"$f":"IF(I21510=\"\",\"\",(I21510/((1+$G21510)*100))*($G21510*100))","v":""},{"$f":"IF(H21510=\"\",\"\",+H21510-K21510)","v":""},{"$f":"IF(I21510=\"\",\"\",+I21510-L21510)","v":""},{"$f":"IF(C21510=\"\",\"\",MONTH(C21510))","v":""}]
[null,"",null,null,null,null,null,null,null,"","","","","",""]
[null,"",null,null,null,null,null,null,null,"","","","","",""]
[null,"",null,null,null,null,null,null,null,"","","","","",""]
[null,"",null,null,null,null,null,null,null,"","","","","",""]
[null,"",null,null,null,null,null,null,null,"","","","","",""]
[null,"",null,null,null,null,null,null,null,"","","","","",""]
[null,"",null,null,null,null,null,null,null,"","","","","",""]
[null,"",null,null,null,null,null,null,null,"","","","","",""]
[null,"",null,null,null,null,null,null,null,"","","","","",""]
[null,"",null,null,null,null,null,null,null,"","","","","",""]
[null,"",null,null,null,null,null,null,null,"","","","","",""]
[null,"",null,null,null,null,null,null,null,"","","","","",""]
[null,"",null,null,null,null,null,null,null,"","","","","",""]
[null,"",null,null,null,null,null,null,null,"","","","","",""]
[null,"",null,null,null,null,null,null,null,"","","","","",""]
[null,"",null,null,null,null,null,null,null,"","","","","",""]
[null,"",null,null,null,null,null,null,null,"","","","","",""]
[null,"",null,null,null,null,null,null,null,"","","","","",""]
[null,"",null,null,null,null,null,null,null,{"$f":"IF(B21744=\"\",\"\",IF(AND(H21744=\"\",I21744=\"\"),\"\",IF(AND(E21744<>\"\",F21744<>\"\"),\"FOUT\",IF(AND(E21744=\"\",H21744<>\"\"),\"FOUT\",IF(AND(F21744=\"\",I21744<>\"\"),\"FOUT\",IF(G21744=\"\",\"BTW ?\",\"OK\"))))))","v":""},"","","","",""]
[null,"",null,null,null,null,null,null,null,"","","","","",""]
[null,"",null,null,null,null,null,null,null,"","","","","",""]
[null,"",null,null,null,null,null,null,null,"","","","","",""]
[null,"",null,null,null,null,null,null,null,"","","","","",""]
[null,"",null,null,null,null,null,null,null,"","","","","",""]
[null,"",null,null,null,null,null,null,null,"","","","","",""]
[null,"",null,null,null,null,null,null,null,"","","","","",""]
[null,"",null,null,null,null,null,null,null,"","","","","",""]
[null,"",null,null,null,null,null,null,null,"","","","","",""]
[null,"",null,null,null,null,null,null,null,"","","","","",""]
[null,"",null,null,null,null,null,null,null,"","","","","",""]
[null,"",null,null,null,null,null,null,null,"","","","","",""]
[null,"",null,null,null,null,null,null,null,"","","","","",""]
[null,"",null,null,null,null,null,null,null,"","","","","",""]
[null,"",null,null,null,null,null,null,null,"","","","","",""]
[null,"",null,null,null,null,null,null,null,"","","","","",""]
[null,"",null,null,null,null,null,null,null,"","","","","",""]
[null,"",null,null,null,null,null,null,null,"","","","","",""]
[null,"",null,null,null,null,null,null,null,"","","","","",""]
[null,"",null,null,null,null,null,null,null,"","","","","",""]
[null,"",null,null,null,null,null,null,null,"","","","","",""]
[null,"",null,null,null,null,null,null,null,"","","","","",""]
[null,"",null,null,null,null,null,null,null,"","","","","",""]
[null,"",null,null,null,null,null,null,null,"","","","","",""]
[null,"",null,null,null,null,null,null,null,"","","","","",""]
[null,"",null,null,null,null,null,null,null,"","","","","",""]
[null,"",null,null,null,null,null,null,null,"","","","","",""]
[null,"",null,null,null,null,null,null,null,"","","","","",""]
[null,"",null,null,null,null,null,null,null,"","","","","",""]
[null,"",null,null,null,null,null,null,null,"","","","","",""]
[null,"",null,null,null,null,null,null,null,"","","","","",""]
[null,"",null,null,null,null,null,null,null,"","","","","",""]
[null,"",null,null,null,null,null,null,null,"","","","","",""]
[null,"",null,null,null,null,null,null,null,"","","","","",""]
[null,"",null,null,null,null,null,null,null,"","","","","",""]
[null,"",null,null,null,null,null,null,null,"","","","","",""]
[null,"",null,null,null,null,null,null,null,"","","","","",""]
[null,"",null,null,null,null,null,null,null,"","","","","",""]
[null,"",null,null,null,null,null,null,null,"","","","","",""]
[null,"",null,null,null,null,null,null,null,"","","","","",""]
[null,"",null,null,null,null,null,null,null,"","","","","",""]
[null,"",null,null,null,null,null,null,null,"","","","","",""]
[null,"",null,null,null,null,null,null,null,"","","","","",""]
[null,"",null,null,null,null,null,null,null,"","","","","",""]
[null,"",null,null,null,null,null,null,null,"","","","","",""]
[null,"",null,null,null,null,null,null,null,"","","","","",""]
[null,"",null,null,null,null,null,null,null,"","","","","",""]
[null,"",null,null,null,null,null,null,null,"","","","","",""]
[null,"",null,null,null,null,null,null,null,"","","","","",""]
[null,"",null,null,null,null,null,null,null,"","","","","",""]
[null,"",null,null,null,null,null,null,null,"","","","","",""]
[null,"",null,null,null,null,null,null,null,"","","","","",""]
[null,"",null,null,null,null,null,null,null,"","","","","",""]
[null,"",null,null,null,null,null,null,null,"","","","","",""]
[null,"",null,null,null,null,null,null,null,"","","","","",""]
[null,"",null,null,null,null,null,null,null,"","","","","",""]
[null,"",null,null,null,null,null,null,null,"","","","","",""]
[null,"",null,null,null,null,null,null,null,"","","","","",""]
[null,"",null,null,null,null,null,null,null,"","","","","",""]
[null,"",null,null,null,null,null,null,null,"","","","","",""]
[null,"",null,null,null,null,null,null,null,"","","","","",""]
[null,"",null,null,null,null,null,null,null,"","","","","",""]
[null,"",null,null,null,null,null,null,null,"","","","","",""]
[null,"",null,null,null,null,null,null,null,"","","","","",""]
[null,"",null,null,null,null,null,null,null,"","","","","",""]
[null,"",null,null,null,null,null,null,null,"","","","","",""]
[null,"",null,null,null,null,null,null,null,"","","","","",""]
[null,"",null,null,null,null,null,null,null,"","","","","",""]
[null,{"$f":"IF(C22598=\"\",\"\",IF(B22597=\"Nr.\",1,B22597+1))","v":""},null,null,null,null,null,null,null,"",{"$f":"IF(H22598=\"\",\"\",(H22598/((1+$G22598)*100))*($G22598*100))","v":""},{"$f":"IF(I22598=\"\",\"\",(I22598/((1+$G22598)*100))*($G22598*100))","v":""},{"$f":"IF(H22598=\"\",\"\",+H22598-K22598)","v":""},{"$f":"IF(I22598=\"\",\"\",+I22598-L22598)","v":""},{"$f":"IF(C22598=\"\",\"\",MONTH(C22598))","v":""}]
[null,"",null,null,null,null,null,null,null,"","","","","",""]
[null,"",null,null,null,null,null,null,null,"","","","","",""]
[null,"",null,null,null,null,null,null,null,"","","","","",""]
[null,"",null,null,null,null,null,null,null,"","","","","",""]
[null,"",null,null,null,null,null,null,null,"","","","","",""]
[null,"",null,null,null,null,null,null,null,"","","","","",""]
[null,"",null,null,null,null,null,null,null,"","","","","",""]
[null,"",null,null,null,null,null,null,null,"","","","","",""]
[null,"",null,null,null,null,null,null,null,"","","","","",""]
[null,"",null,null,null,null,null,null,null,"","","","","",""]
[null,"",null,null,null,null,null,null,null,"","","","","",""]
[null,"",null,null,null,null,null,null,null,"","","","","",""]
[null,"",null,null,null,null,null,null,null,"","","","","",""]
[null,"",null,null,null,null,null,null,null,"","","","","",""]
[null,"",null,null,null,null,null,null,null,"","","","","",""]
[null,"",null,null,null,null,null,null,null,"","","","","",""]
[null,"",null,null,null,null,null,null,null,"","","","","",""]
[null,"",null,null,null,null,null,null,null,"","","","","",""]
[null,"",null,null,null,null,null,null,null,"","","","","",""]
[null,"",null,null,null,null,null,null,null,"","","","","",""]
[null,"",null,null,null,null,null,null,null,"","","","","",""]
[null,"",null,null,null,null,null,null,null,"","","","","",""]
[null,"",null,null,null,null,null,null,null,"","","","","",""]
[null,"",null,null,null,null,null,null,null,"","","","","",""]
[null,"",null,null,null,null,null,null,null,"","","","","",""]
[null,"",null,null,null,null,null,null,null,"","","","","",""]
[null,"",null,null,null,null,null,null,null,"","","","","",""]
[null,"",null,null,null,null,null,null,null,"","","","","",""]
[null,"",null,null,null,null,null,null,null,"","","","","",""]
[null,"",null,null,null,null,null,null,null,"","","","","",""]
[null,{"$f":"IF(C22982=\"\",\"\",IF(B22981=\"Nr.\",1,B22981+1))","v":""},null,null,null,null,null,null,null,"",{"$f":"IF(H22982=\"\",\"\",(H22982/((1+$G22982)*100))*($G22982*100))","v":""},{"$f":"IF(I22982=\"\",\"\",(I22982/((1+$G22982)*100))*($G22982*100))","v":""},{"$f":"IF(H22982=\"\",\"\",+H22982-K22982)","v":""},{"$f":"IF(I22982=\"\",\"\",+I22982-L22982)","v":""},{"$f":"IF(C22982=\"\",\"\",MONTH(C22982))","v":""}]
[null,"",null,null,null,null,null,null,null,"","","","","",""]
[null,"",null,null,null,null,null,null,null,"","","","","",""]
[null,"",null,null,null,null,null,null,null,"","","","","",""]
[null,"",null,null,null,null,null,null,null,"","","","","",""]
[null,"",null,null,null,null,null,null,null,"","","","","",""]
[null,{"$f":"IF(C23046=\"\",\"\",IF(B23045=\"Nr.\",1,B23045+1))","v":""},null,null,null,null,null,null,null,"",{"$f":"IF(H23046=\"\",\"\",(H23046/((1+$G23046)*100))*($G23046*100))","v":""},{"$f":"IF(I23046=\"\",\"\",(I23046/((1+$G23046)*100))*($G23046*100))","v":""},{"$f":"IF(H23046=\"\",\"\",+H23046-K23046)","v":""},{"$f":"IF(I23046=\"\",\"\",+I23046-L23046)","v":""},{"$f":"IF(C23046=\"\",\"\",MONTH(C23046))","v":""}]
[null,"",null,null,null,null,null,null,null,"","","","","",""]
[null,"",null,null,null,null,null,null,null,"","","","","",""]
[null,"",null,null,null,null,null,null,null,"","","","","",""]
[null,"",null,null,null,null,null,null,null,"","","","","",""]
[null,"",null,null,null,null,null,null,null,"","","","","",""]
[null,"",null,null,null,null,null,null,null,"","","","","",""]
[null,"",null,null,null,null,null,null,null,"","","","","",""]
[null,"",null,null,null,null,null,null,null,"","","","","",""]
[null,"",null,null,null,null,null,null,null,"","","","","",""]
[null,"",null,null,null,null,null,null,null,"","","","","",""]
[null,"",null,null,null,null,null,null,null,"","","","","",""]
[null,"",null,null,null,null,null,null,null,"","","","","",""]
[null,"",null,null,null,null,null,null,null,"","","","","",""]
[null,"",null,null,null,null,null,null,null,"","","","","",""]
[null,"",null,null,null,null,null,null,null,"","","","","",""]
[null,"",null,null,null,null,null,null,null,"","","","","",""]
[null,"",null,null,null,null,null,null,null,"","","","","",""]
[null,"",null,null,null,null,null,null,null,"","","","","",""]
[null,"",null,null,null,null,null,null,null,"","","","","",""]
[null,"",null,null,null,null,null,null,null,"","","","","",""]
[null,"",null,null,null,null,null,null,null,"","","","","",""]
[null,"",null,null,null,null,null,null,null,"","","","","",""]
[null,"",null,null,null,null,null,null,null,"","","","","",""]
[null,"",null,null,null,null,null,null,null,"","","","","",""]
[null,"",null,null,null,null,null,null,null,"","","","","",""]
[null,"",null,null,null,null,null,null,null,"","","","","",""]
[null,"",null,null,null,null,null,null,null,"","","","","",""]
[null,"",null,null,null,null,null,null,null,"","","","","",""]
[null,"",null,null,null,null,null,null,null,{"$f":"IF(B23408=\"\",\"\",IF(AND(H23408=\"\",I23408=\"\"),\"\",IF(AND(E23408<>\"\",F23408<>\"\"),\"FOUT\",IF(AND(E23408=\"\",H23408<>\"\"),\"FOUT\",IF(AND(F23408=\"\",I23408<>\"\"),\"FOUT\",IF(G23408=\"\",\"BTW ?\",\"OK\"))))))","v":""},"","","","",""]
[null,"",null,null,null,null,null,null,null,"","","","","",""]
[null,{"$f":"IF(C23430=\"\",\"\",IF(B23429=\"Nr.\",1,B23429+1))","v":""},null,null,null,null,null,null,null,"",{"$f":"IF(H23430=\"\",\"\",(H23430/((1+$G23430)*100))*($G23430*100))","v":""},{"$f":"IF(I23430=\"\",\"\",(I23430/((1+$G23430)*100))*($G23430*100))","v":""},{"$f":"IF(H23430=\"\",\"\",+H23430-K23430)","v":""},{"$f":"IF(I23430=\"\",\"\",+I23430-L23430)","v":""},{"$f":"IF(C23430=\"\",\"\",MONTH(C23430))","v":""}]
[null,"",null,null,null,null,null,null,null,"","","","","",""]
[null,"",null,null,null,null,null,null,null,"","","","","",""]
[null,"",null,null,null,null,null,null,null,"","","","","",""]
[null,"",null,null,null,null,null,null,null,"","","","","",""]
[null,"",null,null,null,null,null,null,null,"","","","","",""]
[null,"",null,null,null,null,null,null,null,"","","","","",""]
[null,"",null,null,null,null,null,null,null,"","","","","",""]
[null,"",null,null,null,null,null,null,null,"","","","","",""]
[null,"",null,null,null,null,null,null,null,"","","","","",""]
[null,"",null,null,null,null,null,null,null,"","","","","",""]
[null,"",null,null,null,null,null,null,null,"","","","","",""]
[null,"",null,null,null,null,null,null,null,"","","","","",""]
[null,"",null,null,null,null,null,null,null,"","","","","",""]
[null,"",null,null,null,null,null,null,null,"","","","","",""]
[null,"",null,null,null,null,null,null,null,"","","","","",""]
[null,"",null,null,null,null,null,null,null,"","","","","",""]
[null,"",null,null,null,null,null,null,null,"","","","","",""]
[null,"",null,null,null,null,null,null,null,"","","","","",""]
[null,"",null,null,null,null,null,null,null,"","","","","",""]
[null,"",null,null,null,null,null,null,null,"","","","","",""]
[null,"",null,null,null,null,null,null,null,"","","","","",""]
[null,"",null,null,null,null,null,null,null,"","","","","",""]
[null,"",null,null,null,null,null,null,null,"","","","","",""]
[null,"",null,null,null,null,null,null,null,"","","","","",""]
[null,"",null,null,null,null,null,null,null,"","","","","",""]
[null,"",null,null,null,null,null,null,null,"","","","","",""]
[null,"",null,null,null,null,null,null,null,"","","","","",""]
[null,"",null,null,null,null,null,null,null,"","","","","",""]
[null,"",null,null,null,null,null,null,null,{"$f":"IF(B23792=\"\",\"\",IF(AND(H23792=\"\",I23792=\"\"),\"\",IF(AND(E23792<>\"\",F23792<>\"\"),\"FOUT\",IF(AND(E23792=\"\",H23792<>\"\"),\"FOUT\",IF(AND(F23792=\"\",I23792<>\"\"),\"FOUT\",IF(G23792=\"\",\"BTW ?\",\"OK\"))))))","v":""},"","","","",""]
[null,"",null,null,null,null,null,null,null,"","","","","",""]
[null,"",null,null,null,null,null,null,null,"","","","","",""]
[null,"",null,null,null,null,null,null,null,"","","","","",""]
[null,"",null,null,null,null,null,null,null,"","","","","",""]
[null,"",null,null,null,null,null,null,null,"","","","","",""]
[null,"",null,null,null,null,null,null,null,"","","","","",""]
[null,"",null,null,null,null,null,null,null,"","","","","",""]
[null,"",null,null,null,null,null,null,null,"","","","","",""]
[null,"",null,null,null,null,null,null,null,"","","","","",""]
[null,"",null,null,null,null,null,null,null,"","","","","",""]
[null,"",null,null,null,null,null,null,null,"","","","","",""]
[null,{"$f":"IF(C23942=\"\",\"\",IF(B23941=\"Nr.\",1,B23941+1))","v":""},null,null,null,null,null,null,null,"",{"$f":"IF(H23942=\"\",\"\",(H23942/((1+$G23942)*100))*($G23942*100))","v":""},{"$f":"IF(I23942=\"\",\"\",(I23942/((1+$G23942)*100))*($G23942*100))","v":""},{"$f":"IF(H23942=\"\",\"\",+H23942-K23942)","v":""},{"$f":"IF(I23942=\"\",\"\",+I23942-L23942)","v":""},{"$f":"IF(C23942=\"\",\"\",MONTH(C23942))","v":""}]
[null,"",null,null,null,null,null,null,null,"","","","","",""]
[null,"",null,null,null,null,null,null,null,"","","","","",""]
[null,"",null,null,null,null,null,null,null,"","","","","",""]
[null,"",null,null,null,null,null,null,null,"","","","","",""]
[null,"",null,null,null,null,null,null,null,"","","","","",""]
[null,"",null,null,null,null,null,null,null,"","","","","",""]
[null,"",null,null,null,null,null,null,null,"","","","","",""]
[null,"",null,null,null,null,null,null,null,"","","","","",""]
[null,"",null,null,null,null,null,null,null,"","","","","",""]
[null,"",null,null,null,null,null,null,null,"","","","","",""]
[null,"",null,null,null,null,null,null,null,"","","","","",""]
[null,"",null,null,null,null,null,null,null,"","","","","",""]
[null,"",null,null,null,null,null,null,null,"","","","","",""]
[null,"",null,null,null,null,null,null,null,"","","","","",""]
[null,"",null,null,null,null,null,null,null,"","","","","",""]
[null,"",null,null,null,null,null,null,null,"","","","","",""]
[null,"",null,null,null,null,null,null,null,"","","","","",""]
[null,"",null,null,null,null,null,null,null,"","","","","",""]
[null,"",null,null,null,null,null,null,null,{"$f":"IF(B24176=\"\",\"\",IF(AND(H24176=\"\",I24176=\"\"),\"\",IF(AND(E24176<>\"\",F24176<>\"\"),\"FOUT\",IF(AND(E24176=\"\",H24176<>\"\"),\"FOUT\",IF(AND(F24176=\"\",I24176<>\"\"),\"FOUT\",IF(G24176=\"\",\"BTW ?\",\"OK\"))))))","v":""},"","","","",""]
[null,"",null,null,null,null,null,null,null,"","","","","",""]
[null,"",null,null,null,null,null,null,null,"","","","","",""]
[null,"",null,null,null,null,null,null,null,"","","","","",""]
[null,"",null,null,null,null,null,null,null,"","","","","",""]
[null,"",null,null,null,null,null,null,null,"","","","","",""]
[null,"",null,null,null,null,null,null,null,{"$f":"IF(B24240=\"\",\"\",IF(AND(H24240=\"\",I24240=\"\"),\"\",IF(AND(E24240<>\"\",F24240<>\"\"),\"FOUT\",IF(AND(E24240=\"\",H24240<>\"\"),\"FOUT\",IF(AND(F24240=\"\",I24240<>\"\"),\"FOUT\",IF(G24240=\"\",\"BTW ?\",\"OK\"))))))","v":""},"","","","",""]
[null,"",null,null,null,null,null,null,null,"","","","","",""]
[null,"",null,null,null,null,null,null,null,"","","","","",""]
[null,"",null,null,null,null,null,null,null,"","","","","",""]
[null,"",null,null,null,null,null,null,null,"","","","","",""]
[null,"",null,null,null,null,null,null,null,"","","","","",""]
[null,"",null,null,null,null,null,null,null,"","","","","",""]
[null,"",null,null,null,null,null,null,null,"","","","","",""]
[null,"",null,null,null,null,null,null,null,"","","","","",""]
[null,"",null,null,null,null,null,null,null,"","","","","",""]
[null,"",null,null,null,null,null,null,null,"","","","","",""]
[null,"",null,null,null,null,null,null,null,"","","","","",""]
[null,"",null,null,null,null,null,null,null,"","","","","",""]
[null,"",null,null,null,null,null,null,null,"","","","","",""]
[null,"",null,null,null,null,null,null,null,"","","","","",""]
[null,"",null,null,null,null,null,null,null,"","","","","",""]
[null,"",null,null,null,null,null,null,null,"","","","","",""]
[null,"",null,null,null,null,null,null,null,"","","","","",""]
[null,"",null,null,null,null,null,null,null,"","","","","",""]
[null,"",null,null,null,null,null,null,null,"","","","","",""]
[null,"",null,null,null,null,null,null,null,"","","","","",""]
[null,"",null,null,null,null,null,null,null,"","","","","",""]
[null,"",null,null,null,null,null,null,null,"","","","","",""]
[null,"",null,null,null,null,null,null,null,"","","","","",""]
[null,"",null,null,null,null,null,null,null,"","","","","",""]
[null,"",null,null,null,null,null,null,null,"","","","","",""]
[null,"",null,null,null,null,null,null,null,"","","","","",""]
[null,"",null,null,null,null,null,null,null,"","","","","",""]
[null,"",null,null,null,null,null,null,null,"","","","","",""]
[null,"",null,null,null,null,null,null,null,"","","","","",""]
[null,"",null,null,null,null,null,null,null,"","","","","",""]
[null,"",null,null,null,null,null,null,null,"","","","","",""]
[null,"",null,null,null,null,null,null,null,"","","","","",""]
[null,"",null,null,null,null,null,null,null,"","","","","",""]
[null,"",null,null,null,null,null,null,null,"","","","","",""]
[null,"",null,null,null,null,null,null,null,"","","","","",""]
[null,"",null,null,null,null,null,null,null,"","","","","",""]
[null,"",null,null,null,null,null,null,null,"","","","","",""]
[null,"",null,null,null,null,null,null,null,"","","","","",""]
[null,"",null,null,null,null,null,null,null,"","","","","",""]
[null,"",null,null,null,null,null,null,null,"","","","","",""]
[null,"",null,null,null,null,null,null,null,{"$f":"IF(B24752=\"\",\"\",IF(AND(H24752=\"\",I24752=\"\"),\"\",IF(AND(E24752<>\"\",F24752<>\"\"),\"FOUT\",IF(AND(E24752=\"\",H24752<>\"\"),\"FOUT\",IF(AND(F24752=\"\",I24752<>\"\"),\"FOUT\",IF(G24752=\"\",\"BTW ?\",\"OK\"))))))","v":""},"","","","",""]
[null,"",null,null,null,null,null,null,null,"","","","","",""]
[null,"",null,null,null,null,null,null,null,"","","","","",""]
[null,"",null,null,null,null,null,null,null,"","","","","",""]
[null,"",null,null,null,null,null,null,null,"","","","","",""]
[null,"",null,null,null,null,null,null,null,"","","","","",""]
[null,"",null,null,null,null,null,null,null,"","","","","",""]
[null,"",null,null,null,null,null,null,null,"","","","","",""]
[null,"",null,null,null,null,null,null,null,"","","","","",""]
[null,"",null,null,null,null,null,null,null,"","","","","",""]
[null,"",null,null,null,null,null,null,null,"","","","","",""]
[null,"",null,null,null,null,null,null,null,"","","","","",""]
[null,"",null,null,null,null,null,null,null,"","","","","",""]
[null,"",null,null,null,null,null,null,null,"","","","","",""]
[null,"",null,null,null,null,null,null,null,"","","","","",""]
[null,"",null,null,null,null,null,null,null,"","","","","",""]
[null,"",null,null,null,null,null,null,null,"","","","","",""]
[null,"",null,null,null,null,null,null,null,"","","","","",""]
[null,"",null,null,null,null,null,null,null,"","","","","",""]
[null,"",null,null,null,null,null,null,null,"","","","","",""]
[null,"",null,null,null,null,null,null,null,"","","","","",""]
[null,"",null,null,null,null,null,null,null,"","","","","",""]
[null,"",null,null,null,null,null,null,null,"","","","","",""]
[null,"",null,null,null,null,null,null,null,"","","","","",""]
[null,"",null,null,null,null,null,null,null,"","","","","",""]
[null,"",null,null,null,null,null,null,null,"","","","","",""]
[null,"",null,null,null,null,null,null,null,"","","","","",""]
[null,"",null,null,null,null,null,null,null,"","","","","",""]
[null,{"$f":"IF(C25094=\"\",\"\",IF(B25093=\"Nr.\",1,B25093+1))","v":""},null,null,null,null,null,null,null,"",{"$f":"IF(H25094=\"\",\"\",(H25094/((1+$G25094)*100))*($G25094*100))","v":""},{"$f":"IF(I25094=\"\",\"\",(I25094/((1+$G25094)*100))*($G25094*100))","v":""},{"$f":"IF(H25094=\"\",\"\",+H25094-K25094)","v":""},{"$f":"IF(I25094=\"\",\"\",+I25094-L25094)","v":""},{"$f":"IF(C25094=\"\",\"\",MONTH(C25094))","v":""}]
[null,"",null,null,null,null,null,null,null,"","","","","",""]
[null,"",null,null,null,null,null,null,null,"","","","","",""]
[null,"",null,null,null,null,null,null,null,"","","","","",""]
[null,"",null,null,null,null,null,null,null,"","","","","",""]
[null,"",null,null,null,null,null,null,null,"","","","","",""]
[null,"",null,null,null,null,null,null,null,"","","","","",""]
[null,"",null,null,null,null,null,null,null,"","","","","",""]
[null,"",null,null,null,null,null,null,null,"","","","","",""]
[null,"",null,null,null,null,null,null,null,"","","","","",""]
[null,"",null,null,null,null,null,null,null,"","","","","",""]
[null,"",null,null,null,null,null,null,null,"","","","","",""]
[null,"",null,null,null,null,null,null,null,"","","","","",""]
[null,"",null,null,null,null,null,null,null,"","","","","",""]
[null,"",null,null,null,null,null,null,null,"","","","","",""]
[null,"",null,null,null,null,null,null,null,"","","","","",""]
[null,{"$f":"IF(C25286=\"\",\"\",IF(B25285=\"Nr.\",1,B25285+1))","v":""},null,null,null,null,null,null,null,"",{"$f":"IF(H25286=\"\",\"\",(H25286/((1+$G25286)*100))*($G25286*100))","v":""},{"$f":"IF(I25286=\"\",\"\",(I25286/((1+$G25286)*100))*($G25286*100))","v":""},{"$f":"IF(H25286=\"\",\"\",+H25286-K25286)","v":""},{"$f":"IF(I25286=\"\",\"\",+I25286-L25286)","v":""},{"$f":"IF(C25286=\"\",\"\",MONTH(C25286))","v":""}]
[null,"",null,null,null,null,null,null,null,"","","","","",""]
[null,"",null,null,null,null,null,null,null,"","","","","",""]
[null,"",null,null,null,null,null,null,null,"","","","","",""]
[null,"",null,null,null,null,null,null,null,"","","","","",""]
[null,"",null,null,null,null,null,null,null,"","","","","",""]
[null,"",null,null,null,null,null,null,null,"","","","","",""]
[null,"",null,null,null,null,null,null,null,"","","","","",""]
[null,"",null,null,null,null,null,null,null,"","","","","",""]
[null,"",null,null,null,null,null,null,null,"","","","","",""]
[null,"",null,null,null,null,null,null,null,"","","","","",""]
[null,"",null,null,null,null,null,null,null,"","","","","",""]
[null,"",null,null,null,null,null,null,null,"","","","","",""]
[null,"",null,null,null,null,null,null,null,"","","","","",""]
[null,"",null,null,null,null,null,null,null,"","","","","",""]
[null,{"$f":"IF(C25478=\"\",\"\",IF(B25477=\"Nr.\",1,B25477+1))","v":""},null,null,null,null,null,null,null,"",{"$f":"IF(H25478=\"\",\"\",(H25478/((1+$G25478)*100))*($G25478*100))","v":""},{"$f":"IF(I25478=\"\",\"\",(I25478/((1+$G25478)*100))*($G25478*100))","v":""},{"$f":"IF(H25478=\"\",\"\",+H25478-K25478)","v":""},{"$f":"IF(I25478=\"\",\"\",+I25478-L25478)","v":""},{"$f":"IF(C25478=\"\",\"\",MONTH(C25478))","v":""}]
[null,"",null,null,null,null,null,null,null,"","","","","",""]
[null,"",null,null,null,null,null,null,null,"","","","","",""]
[null,"",null,null,null,null,null,null,null,"","","","","",""]
[null,"",null,null,null,null,null,null,null,"","","","","",""]
[null,"",null,null,null,null,null,null,null,"","","","","",""]
[null,"",null,null,null,null,null,null,null,"","","","","",""]
[null,"",null,null,null,null,null,null,null,"","","","","",""]
[null,"",null,null,null,null,null,null,null,"","","","","",""]
[null,"",null,null,null,null,null,null,null,"","","","","",""]
[null,"",null,null,null,null,null,null,null,"","","","","",""]
[null,"",null,null,null,null,null,null,null,"","","","","",""]
[null,"",null,null,null,null,null,null,null,"","","","","",""]
[null,"",null,null,null,null,null,null,null,"","","","","",""]
[null,"",null,null,null,null,null,null,null,"","","","","",""]
[null,"",null,null,null,null,null,null,null,"","","","","",""]
[null,"",null,null,null,null,null,null,null,"","","","","",""]
[null,"",null,null,null,null,null,null,null,"","","","","",""]
[null,"",null,null,null,null,null,null,null,"","","","","",""]
[null,"",null,null,null,null,null,null,null,"","","","","",""]
[null,"",null,null,null,null,null,null,null,"","","","","",""]
[null,{"$f":"IF(C25734=\"\",\"\",IF(B25733=\"Nr.\",1,B25733+1))","v":""},null,null,null,null,null,null,null,"",{"$f":"IF(H25734=\"\",\"\",(H25734/((1+$G25734)*100))*($G25734*100))","v":""},{"$f":"IF(I25734=\"\",\"\",(I25734/((1+$G25734)*100))*($G25734*100))","v":""},{"$f":"IF(H25734=\"\",\"\",+H25734-K25734)","v":""},{"$f":"IF(I25734=\"\",\"\",+I25734-L25734)","v":""},{"$f":"IF(C25734=\"\",\"\",MONTH(C25734))","v":""}]
[null,"",null,null,null,null,null,null,null,"","","","","",""]
[null,"",null,null,null,null,null,null,null,"","","","","",""]
[null,"",null,null,null,null,null,null,null,"","","","","",""]
[null,"",null,null,null,null,null,null,null,"","","","","",""]
[null,"",null,null,null,null,null,null,null,"","","","","",""]
[null,"",null,null,null,null,null,null,null,"","","","","",""]
[null,"",null,null,null,null,null,null,null,"","","","","",""]
[null,"",null,null,null,null,null,null,null,"","","","","",""]
[null,"",null,null,null,null,null,null,null,"","","","","",""]
[null,"",null,null,null,null,null,null,null,"","","","","",""]
[null,"",null,null,null,null,null,null,null,"","","","","",""]
[null,"",null,null,null,null,null,null,null,"","","","","",""]
[null,"",null,null,null,null,null,null,null,"","","","","",""]
[null,"",null,null,null,null,null,null,null,"","","","","",""]
[null,"",null,null,null,null,null,null,null,"","","","","",""]
[null,{"$f":"IF(C25926=\"\",\"\",IF(B25925=\"Nr.\",1,B25925+1))","v":""},null,null,null,null,null,null,null,"",{"$f":"IF(H25926=\"\",\"\",(H25926/((1+$G25926)*100))*($G25926*100))","v":""},{"$f":"IF(I25926=\"\",\"\",(I25926/((1+$G25926)*100))*($G25926*100))","v":""},{"$f":"IF(H25926=\"\",\"\",+H25926-K25926)","v":""},{"$f":"IF(I25926=\"\",\"\",+I25926-L25926)","v":""},{"$f":"IF(C25926=\"\",\"\",MONTH(C25926))","v":""}]
[null,"",null,null,null,null,null,null,null,"","","","","",""]
[null,"",null,null,null,null,null,null,null,"","","","","",""]
[null,"",null,null,null,null,null,null,null,"","","","","",""]
[null,"",null,null,null,null,null,null,null,"","","","","",""]
[null,"",null,null,null,null,null,null,null,"","","","","",""]
[null,"",null,null,null,null,null,null,null,"","","","","",""]
[null,"",null,null,null,null,null,null,null,"","","","","",""]
[null,"",null,null,null,null,null,null,null,"","","","","",""]
[null,"",null,null,null,null,null,null,null,"","","","","",""]
[null,"",null,null,null,null,null,null,null,"","","","","",""]
[null,"",null,null,null,null,null,null,null,"","","","","",""]
[null,"",null,null,null,null,null,null,null,"","","","","",""]
[null,"",null,null,null,null,null,null,null,"","","","","",""]
[null,"",null,null,null,null,null,null,null,{"$f":"IF(B26096=\"\",\"\",IF(AND(H26096=\"\",I26096=\"\"),\"\",IF(AND(E26096<>\"\",F26096<>\"\"),\"FOUT\",IF(AND(E26096=\"\",H26096<>\"\"),\"FOUT\",IF(AND(F26096=\"\",I26096<>\"\"),\"FOUT\",IF(G26096=\"\",\"BTW ?\",\"OK\"))))))","v":""},"","","","",""]
[null,"",null,null,null,null,null,null,null,"","","","","",""]
[null,"",null,null,null,null,null,null,null,"","","","","",""]
[null,"",null,null,null,null,null,null,null,"","","","","",""]
[null,"",null,null,null,null,null,null,null,"","","","","",""]
[null,"",null,null,null,null,null,null,null,"","","","","",""]
[null,"",null,null,null,null,null,null,null,"","","","","",""]
[null,"",null,null,null,null,null,null,null,"","","","","",""]
[null,"",null,null,null,null,null,null,null,"","","","","",""]
[null,"",null,null,null,null,null,null,null,"","","","","",""]
[null,"",null,null,null,null,null,null,null,"","","","","",""]
[null,"",null,null,null,null,null,null,null,"","","","","",""]
[null,"",null,null,null,null,null,null,null,"","","","","",""]
[null,"",null,null,null,null,null,null,null,"","","","","",""]
[null,"",null,null,null,null,null,null,null,"","","","","",""]
[null,"",null,null,null,null,null,null,null,"","","","","",""]
[null,"",null,null,null,null,null,null,null,"","","","","",""]
[null,"",null,null,null,null,null,null,null,"","","","","",""]
[null,"",null,null,null,null,null,null,null,"","","","","",""]
[null,"",null,null,null,null,null,null,null,"","","","","",""]
[null,"",null,null,null,null,null,null,null,"","","","","",""]
[null,"",null,null,null,null,null,null,null,"","","","","",""]
[null,"",null,null,null,null,null,null,null,"","","","","",""]
[null,"",null,null,null,null,null,null,null,"","","","","",""]
[null,"",null,null,null,null,null,null,null,"","","","","",""]
[null,"",null,null,null,null,null,null,null,"","","","","",""]
[null,"",null,null,null,null,null,null,null,"","","","","",""]
[null,"",null,null,null,null,null,null,null,"","","","","",""]
[null,"",null,null,null,null,null,null,null,"","","","","",""]
[null,"",null,null,null,null,null,null,null,"","","","","",""]
[null,"",null,null,null,null,null,null,null,"","","","","",""]
[null,"",null,null,null,null,null,null,null,"","","","","",""]
[null,"",null,null,null,null,null,null,null,"","","","","",""]
[null,"",null,null,null,null,null,null,null,"","","","","",""]
[null,"",null,null,null,null,null,null,null,"","","","","",""]
[null,"",null,null,null,null,null,null,null,"","","","","",""]
[null,"",null,null,null,null,null,null,null,"","","","","",""]
[null,"",null,null,null,null,null,null,null,"","","","","",""]
[null,"",null,null,null,null,null,null,null,"","","","","",""]
[null,"",null,null,null,null,null,null,null,"","","","","",""]
[null,"",null,null,null,null,null,null,null,"","","","","",""]
[null,"",null,null,null,null,null,null,null,"","","","","",""]
[null,"",null,null,null,null,null,null,null,"","","","","",""]
[null,"",null,null,null,null,null,null,null,"","","","","",""]
[null,"",null,null,null,null,null,null,null,"","","","","",""]
[null,"",null,null,null,null,null,null,null,"","","","","",""]
[null,"",null,null,null,null,null,null,null,"","","","","",""]
[null,"",null,null,null,null,null,null,null,"","","","","",""]
[null,"",null,null,null,null,null,null,null,{"$f":"IF(B26608=\"\",\"\",IF(AND(H26608=\"\",I26608=\"\"),\"\",IF(AND(E26608<>\"\",F26608<>\"\"),\"FOUT\",IF(AND(E26608=\"\",H26608<>\"\"),\"FOUT\",IF(AND(F26608=\"\",I26608<>\"\"),\"FOUT\",IF(G26608=\"\",\"BTW ?\",\"OK\"))))))","v":""},"","","","",""]
[null,"",null,null,null,null,null,null,null,"","","","","",""]
[null,"",null,null,null,null,null,null,null,"","","","","",""]
[null,"",null,null,null,null,null,null,null,"","","","","",""]
[null,"",null,null,null,null,null,null,null,"","","","","",""]
[null,"",null,null,null,null,null,null,null,"","","","","",""]
[null,"",null,null,null,null,null,null,null,"","","","","",""]
[null,"",null,null,null,null,null,null,null,"","","","","",""]
[null,"",null,null,null,null,null,null,null,"","","","","",""]
[null,"",null,null,null,null,null,null,null,"","","","","",""]
[null,"",null,null,null,null,null,null,null,"","","","","",""]
[null,"",null,null,null,null,null,null,null,"","","","","",""]
[null,"",null,null,null,null,null,null,null,"","","","","",""]
[null,"",null,null,null,null,null,null,null,"","","","","",""]
[null,"",null,null,null,null,null,null,null,"","","","","",""]
[null,"",null,null,null,null,null,null,null,"","","","","",""]
[null,"",null,null,null,null,null,null,null,"","","","","",""]
[null,"",null,null,null,null,null,null,null,"","","","","",""]
[null,"",null,null,null,null,null,null,null,"","","","","",""]
[null,"",null,null,null,null,null,null,null,"","","","","",""]
[null,"",null,null,null,null,null,null,null,"","","","","",""]
[null,"",null,null,null,null,null,null,null,"","","","","",""]
[null,{"$f":"IF(C26630=\"\",\"\",IF(B26629=\"Nr.\",1,B26629+1))","v":""},null,null,null,null,null,null,null,"",{"$f":"IF(H26630=\"\",\"\",(H26630/((1+$G26630)*100))*($G26630*100))","v":""},{"$f":"IF(I26630=\"\",\"\",(I26630/((1+$G26630)*100))*($G26630*100))","v":""},{"$f":"IF(H26630=\"\",\"\",+H26630-K26630)","v":""},{"$f":"IF(I26630=\"\",\"\",+I26630-L26630)","v":""},{"$f":"IF(C26630=\"\",\"\",MONTH(C26630))","v":""}]
[null,"",null,null,null,null,null,null,null,"","","","","",""]
[null,"",null,null,null,null,null,null,null,"","","","","",""]
[null,"",null,null,null,null,null,null,null,"","","","","",""]
[null,"",null,null,null,null,null,null,null,"","","","","",""]
[null,"",null,null,null,null,null,null,null,"","","","","",""]
[null,"",null,null,null,null,null,null,null,"","","","","",""]
[null,"",null,null,null,null,null,null,null,"","","","","",""]
[null,"",null,null,null,null,null,null,null,"","","","","",""]
[null,"",null,null,null,null,null,null,null,"","","","","",""]
[null,"",null,null,null,null,null,null,null,"","","","","",""]
[null,"",null,null,null,null,null,null,null,"","","","","",""]
[null,"",null,null,null,null,null,null,null,"","","","","",""]
[null,"",null,null,null,null,null,null,null,"","","","","",""]
[null,"",null,null,null,null,null,null,null,"","","","","",""]
[null,"",null,null,null,null,null,null,null,"","","","","",""]
[null,"",null,null,null,null,null,null,null,"","","","","",""]
[null,"",null,null,null,null,null,null,null,"","","","","",""]
[null,"",null,null,null,null,null,null,null,"","","","","",""]
[null,"",null,null,null,null,null,null,null,"","","","","",""]
[null,"",null,null,null,null,null,null,null,"","","","","",""]
[null,"",null,null,null,null,null,null,null,"","","","","",""]
[null,"",null,null,null,null,null,null,null,"","","","","",""]
[null,"",null,null,null,null,null,null,null,"","","","","",""]
[null,"",null,null,null,null,null,null,null,"","","","","",""]
[null,"",null,null,null,null,null,null,null,"","","","","",""]
[null,"",null,null,null,null,null,null,null,"","","","","",""]
[null,"",null,null,null,null,null,null,null,"","","","","",""]
[null,"",null,null,null,null,null,null,null,"","","","","",""]
[null,"",null,null,null,null,null,null,null,"","","","","",""]
[null,"",null,null,null,null,null,null,null,"","","","","",""]
[null,"",null,null,null,null,null,null,null,"","","","","",""]
[null,"",null,null,null,null,null,null,null,"","","","","",""]
[null,"",null,null,null,null,null,null,null,"","","","","",""]
[null,"",null,null,null,null,null,null,null,"","","","","",""]
[null,"",null,null,null,null,null,null,null,"","","","","",""]
[null,"",null,null,null,null,null,null,null,"","","","","",""]
[null,"",null,null,null,null,null,null,null,"","","","","",""]
[null,"",null,null,null,null,null,null,null,"","","","","",""]
[null,"",null,null,null,null,null,null,null,"","","","","",""]
[null,"",null,null,null,null,null,null,null,"","","","","",""]
[null,"",null,null,null,null,null,null,null,"","","","","",""]
[null,"",null,null,null,null,null,null,null,{"$f":"IF(B26672=\"\",\"\",IF(AND(H26672=\"\",I26672=\"\"),\"\",IF(AND(E26672<>\"\",F26672<>\"\"),\"FOUT\",IF(AND(E26672=\"\",H26672<>\"\"),\"FOUT\",IF(AND(F26672=\"\",I26672<>\"\"),\"FOUT\",IF(G26672=\"\",\"BTW ?\",\"OK\"))))))","v":""},"","","","",""]
[null,"",null,null,null,null,null,null,null,"","","","","",""]
[null,"",null,null,null,null,null,null,null,"","","","","",""]
[null,"",null,null,null,null,null,null,null,"","","","","",""]
[null,"",null,null,null,null,null,null,null,"","","","","",""]
[null,"",null,null,null,null,null,null,null,"","","","","",""]
[null,"",null,null,null,null,null,null,null,"","","","","",""]
[null,"",null,null,null,null,null,null,null,"","","","","",""]
[null,"",null,null,null,null,null,null,null,"","","","","",""]
[null,"",null,null,null,null,null,null,null,"","","","","",""]
[null,"",null,null,null,null,null,null,null,"","","","","",""]
[null,"",null,null,null,null,null,null,null,"","","","","",""]
[null,"",null,null,null,null,null,null,null,"","","","","",""]
[null,"",null,null,null,null,null,null,null,"","","","","",""]
[null,"",null,null,null,null,null,null,null,"","","","","",""]
[null,"",null,null,null,null,null,null,null,"","","","","",""]
[null,"",null,null,null,null,null,null,null,"","","","","",""]
[null,"",null,null,null,null,null,null,null,"","","","","",""]
[null,"",null,null,null,null,null,null,null,"","","","","",""]
[null,"",null,null,null,null,null,null,null,"","","","","",""]
[null,"",null,null,null,null,null,null,null,"","","","","",""]
[null,"",null,null,null,null,null,null,null,"","","","","",""]
[null,{"$f":"IF(C26694=\"\",\"\",IF(B26693=\"Nr.\",1,B26693+1))","v":""},null,null,null,null,null,null,null,"",{"$f":"IF(H26694=\"\",\"\",(H26694/((1+$G26694)*100))*($G26694*100))","v":""},{"$f":"IF(I26694=\"\",\"\",(I26694/((1+$G26694)*100))*($G26694*100))","v":""},{"$f":"IF(H26694=\"\",\"\",+H26694-K26694)","v":""},{"$f":"IF(I26694=\"\",\"\",+I26694-L26694)","v":""},{"$f":"IF(C26694=\"\",\"\",MONTH(C26694))","v":""}]
[null,"",null,null,null,null,null,null,null,"","","","","",""]
[null,"",null,null,null,null,null,null,null,"","","","","",""]
[null,"",null,null,null,null,null,null,null,"","","","","",""]
[null,"",null,null,null,null,null,null,null,"","","","","",""]
[null,"",null,null,null,null,null,null,null,"","","","","",""]
[null,"",null,null,null,null,null,null,null,"","","","","",""]
[null,"",null,null,null,null,null,null,null,"","","","","",""]
[null,"",null,null,null,null,null,null,null,"","","","","",""]
[null,"",null,null,null,null,null,null,null,"","","","","",""]
[null,"",null,null,null,null,null,null,null,"","","","","",""]
[null,"",null,null,null,null,null,null,null,"","","","","",""]
[null,"",null,null,null,null,null,null,null,"","","","","",""]
[null,"",null,null,null,null,null,null,null,"","","","","",""]
[null,"",null,null,null,null,null,null,null,"","","","","",""]
[null,"",null,null,null,null,null,null,null,"","","","","",""]
[null,"",null,null,null,null,null,null,null,"","","","","",""]
[null,"",null,null,null,null,null,null,null,"","","","","",""]
[null,"",null,null,null,null,null,null,null,"","","","","",""]
[null,"",null,null,null,null,null,null,null,"","","","","",""]
[null,"",null,null,null,null,null,null,null,"","","","","",""]
[null,"",null,null,null,null,null,null,null,"","","","","",""]
[null,"",null,null,null,null,null,null,null,"","","","","",""]
[null,"",null,null,null,null,null,null,null,"","","","","",""]
[null,"",null,null,null,null,null,null,null,"","","","","",""]
[null,"",null,null,null,null,null,null,null,"","","","","",""]
[null,"",null,null,null,null,null,null,null,"","","","","",""]
[null,"",null,null,null,null,null,null,null,"","","","","",""]
[null,"",null,null,null,null,null,null,null,"","","","","",""]
[null,"",null,null,null,null,null,null,null,"","","","","",""]
[null,"",null,null,null,null,null,null,null,"","","","","",""]
[null,"",null,null,null,null,null,null,null,"","","","","",""]
[null,"",null,null,null,null,null,null,null,"","","","","",""]
[null,"",null,null,null,null,null,null,null,"","","","","",""]
[null,"",null,null,null,null,null,null,null,"","","","","",""]
[null,"",null,null,null,null,null,null,null,"","","","","",""]
[null,"",null,null,null,null,null,null,null,"","","","","",""]
[null,"",null,null,null,null,null,null,null,"","","","","",""]
[null,"",null,null,null,null,null,null,null,"","","","","",""]
[null,"",null,null,null,null,null,null,null,"","","","","",""]
[null,"",null,null,null,null,null,null,null,"","","","","",""]
[null,"",null,null,null,null,null,null,null,"","","","","",""]
[null,"",null,null,null,null,null,null,null,{"$f":"IF(B26736=\"\",\"\",IF(AND(H26736=\"\",I26736=\"\"),\"\",IF(AND(E26736<>\"\",F26736<>\"\"),\"FOUT\",IF(AND(E26736=\"\",H26736<>\"\"),\"FOUT\",IF(AND(F26736=\"\",I26736<>\"\"),\"FOUT\",IF(G26736=\"\",\"BTW ?\",\"OK\"))))))","v":""},"","","","",""]
[null,"",null,null,null,null,null,null,null,"","","","","",""]
[null,"",null,null,null,null,null,null,null,"","","","","",""]
[null,"",null,null,null,null,null,null,null,"","","","","",""]
[null,"",null,null,null,null,null,null,null,"","","","","",""]
[null,"",null,null,null,null,null,null,null,"","","","","",""]
[null,"",null,null,null,null,null,null,null,"","","","","",""]
[null,"",null,null,null,null,null,null,null,"","","","","",""]
[null,"",null,null,null,null,null,null,null,"","","","","",""]
[null,"",null,null,null,null,null,null,null,"","","","","",""]
[null,"",null,null,null,null,null,null,null,"","","","","",""]
[null,"",null,null,null,null,null,null,null,"","","","","",""]
[null,"",null,null,null,null,null,null,null,"","","","","",""]
[null,"",null,null,null,null,null,null,null,"","","","","",""]
[null,"",null,null,null,null,null,null,null,"","","","","",""]
[null,"",null,null,null,null,null,null,null,"","","","","",""]
[null,"",null,null,null,null,null,null,null,"","","","","",""]
[null,"",null,null,null,null,null,null,null,"","","","","",""]
[null,"",null,null,null,null,null,null,null,"","","","","",""]
[null,"",null,null,null,null,null,null,null,"","","","","",""]
[null,"",null,null,null,null,null,null,null,"","","","","",""]
[null,"",null,null,null,null,null,null,null,"","","","","",""]
[null,{"$f":"IF(C26758=\"\",\"\",IF(B26757=\"Nr.\",1,B26757+1))","v":""},null,null,null,null,null,null,null,"",{"$f":"IF(H26758=\"\",\"\",(H26758/((1+$G26758)*100))*($G26758*100))","v":""},{"$f":"IF(I26758=\"\",\"\",(I26758/((1+$G26758)*100))*($G26758*100))","v":""},{"$f":"IF(H26758=\"\",\"\",+H26758-K26758)","v":""},{"$f":"IF(I26758=\"\",\"\",+I26758-L26758)","v":""},{"$f":"IF(C26758=\"\",\"\",MONTH(C26758))","v":""}]
[null,"",null,null,null,null,null,null,null,"","","","","",""]
[null,"",null,null,null,null,null,null,null,"","","","","",""]
[null,"",null,null,null,null,null,null,null,"","","","","",""]
[null,"",null,null,null,null,null,null,null,"","","","","",""]
[null,"",null,null,null,null,null,null,null,"","","","","",""]
[null,"",null,null,null,null,null,null,null,"","","","","",""]
[null,"",null,null,null,null,null,null,null,"","","","","",""]
[null,"",null,null,null,null,null,null,null,"","","","","",""]
[null,"",null,null,null,null,null,null,null,"","","","","",""]
[null,"",null,null,null,null,null,null,null,"","","","","",""]
[null,"",null,null,null,null,null,null,null,"","","","","",""]
[null,"",null,null,null,null,null,null,null,"","","","","",""]
[null,"",null,null,null,null,null,null,null,"","","","","",""]
[null,"",null,null,null,null,null,null,null,"","","","","",""]
[null,"",null,null,null,null,null,null,null,"","","","","",""]
[null,"",null,null,null,null,null,null,null,"","","","","",""]
[null,"",null,null,null,null,null,null,null,"","","","","",""]
[null,"",null,null,null,null,null,null,null,"","","","","",""]
[null,"",null,null,null,null,null,null,null,"","","","","",""]
[null,"",null,null,null,null,null,null,null,"","","","","",""]
[null,"",null,null,null,null,null,null,null,"","","","","",""]
[null,"",null,null,null,null,null,null,null,"","","","","",""]
[null,"",null,null,null,null,null,null,null,"","","","","",""]
[null,"",null,null,null,null,null,null,null,"","","","","",""]
[null,"",null,null,null,null,null,null,null,"","","","","",""]
[null,"",null,null,null,null,null,null,null,"","","","","",""]
[null,"",null,null,null,null,null,null,null,"","","","","",""]
[null,"",null,null,null,null,null,null,null,"","","","","",""]
[null,"",null,null,null,null,null,null,null,"","","","","",""]
[null,"",null,null,null,null,null,null,null,"","","","","",""]
[null,"",null,null,null,null,null,null,null,"","","","","",""]
[null,"",null,null,null,null,null,null,null,"","","","","",""]
[null,"",null,null,null,null,null,null,null,"","","","","",""]
[null,"",null,null,null,null,null,null,null,"","","","","",""]
[null,"",null,null,null,null,null,null,null,"","","","","",""]
[null,"",null,null,null,null,null,null,null,"","","","","",""]
[null,"",null,null,null,null,null,null,null,"","","","","",""]
[null,"",null,null,null,null,null,null,null,"","","","","",""]
[null,"",null,null,null,null,null,null,null,"","","","","",""]
[null,"",null,null,null,null,null,null,null,"","","","","",""]
[null,"",null,null,null,null,null,null,null,"","","","","",""]
[null,"",null,null,null,null,null,null,null,{"$f":"IF(B26800=\"\",\"\",IF(AND(H26800=\"\",I26800=\"\"),\"\",IF(AND(E26800<>\"\",F26800<>\"\"),\"FOUT\",IF(AND(E26800=\"\",H26800<>\"\"),\"FOUT\",IF(AND(F26800=\"\",I26800<>\"\"),\"FOUT\",IF(G26800=\"\",\"BTW ?\",\"OK\"))))))","v":""},"","","","",""]
[null,"",null,null,null,null,null,null,null,"","","","","",""]
[null,"",null,null,null,null,null,null,null,"","","","","",""]
[null,"",null,null,null,null,null,null,null,"","","","","",""]
[null,"",null,null,null,null,null,null,null,"","","","","",""]
[null,"",null,null,null,null,null,null,null,"","","","","",""]
[null,"",null,null,null,null,null,null,null,"","","","","",""]
[null,"",null,null,null,null,null,null,null,"","","","","",""]
[null,"",null,null,null,null,null,null,null,"","","","","",""]
[null,"",null,null,null,null,null,null,null,"","","","","",""]
[null,"",null,null,null,null,null,null,null,"","","","","",""]
[null,"",null,null,null,null,null,null,null,"","","","","",""]
[null,"",null,null,null,null,null,null,null,"","","","","",""]
[null,"",null,null,null,null,null,null,null,"","","","","",""]
[null,"",null,null,null,null,null,null,null,"","","","","",""]
[null,"",null,null,null,null,null,null,null,"","","","","",""]
[null,"",null,null,null,null,null,null,null,"","","","","",""]
[null,"",null,null,null,null,null,null,null,"","","","","",""]
[null,"",null,null,null,null,null,null,null,"","","","","",""]
[null,"",null,null,null,null,null,null,null,"","","","","",""]
[null,"",null,null,null,null,null,null,null,"","","","","",""]
[null,"",null,null,null,null,null,null,null,"","","","","",""]
[null,{"$f":"IF(C26822=\"\",\"\",IF(B26821=\"Nr.\",1,B26821+1))","v":""},null,null,null,null,null,null,null,"",{"$f":"IF(H26822=\"\",\"\",(H26822/((1+$G26822)*100))*($G26822*100))","v":""},{"$f":"IF(I26822=\"\",\"\",(I26822/((1+$G26822)*100))*($G26822*100))","v":""},{"$f":"IF(H26822=\"\",\"\",+H26822-K26822)","v":""},{"$f":"IF(I26822=\"\",\"\",+I26822-L26822)","v":""},{"$f":"IF(C26822=\"\",\"\",MONTH(C26822))","v":""}]
[null,"",null,null,null,null,null,null,null,"","","","","",""]
[null,"",null,null,null,null,null,null,null,"","","","","",""]
[null,"",null,null,null,null,null,null,null,"","","","","",""]
[null,"",null,null,null,null,null,null,null,"","","","","",""]
[null,"",null,null,null,null,null,null,null,"","","","","",""]
[null,"",null,null,null,null,null,null,null,"","","","","",""]
[null,"",null,null,null,null,null,null,null,"","","","","",""]
[null,"",null,null,null,null,null,null,null,"","","","","",""]
[null,"",null,null,null,null,null,null,null,"","","","","",""]
[null,"",null,null,null,null,null,null,null,"","","","","",""]
[null,"",null,null,null,null,null,null,null,"","","","","",""]
[null,"",null,null,null,null,null,null,null,"","","","","",""]
[null,"",null,null,null,null,null,null,null,"","","","","",""]
[null,"",null,null,null,null,null,null,null,"","","","","",""]
[null,"",null,null,null,null,null,null,null,"","","","","",""]
[null,"",null,null,null,null,null,null,null,"","","","","",""]
[null,"",null,null,null,null,null,null,null,"","","","","",""]
[null,"",null,null,null,null,null,null,null,"","","","","",""]
[null,"",null,null,null,null,null,null,null,"","","","","",""]
[null,"",null,null,null,null,null,null,null,"","","","","",""]
[null,"",null,null,null,null,null,null,null,"","","","","",""]
[null,"",null,null,null,null,null,null,null,"","","","","",""]
[null,"",null,null,null,null,null,null,null,"","","","","",""]
[null,"",null,null,null,null,null,null,null,"","","","","",""]
[null,"",null,null,null,null,null,null,null,"","","","","",""]
[null,"",null,null,null,null,null,null,null,"","","","","",""]
[null,"",null,null,null,null,null,null,null,"","","","","",""]
[null,"",null,null,null,null,null,null,null,"","","","","",""]
[null,"",null,null,null,null,null,null,null,"","","","","",""]
[null,"",null,null,null,null,null,null,null,"","","","","",""]
[null,"",null,null,null,null,null,null,null,"","","","","",""]
[null,"",null,null,null,null,null,null,null,"","","","","",""]
[null,"",null,null,null,null,null,null,null,"","","","","",""]
[null,"",null,null,null,null,null,null,null,"","","","","",""]
[null,"",null,null,null,null,null,null,null,"","","","","",""]
[null,"",null,null,null,null,null,null,null,"","","","","",""]
[null,"",null,null,null,null,null,null,null,"","","","","",""]
[null,"",null,null,null,null,null,null,null,"","","","","",""]
[null,"",null,null,null,null,null,null,null,"","","","","",""]
[null,"",null,null,null,null,null,null,null,"","","","","",""]
[null,"",null,null,null,null,null,null,null,"","","","","",""]
[null,"",null,null,null,null,null,null,null,{"$f":"IF(B26864=\"\",\"\",IF(AND(H26864=\"\",I26864=\"\"),\"\",IF(AND(E26864<>\"\",F26864<>\"\"),\"FOUT\",IF(AND(E26864=\"\",H26864<>\"\"),\"FOUT\",IF(AND(F26864=\"\",I26864<>\"\"),\"FOUT\",IF(G26864=\"\",\"BTW ?\",\"OK\"))))))","v":""},"","","","",""]
[null,"",null,null,null,null,null,null,null,"","","","","",""]
[null,"",null,null,null,null,null,null,null,"","","","","",""]
[null,"",null,null,null,null,null,null,null,"","","","","",""]
[null,"",null,null,null,null,null,null,null,"","","","","",""]
[null,"",null,null,null,null,null,null,null,"","","","","",""]
[null,"",null,null,null,null,null,null,null,"","","","","",""]
[null,"",null,null,null,null,null,null,null,"","","","","",""]
[null,"",null,null,null,null,null,null,null,"","","","","",""]
[null,"",null,null,null,null,null,null,null,"","","","","",""]
[null,"",null,null,null,null,null,null,null,"","","","","",""]
[null,"",null,null,null,null,null,null,null,"","","","","",""]
[null,"",null,null,null,null,null,null,null,"","","","","",""]
[null,"",null,null,null,null,null,null,null,"","","","","",""]
[null,"",null,null,null,null,null,null,null,"","","","","",""]
[null,"",null,null,null,null,null,null,null,"","","","","",""]
[null,"",null,null,null,null,null,null,null,"","","","","",""]
[null,"",null,null,null,null,null,null,null,"","","","","",""]
[null,"",null,null,null,null,null,null,null,"","","","","",""]
[null,"",null,null,null,null,null,null,null,"","","","","",""]
[null,"",null,null,null,null,null,null,null,"","","","","",""]
[null,"",null,null,null,null,null,null,null,"","","","","",""]
[null,{"$f":"IF(C26886=\"\",\"\",IF(B26885=\"Nr.\",1,B26885+1))","v":""},null,null,null,null,null,null,null,"",{"$f":"IF(H26886=\"\",\"\",(H26886/((1+$G26886)*100))*($G26886*100))","v":""},{"$f":"IF(I26886=\"\",\"\",(I26886/((1+$G26886)*100))*($G26886*100))","v":""},{"$f":"IF(H26886=\"\",\"\",+H26886-K26886)","v":""},{"$f":"IF(I26886=\"\",\"\",+I26886-L26886)","v":""},{"$f":"IF(C26886=\"\",\"\",MONTH(C26886))","v":""}]
[null,"",null,null,null,null,null,null,null,"","","","","",""]
[null,"",null,null,null,null,null,null,null,"","","","","",""]
[null,"",null,null,null,null,null,null,null,"","","","","",""]
[null,"",null,null,null,null,null,null,null,"","","","","",""]
[null,"",null,null,null,null,null,null,null,"","","","","",""]
[null,"",null,null,null,null,null,null,null,"","","","","",""]
[null,"",null,null,null,null,null,null,null,"","","","","",""]
[null,"",null,null,null,null,null,null,null,"","","","","",""]
[null,"",null,null,null,null,null,null,null,"","","","","",""]
[null,"",null,null,null,null,null,null,null,"","","","","",""]
[null,"",null,null,null,null,null,null,null,"","","","","",""]
[null,"",null,null,null,null,null,null,null,"","","","","",""]
[null,"",null,null,null,null,null,null,null,"","","","","",""]
[null,"",null,null,null,null,null,null,null,"","","","","",""]
[null,"",null,null,null,null,null,null,null,"","","","","",""]
[null,"",null,null,null,null,null,null,null,"","","","","",""]
[null,"",null,null,null,null,null,null,null,"","","","","",""]
[null,"",null,null,null,null,null,null,null,"","","","","",""]
[null,"",null,null,null,null,null,null,null,"","","","","",""]
[null,"",null,null,null,null,0.21,null,null,"","","","","",""]
[null,"",null,null,null,null,null,null,null,"","","","","",""]
[null,"",null,null,null,null,null,null,null,"","","","","",""]
[null,"",null,null,null,null,null,null,null,"","","","","",""]
[null,"",null,null,null,null,null,null,null,"","","","","",""]
[null,"",null,null,null,null,null,null,null,"","","","","",""]
[null,"",null,null,null,null,null,null,null,"","","","","",""]
[null,"",null,null,null,null,null,null,null,"","","","","",""]
[null,"",null,null,null,null,null,null,null,"","","","","",""]
[null,"",null,null,null,null,null,null,null,"","","","","",""]
[null,"",null,null,null,null,null,null,null,"","","","","",""]
[null,"",null,null,null,null,null,null,null,"","","","","",""]
[null,"",null,null,null,null,null,null,null,"","","","","",""]
[null,"",null,null,null,null,null,null,null,"","","","","",""]
[null,"",null,null,null,null,null,null,null,"","","","","",""]
[null,"",null,null,null,null,null,null,null,"","","","","",""]
[null,"",null,null,null,null,null,null,null,"","","","","",""]
[null,"",null,null,null,null,null,null,null,"","","","","",""]
[null,"",null,null,null,null,null,null,null,"","","","","",""]
[null,"",null,null,null,null,null,null,null,"","","","","",""]
[null,"",null,null,null,null,null,null,null,"","","","","",""]
[null,"",null,null,null,null,null,null,null,"","","","","",""]
[null,"",null,null,null,null,null,null,null,{"$f":"IF(B26928=\"\",\"\",IF(AND(H26928=\"\",I26928=\"\"),\"\",IF(AND(E26928<>\"\",F26928<>\"\"),\"FOUT\",IF(AND(E26928=\"\",H26928<>\"\"),\"FOUT\",IF(AND(F26928=\"\",I26928<>\"\"),\"FOUT\",IF(G26928=\"\",\"BTW ?\",\"OK\"))))))","v":""},"","","","",""]
[null,"",null,null,null,null,null,null,null,"","","","","",""]
[null,"",null,null,null,null,null,null,null,"","","","","",""]
[null,"",null,null,null,null,null,null,null,"","","","","",""]
[null,"",null,null,null,null,null,null,null,"","","","","",""]
[null,"",null,null,null,null,null,null,null,"","","","","",""]
[null,"",null,null,null,null,null,null,null,"","","","","",""]
[null,"",null,null,null,null,null,null,null,"","","","","",""]
[null,"",null,null,null,null,null,null,null,"","","","","",""]
[null,"",null,null,null,null,null,null,null,"","","","","",""]
[null,"",null,null,null,null,null,null,null,"","","","","",""]
[null,"",null,null,null,null,null,null,null,"","","","","",""]
[null,"",null,null,null,null,null,null,null,"","","","","",""]
[null,"",null,null,null,null,null,null,null,"","","","","",""]
[null,"",null,null,null,null,null,null,null,"","","","","",""]
[null,"",null,null,null,null,null,null,null,"","","","","",""]
[null,"",null,null,null,null,null,null,null,"","","","","",""]
[null,"",null,null,null,null,null,null,null,"","","","","",""]
[null,"",null,null,null,null,null,null,null,"","","","","",""]
[null,"",null,null,null,null,null,null,null,"","","","","",""]
[null,"",null,null,null,null,null,null,null,"","","","","",""]
[null,"",null,null,null,null,null,null,null,"","","","","",""]
[null,{"$f":"IF(C26950=\"\",\"\",IF(B26949=\"Nr.\",1,B26949+1))","v":""},null,null,null,null,null,null,null,"",{"$f":"IF(H26950=\"\",\"\",(H26950/((1+$G26950)*100))*($G26950*100))","v":""},{"$f":"IF(I26950=\"\",\"\",(I26950/((1+$G26950)*100))*($G26950*100))","v":""},{"$f":"IF(H26950=\"\",\"\",+H26950-K26950)","v":""},{"$f":"IF(I26950=\"\",\"\",+I26950-L26950)","v":""},{"$f":"IF(C26950=\"\",\"\",MONTH(C26950))","v":""}]
[null,"",null,null,null,null,null,null,null,"","","","","",""]
[null,"",null,null,null,null,null,null,null,"","","","","",""]
[null,"",null,null,null,null,null,null,null,"","","","","",""]
[null,"",null,null,null,null,null,null,null,"","","","","",""]
[null,"",null,null,null,null,null,null,null,"","","","","",""]
[null,"",null,null,null,null,null,null,null,"","","","","",""]
[null,"",null,null,null,null,null,null,null,"","","","","",""]
[null,"",null,null,null,null,null,null,null,"","","","","",""]
[null,"",null,null,null,null,null,null,null,"","","","","",""]
[null,"",null,null,null,null,null,null,null,"","","","","",""]
[null,"",null,null,null,null,null,null,null,"","","","","",""]
[null,"",null,null,null,null,null,null,null,"","","","","",""]
[null,"",null,null,null,null,null,null,null,"","","","","",""]
[null,"",null,null,null,null,null,null,null,"","","","","",""]
[null,"",null,null,null,null,null,null,null,"","","","","",""]
[null,"",null,null,null,null,null,null,null,"","","","","",""]
[null,"",null,null,null,null,null,null,null,"","","","","",""]
[null,"",null,null,null,null,null,null,null,"","","","","",""]
[null,"",null,null,null,null,null,null,null,"","","","","",""]
[null,"",null,null,null,null,null,null,null,"","","","","",""]
[null,"",null,null,null,null,null,null,null,"","","","","",""]
[null,"",null,null,null,null,null,null,null,"","","","","",""]
[null,"",null,null,null,null,null,null,null,"","","","","",""]
[null,"",null,null,null,null,null,null,null,"","","","","",""]
[null,"",null,null,null,null,null,null,null,"","","","","",""]
[null,"",null,null,null,null,null,null,null,"","","","","",""]
[null,"",null,null,null,null,null,null,null,"","","","","",""]
[null,"",null,null,null,null,null,null,null,"","","","","",""]
[null,"",null,null,null,null,null,null,null,"","","","","",""]
[null,"",null,null,null,null,null,null,null,"","","","","",""]
[null,"",null,null,null,null,null,null,null,"","","","","",""]
[null,"",null,null,null,null,null,null,null,"","","","","",""]
[null,"",null,null,null,null,null,null,null,"","","","","",""]
[null,"",null,null,null,null,null,null,null,"","","","","",""]
[null,"",null,null,null,null,null,null,null,"","","","","",""]
[null,"",null,null,null,null,null,null,null,"","","","","",""]
[null,"",null,null,null,null,null,null,null,"","","","","",""]
[null,"",null,null,null,null,null,null,null,"","","","","",""]
[null,"",null,null,null,null,null,null,null,"","","","","",""]
[null,"",null,null,null,null,null,null,null,"","","","","",""]
[null,"",null,null,null,null,null,null,null,"","","","","",""]
[null,"",null,null,null,null,null,null,null,{"$f":"IF(B26992=\"\",\"\",IF(AND(H26992=\"\",I26992=\"\"),\"\",IF(AND(E26992<>\"\",F26992<>\"\"),\"FOUT\",IF(AND(E26992=\"\",H26992<>\"\"),\"FOUT\",IF(AND(F26992=\"\",I26992<>\"\"),\"FOUT\",IF(G26992=\"\",\"BTW ?\",\"OK\"))))))","v":""},"","","","",""]
[null,"",null,null,null,null,null,null,null,"","","","","",""]
[null,"",null,null,null,null,null,null,null,"","","","","",""]
[null,"",null,null,null,null,null,null,null,"","","","","",""]
[null,"",null,null,null,null,null,null,null,"","","","","",""]
[null,"",null,null,null,null,null,null,null,"","","","","",""]
[null,"",null,null,null,null,null,null,null,"","","","","",""]
[null,"",null,null,null,null,null,null,null,"","","","","",""]
[null,"",null,null,null,null,null,null,null,"","","","","",""]
[null,"",null,null,null,null,null,null,null,"","","","","",""]
[null,"",null,null,null,null,null,null,null,"","","","","",""]
[null,"",null,null,null,null,null,null,null,"","","","","",""]
[null,"",null,null,null,null,null,null,null,"","","","","",""]
[null,"",null,null,null,null,null,null,null,"","","","","",""]
[null,"",null,null,null,null,null,null,null,"","","","","",""]
[null,"",null,null,null,null,null,null,null,"","","","","",""]
[null,"",null,null,null,null,null,null,null,"","","","","",""]
[null,"",null,null,null,null,null,null,null,"","","","","",""]
[null,"",null,null,null,null,null,null,null,"","","","","",""]
[null,"",null,null,null,null,null,null,null,"","","","","",""]
[null,"",null,null,null,null,null,null,null,"","","","","",""]
[null,"",null,null,null,null,null,null,null,"","","","","",""]
[null,{"$f":"IF(C27014=\"\",\"\",IF(B27013=\"Nr.\",1,B27013+1))","v":""},null,null,null,null,null,null,null,"",{"$f":"IF(H27014=\"\",\"\",(H27014/((1+$G27014)*100))*($G27014*100))","v":""},{"$f":"IF(I27014=\"\",\"\",(I27014/((1+$G27014)*100))*($G27014*100))","v":""},{"$f":"IF(H27014=\"\",\"\",+H27014-K27014)","v":""},{"$f":"IF(I27014=\"\",\"\",+I27014-L27014)","v":""},{"$f":"IF(C27014=\"\",\"\",MONTH(C27014))","v":""}]
[null,"",null,null,null,null,null,null,null,"","","","","",""]
[null,"",null,null,null,null,null,null,null,"","","","","",""]
[null,"",null,null,null,null,null,null,null,"","","","","",""]
[null,"",null,null,null,null,null,null,null,"","","","","",""]
[null,"",null,null,null,null,null,null,null,"","","","","",""]
[null,"",null,null,null,null,null,null,null,"","","","","",""]
[null,"",null,null,null,null,null,null,null,"","","","","",""]
[null,"",null,null,null,null,null,null,null,"","","","","",""]
[null,"",null,null,null,null,null,null,null,"","","","","",""]
[null,"",null,null,null,null,null,null,null,"","","","","",""]
[null,"",null,null,null,null,null,null,null,"","","","","",""]
[null,"",null,null,null,null,null,null,null,"","","","","",""]
[null,"",null,null,null,null,null,null,null,"","","","","",""]
[null,"",null,null,null,null,null,null,null,"","","","","",""]
[null,"",null,null,null,null,null,null,null,"","","","","",""]
[null,"",null,null,null,null,null,null,null,"","","","","",""]
[null,"",null,null,null,null,null,null,null,"","","","","",""]
[null,"",null,null,null,null,null,null,null,"","","","","",""]
[null,"",null,null,null,null,null,null,null,"","","","","",""]
[null,"",null,null,null,null,null,null,null,"","","","","",""]
[null,"",null,null,null,null,null,null,null,"","","","","",""]
[null,"",null,null,null,null,null,null,null,"","","","","",""]
[null,"",null,null,null,null,null,null,null,"","","","","",""]
[null,"",null,null,null,null,null,null,null,"","","","","",""]
[null,"",null,null,null,null,null,null,null,"","","","","",""]
[null,"",null,null,null,null,null,null,null,"","","","","",""]
[null,"",null,null,null,null,null,null,null,"","","","","",""]
[null,"",null,null,null,null,null,null,null,"","","","","",""]
[null,"",null,null,null,null,null,null,null,"","","","","",""]
[null,"",null,null,null,null,null,null,null,"","","","","",""]
[null,"",null,null,null,null,null,null,null,"","","","","",""]
[null,"",null,null,null,null,null,null,null,"","","","","",""]
[null,"",null,null,null,null,null,null,null,"","","","","",""]
[null,"",null,null,null,null,null,null,null,"","","","","",""]
[null,"",null,null,null,null,null,null,null,"","","","","",""]
[null,"",null,null,null,null,null,null,null,"","","","","",""]
[null,"",null,null,null,null,null,null,null,"","","","","",""]
[null,"",null,null,null,null,null,null,null,"","","","","",""]
[null,"",null,null,null,null,null,null,null,"","","","","",""]
[null,"",null,null,null,null,null,null,null,"","","","","",""]
[null,"",null,null,null,null,null,null,null,"","","","","",""]
[null,"",null,null,null,null,null,null,null,{"$f":"IF(B27056=\"\",\"\",IF(AND(H27056=\"\",I27056=\"\"),\"\",IF(AND(E27056<>\"\",F27056<>\"\"),\"FOUT\",IF(AND(E27056=\"\",H27056<>\"\"),\"FOUT\",IF(AND(F27056=\"\",I27056<>\"\"),\"FOUT\",IF(G27056=\"\",\"BTW ?\",\"OK\"))))))","v":""},"","","","",""]
[null,"",null,null,null,null,null,null,null,"","","","","",""]
[null,"",null,null,null,null,null,null,null,"","","","","",""]
[null,"",null,null,null,null,null,null,null,"","","","","",""]
[null,"",null,null,null,null,null,null,null,"","","","","",""]
[null,"",null,null,null,null,null,null,null,"","","","","",""]
[null,"",null,null,null,null,null,null,null,"","","","","",""]
[null,"",null,null,null,null,null,null,null,"","","","","",""]
[null,"",null,null,null,null,null,null,null,"","","","","",""]
[null,"",null,null,null,null,null,null,null,"","","","","",""]
[null,"",null,null,null,null,null,null,null,"","","","","",""]
[null,"",null,null,null,null,null,null,null,"","","","","",""]
[null,"",null,null,null,null,null,null,null,"","","","","",""]
[null,"",null,null,null,null,null,null,null,"","","","","",""]
[null,"",null,null,null,null,null,null,null,"","","","","",""]
[null,"",null,null,null,null,null,null,null,"","","","","",""]
[null,"",null,null,null,null,null,null,null,"","","","","",""]
[null,"",null,null,null,null,null,null,null,"","","","","",""]
[null,"",null,null,null,null,null,null,null,"","","","","",""]
[null,"",null,null,null,null,null,null,null,"","","","","",""]
[null,"",null,null,null,null,null,null,null,"","","","","",""]
[null,"",null,null,null,null,null,null,null,"","","","","",""]
[null,{"$f":"IF(C27078=\"\",\"\",IF(B27077=\"Nr.\",1,B27077+1))","v":""},null,null,null,null,null,null,null,"",{"$f":"IF(H27078=\"\",\"\",(H27078/((1+$G27078)*100))*($G27078*100))","v":""},{"$f":"IF(I27078=\"\",\"\",(I27078/((1+$G27078)*100))*($G27078*100))","v":""},{"$f":"IF(H27078=\"\",\"\",+H27078-K27078)","v":""},{"$f":"IF(I27078=\"\",\"\",+I27078-L27078)","v":""},{"$f":"IF(C27078=\"\",\"\",MONTH(C27078))","v":""}]
[null,"",null,null,null,null,null,null,null,"","","","","",""]
[null,"",null,null,null,null,null,null,null,"","","","","",""]
[null,"",null,null,null,null,null,null,null,"","","","","",""]
[null,"",null,null,null,null,null,null,null,"","","","","",""]
[null,"",null,null,null,null,null,null,null,"","","","","",""]
[null,"",null,null,null,null,null,null,null,"","","","","",""]
[null,"",null,null,null,null,null,null,null,"","","","","",""]
[null,"",null,null,null,null,null,null,null,"","","","","",""]
[null,"",null,null,null,null,null,null,null,"","","","","",""]
[null,"",null,null,null,null,null,null,null,"","","","","",""]
[null,"",null,null,null,null,null,null,null,"","","","","",""]
[null,"",null,null,null,null,null,null,null,"","","","","",""]
[null,"",null,null,null,null,null,null,null,"","","","","",""]
[null,"",null,null,null,null,null,null,null,"","","","","",""]
[null,"",null,null,null,null,null,null,null,"","","","","",""]
[null,"",null,null,null,null,null,null,null,"","","","","",""]
[null,"",null,null,null,null,null,null,null,"","","","","",""]
[null,"",null,null,null,null,null,null,null,"","","","","",""]
[null,"",null,null,null,null,null,null,null,"","","","","",""]
[null,"",null,null,null,null,null,null,null,"","","","","",""]
[null,"",null,null,null,null,null,null,null,"","","","","",""]
[null,"",null,null,null,null,null,null,null,"","","","","",""]

{"sheet":"Factuur invoer","index":2,"n_rows":30,"n_cols":16,"rows_kept":30,"cut":false,"hidden":false,"merged":[[1,1,2,2]]}
[]
[null,{"$f":"CONCATENATE(Boekingslijst!B1,\" \",Boekingslijst!E3)","v":" "}]
[null,null,null,null,null,null,null,null,null,null,null,null,null,null,null,{"$f":"IF(Basisgeg.!C13=\"\",\"\",Basisgeg.!C13)","v":""}]
[null,"Selecteer debiteur",1,null,null,null,null,null,null,null,null,null,null,null,null,{"$f":"IF(Basisgeg.!C14=\"\",\"\",Basisgeg.!C14)","v":""}]
[null,"Datum",{"$f":"TODAY()","v":"2023-06-30"},null,{"$f":"IF(F5<>C5,\"Niet vandaag!\",\"\")","v":""},{"$f":"TODAY()","v":"2023-06-30"},null,null,null,null,null,null,null,null,null,{"$f":"IF(Basisgeg.!C15=\"\",\"\",Basisgeg.!C15)","v":""}]
[null,"Omschrijving",null,null,null,null,null,null,null,null,null,null,null,null,null,{"$f":"IF(Basisgeg.!C16=\"\",\"\",Basisgeg.!C16)","v":""}]
[null,"Bedrag",null,null,null,null,null,null,null,null,null,null,null,null,null,{"$f":"IF(Basisgeg.!C17=\"\",\"\",Basisgeg.!C17)","v":""}]
[null,"btw",{"$f":"IF(C7=\"\",\"\",C7*C14)","v":""},null,null,null,null,null,null,null,null,null,null,null,null,{"$f":"IF(Basisgeg.!C18=\"\",\"\",Basisgeg.!C18)","v":""}]
[null,"Totaal",{"$f":"IF(C8=\"\",\"\",C8+C7)","v":""},null,null,null,null,null,null,null,null,null,null,null,null,{"$f":"IF(Basisgeg.!C19=\"\",\"\",Basisgeg.!C19)","v":""}]
[null,"Voornaam",{"$f":"IFERROR(CONCATENATE(VLOOKUP(C4,Debiteuren!B3:H1000,3,0),\" \",VLOOKUP(C4,Debiteuren!B3:H1000,2,0)),\"\")","v":""},null,null,null,null,null,null,null,null,null,null,null,null,{"$f":"IF(Basisgeg.!C20=\"\",\"\",Basisgeg.!C20)","v":""}]
[null,"Adres",{"$f":"IFERROR(IF(VLOOKUP(C4,Debiteuren!B3:G1000,4,FALSE)=\"\",\"\",VLOOKUP(C4,Debiteuren!B3:G1000,4,FALSE)),\"\")","v":""},null,null,null,null,null,null,null,null,null,null,null,null,{"$f":"IF(Basisgeg.!C21=\"\",\"\",Basisgeg.!C21)","v":""}]
[null,"Pc plaats",{"$f":"IFERROR(IF(VLOOKUP(C4,Debiteuren!B3:G1000,5,FALSE)=\"\",\"\",VLOOKUP(C4,Debiteuren!B3:G1000,5,FALSE)),\"\")","v":""},null,null,null,null,null,null,null,null,null,null,null,null,{"$f":"IF(Basisgeg.!C22=\"\",\"\",Basisgeg.!C22)","v":""}]
[null,"Categorie",null,null,{"$f":"IF(C13=0,\"Mag niet leeg zijn!\",\"\")","v":"Mag niet leeg zijn!"},null,null,null,null,"Kies een debiteur uit de selectielijst. Als het een nieuwe debiteur"]
[null,"btw perc",null,null,{"$f":"IF(C14=0,\"Mag niet leeg zijn!\",\"\")","v":"Mag niet leeg zijn!"},null,null,null,null,"betreft, voeg die dan toe aan de database via de invoervelden"]
[null,"Bedrijf"]
[null,null,null,null,null,null,null,null,null,"onderin. Vul een datum in (hoeft niet vandaag te zijn al wordt "]
[null,null,null,null,null,null,null,null,null,"dan wel gewaarschuwd), een omschrijving en het bedrag ex btw. "]
[null,null,null,null,null,null,null,null,null,"De gele en rode velden worden automatisch aangevuld. Kies"]
[null,null,null,null,null,null,null,null,null,"een inkomstencategorie en een btw percentage (niet leeg laten). "]
[null,null,null,null,null,null,null,null,null,"Klik dan op werwerken. De factuur wordt aangemaakt op het blad"]
[null,"Invoegen nieuwe debiteur (indien debiteur niet voorkomt in de lijst)",null,null,null,null,null,null,null,"factuur. Tevens wordt de factuur geboekt in de boekingslijst"]
[null,"Achternaam",null,null,null,null,null,null,null,"Voor eenvoudige controle op debiteuren wordt op het blad "]
[null,"Voornaam (en voorv.)",null,null,null,null,null,null,null,"factuurlijst in volgorde van nummer bijgehouden welke "]
[null,"Adres",null,null,null,null,null,null,null,"facturen zijn uitgegaan."]
[null,"Postcode en plaats"]
[null,"Land",null,null,null,null,null,null,null,"De factuur kan nog bekeken worden en/of geprint. Printen kan"]
[null,null,null,null,null,null,null,null,null,"ook vanuit het blad factuur zelf."]
[]
[null,null,null,null,null,null,null,null,null,"Het factuurnummer bestaat uit jaartal, maand en volgnummer."]
[null,null,null,null,null,null,null,null,null,"en wordt automatisch gegenereerd."]

{"sheet":"Debiteuren","index":3,"n_rows":2547,"n_cols":8,"rows_kept":2547,"cut":false,"hidden":false,"merged":[]}
[null,"Debiteuren","lijst. Correcties alleen in de witte velden!!"]
[null,"verwijsNm","Naam","Voornm","Adres","Postcode en plaats","land","Zoekveld"]
[null,{"$f":"IF(C3=\"\",\"\",1)","v":""},null,null,null,null,null,{"$f":"CONCATENATE(C3,\" \",D3)","v":" "}]
[null,{"$f":"IF(C4=\"\",\"\",B3+1)","v":""},null,null,null,null,null,{"$f":"CONCATENATE(C4,\" \",D4)","v":" "}]
[null,"",null,null,null,null,null," "]
[null,"",null,null,null,null,null," "]
[null,"",null,null,null,null,null," "]
[null,"",null,null,null,null,null," "]
[null,"",null,null,null,null,null," "]
[null,"",null,null,null,null,null," "]
[null,"",null,null,null,null,null," "]
[null,"",null,null,null,null,null," "]
[null,"",null,null,null,null,null," "]
[null,"",null,null,null,null,null," "]
[null,"",null,null,null,null,null," "]
[null,"",null,null,null,null,null," "]
[null,"",null,null,null,null,null," "]
[null,"",null,null,null,null,null," "]
[null,"",null,null,null,null,null," "]
[null,"",null,null,null,null,null," "]
[null,"",null,null,null,null,null," "]
[null,"",null,null,null,null,null," "]
[null,"",null,null,null,null,null," "]
[null,"",null,null,null,null,null," "]
[null,"",null,null,null,null,null," "]
[null,"",null,null,null,null,null," "]
[null,"",null,null,null,null,null," "]
[null,"",null,null,null,null,null," "]
[null,"",null,null,null,null,null," "]
[null,"",null,null,null,null,null," "]
[null,"",null,null,null,null,null," "]
[null,"",null,null,null,null,null," "]
[null,"",null,null,null,null,null," "]
[null,"",null,null,null,null,null," "]
[null,"",null,null,null,null,null," "]
[null,"",null,null,null,null,null," "]
[null,"",null,null,null,null,null," "]
[null,"",null,null,null,null,null," "]
[null,"",null,null,null,null,null," "]
[null,"",null,null,null,null,null," "]
[null,"",null,null,null,null,null," "]
[null,"",null,null,null,null,null," "]
[null,"",null,null,null,null,null," "]
[null,"",null,null,null,null,null," "]
[null,"",null,null,null,null,null," "]
[null,"",null,null,null,null,null," "]
[null,"",null,null,null,null,null," "]
[null,"",null,null,null,null,null," "]
[null,"",null,null,null,null,null," "]
[null,"",null,null,null,null,null," "]
[null,"",null,null,null,null,null," "]
[null,"",null,null,null,null,null," "]
[null,"",null,null,null,null,null," "]
[null,"",null,null,null,null,null," "]
[null,"",null,null,null,null,null," "]
[null,"",null,null,null,null,null," "]
[null,"",null,null,null,null,null," "]
[null,"",null,null,null,null,null," "]
[null,"",null,null,null,null,null," "]
[null,"",null,null,null,null,null," "]
[null,"",null,null,null,null,null," "]
[null,"",null,null,null,null,null," "]
[null,"",null,null,null,null,null," "]
[null,"",null,null,null,null,null," "]
[null,"",null,null,null,null,null," "]
[null,"",null,null,null,null,null," "]
[null,"",null,null,null,null,null," "]
[null,{"$f":"IF(C68=\"\",\"\",B67+1)","v":""},null,null,null,null,null,{"$f":"CONCATENATE(C68,\" \",D68)","v":" "}]
[null,"",null,null,null,null,null," "]
[null,"",null,null,null,null,null," "]
[null,"",null,null,null,null,null," "]
[null,"",null,null,null,null,null," "]
[null,"",null,null,null,null,null," "]
[null,"",null,null,null,null,null," "]
[null,"",null,null,null,null,null," "]
[null,"",null,null,null,null,null," "]
[null,"",null,null,null,null,null," "]
[null,"",null,null,null,null,null," "]
[null,"",null,null,null,null,null," "]
[null,"",null,null,null,null,null," "]
[null,"",null,null,null,null,null," "]
[null,"",null,null,null,null,null," "]
[null,"",null,null,null,null,null," "]
[null,"",null,null,null,null,null," "]
[null,"",null,null,null,null,null," "]
[null,"",null,null,null,null,null," "]
[null,"",null,null,null,null,null," "]
[null,"",null,null,null,null,null," "]
[null,"",null,null,null,null,null," "]
[null,"",null,null,null,null,null," "]
[null,"",null,null,null,null,null," "]
[null,"",null,null,null,null,null," "]
[null,"",null,null,null,null,null," "]
[null,"",null,null,null,null,null," "]
[null,"",null,null,null,null,null," "]
[null,"",null,null,null,null,null," "]
[null,"",null,null,null,null,null," "]
[null,"",null,null,null,null,null," "]
[null,"",null,null,null,null,null," "]
[null,"",null,null,null,null,null," "]
[null,"",null,null,null,null,null," "]
[null,"",null,null,null,null,null," "]
[null,"",null,null,null,null,null," "]
[null,"",null,null,null,null,null," "]
[null,"",null,null,null,null,null," "]
[null,"",null,null,null,null,null," "]
[null,"",null,null,null,null,null," "]
[null,"",null,null,null,null,null," "]
[null,"",null,null,null,null,null," "]
[null,"",null,null,null,null,null," "]
[null,"",null,null,null,null,null," "]
[null,"",null,null,null,null,null," "]
[null,"",null,null,null,null,null," "]
[null,"",null,null,null,null,null," "]
[null,"",null,null,null,null,null," "]
[null,"",null,null,null,null,null," "]
[null,"",null,null,null,null,null," "]
[null,"",null,null,null,null,null," "]
[null,"",null,null,null,null,null," "]
[null,"",null,null,null,null,null," "]
[null,"",null,null,null,null,null," "]
[null,"",null,null,null,null,null," "]
[null,"",null,null,null,null,null," "]
[null,"",null,null,null,null,null," "]
[null,"",null,null,null,null,null," "]
[null,"",null,null,null,null,null," "]
[null,"",null,null,null,null,null," "]
[null,"",null,null,null,null,null," "]
[null,"",null,null,null,null,null," "]
[null,"",null,null,null,null,null," "]
[null,"",null,null,null,null,null," "]
[null,{"$f":"IF(C132=\"\",\"\",B131+1)","v":""},null,null,null,null,null,{"$f":"CONCATENATE(C132,\" \",D132)","v":" "}]
[null,"",null,null,null,null,null," "]
[null,"",null,null,null,null,null," "]
[null,"",null,null,null,null,null," "]
[null,"",null,null,null,null,null," "]
[null,"",null,null,null,null,null," "]
[null,"",null,null,null,null,null," "]
[null,"",null,null,null,null,null," "]
[null,"",null,null,null,null,null," "]
[null,"",null,null,null,null,null," "]
[null,"",null,null,null,null,null," "]
[null,"",null,null,null,null,null," "]
[null,"",null,null,null,null,null," "]
[null,"",null,null,null,null,null," "]
[null,"",null,null,null,null,null," "]
[null,"",null,null,null,null,null," "]
[null,"",null,null,null,null,null," "]
[null,"",null,null,null,null,null," "]
[null,"",null,null,null,null,null," "]
[null,"",null,null,null,null,null," "]
[null,"",null,null,null,null,null," "]
[null,"",null,null,null,null,null," "]
[null,"",null,null,null,null,null," "]
[null,"",null,null,null,null,null," "]
[null,"",null,null,null,null,null," "]
[null,"",null,null,null,null,null," "]
[null,"",null,null,null,null,null," "]
[null,"",null,null,null,null,null," "]
[null,"",null,null,null,null,null," "]
[null,"",null,null,null,null,null," "]
[null,"",null,null,null,null,null," "]
[null,"",null,null,null,null,null," "]
[null,"",null,null,null,null,null," "]
[null,"",null,null,null,null,null," "]
[null,"",null,null,null,null,null," "]
[null,"",null,null,null,null,null," "]
[null,"",null,null,null,null,null," "]
[null,"",null,null,null,null,null," "]
[null,"",null,null,null,null,null," "]
[null,"",null,null,null,null,null," "]
[null,"",null,null,null,null,null," "]
[null,"",null,null,null,null,null," "]
[null,"",null,null,null,null,null," "]
[null,"",null,null,null,null,null," "]
[null,"",null,null,null,null,null," "]
[null,"",null,null,null,null,null," "]
[null,"",null,null,null,null,null," "]
[null,"",null,null,null,null,null," "]
[null,"",null,null,null,null,null," "]
[null,"",null,null,null,null,null," "]
[null,"",null,null,null,null,null," "]
[null,"",null,null,null,null,null," "]
[null,"",null,null,null,null,null," "]
[null,"",null,null,null,null,null," "]
[null,"",null,null,null,null,null," "]
[null,"",null,null,null,null,null," "]
[null,"",null,null,null,null,null," "]
[null,"",null,null,null,null,null," "]
[null,"",null,null,null,null,null," "]
[null,"",null,null,null,null,null," "]
[null,"",null,null,null,null,null," "]
[null,"",null,null,null,null,null," "]
[null,"",null,null,null,null,null," "]
[null,"",null,null,null,null,null," "]
[null,{"$f":"IF(C196=\"\",\"\",B195+1)","v":""},null,null,null,null,null,{"$f":"CONCATENATE(C196,\" \",D196)","v":" "}]
[null,"",null,null,null,null,null," "]
[null,"",null,null,null,null,null," "]
[null,"",null,null,null,null,null," "]
[null,"",null,null,null,null,null," "]
[null,"",null,null,null,null,null," "]
[null,"",null,null,null,null,null," "]
[null,"",null,null,null,null,null," "]
[null,"",null,null,null,null,null," "]
[null,"",null,null,null,null,null," "]
[null,"",null,null,null,null,null," "]
[null,"",null,null,null,null,null," "]
[null,"",null,null,null,null,null," "]
[null,"",null,null,null,null,null," "]
[null,"",null,null,null,null,null," "]
[null,"",null,null,null,null,null," "]
[null,"",null,null,null,null,null," "]
[null,"",null,null,null,null,null," "]
[null,"",null,null,null,null,null," "]
[null,"",null,null,null,null,null," "]
[null,"",null,null,null,null,null," "]
[null,"",null,null,null,null,null," "]
[null,"",null,null,null,null,null," "]
[null,"",null,null,null,null,null," "]
[null,"",null,null,null,null,null," "]
[null,"",null,null,null,null,null," "]
[null,"",null,null,null,null,null," "]
[null,"",null,null,null,null,null," "]
[null,"",null,null,null,null,null," "]
[null,"",null,null,null,null,null," "]
[null,"",null,null,null,null,null," "]
[null,"",null,null,null,null,null," "]
[null,"",null,null,null,null,null," "]
[null,"",null,null,null,null,null," "]
[null,"",null,null,null,null,null," "]
[null,"",null,null,null,null,null," "]
[null,"",null,null,null,null,null," "]
[null,"",null,null,null,null,null," "]
[null,"",null,null,null,null,null," "]
[null,"",null,null,null,null,null," "]
[null,"",null,null,null,null,null," "]
[null,"",null,null,null,null,null," "]
[null,"",null,null,null,null,null," "]
[null,"",null,null,null,null,null," "]
[null,"",null,null,null,null,null," "]
[null,"",null,null,null,null,null," "]
[null,"",null,null,null,null,null," "]
[null,"",null,null,null,null,null," "]
[null,"",null,null,null,null,null," "]
[null,"",null,null,null,null,null," "]
[null,"",null,null,null,null,null," "]
[null,"",null,null,null,null,null," "]
[null,"",null,null,null,null,null," "]
[null,"",null,null,null,null,null," "]
[null,"",null,null,null,null,null," "]
[null,"",null,null,null,null,null," "]
[null,"",null,null,null,null,null," "]
[null,"",null,null,null,null,null," "]
[null,"",null,null,null,null,null," "]
[null,"",null,null,null,null,null," "]
[null,"",null,null,null,null,null," "]
[null,"",null,null,null,null,null," "]
[null,"",null,null,null,null,null," "]
[null,"",null,null,null,null,null," "]
[null,{"$f":"IF(C260=\"\",\"\",B259+1)","v":""},null,null,null,null,null,{"$f":"CONCATENATE(C260,\" \",D260)","v":" "}]
[null,"",null,null,null,null,null," "]
[null,"",null,null,null,null,null," "]
[null,"",null,null,null,null,null," "]
[null,"",null,null,null,null,null," "]
[null,"",null,null,null,null,null," "]
[null,"",null,null,null,null,null," "]
[null,"",null,null,null,null,null," "]
[null,"",null,null,null,null,null," "]
[null,"",null,null,null,null,null," "]
[null,"",null,null,null,null,null," "]
[null,"",null,null,null,null,null," "]
[null,"",null,null,null,null,null," "]
[null,"",null,null,null,null,null," "]
[null,"",null,null,null,null,null," "]
[null,"",null,null,null,null,null," "]
[null,"",null,null,null,null,null," "]
[null,"",null,null,null,null,null," "]
[null,"",null,null,null,null,null," "]
[null,"",null,null,null,null,null," "]
[null,"",null,null,null,null,null," "]
[null,"",null,null,null,null,null," "]
[null,"",null,null,null,null,null," "]
[null,"",null,null,null,null,null," "]
[null,"",null,null,null,null,null," "]
[null,"",null,null,null,null,null," "]
[null,"",null,null,null,null,null," "]
[null,"",null,null,null,null,null," "]
[null,"",null,null,null,null,null," "]
[null,"",null,null,null,null,null," "]
[null,"",null,null,null,null,null," "]
[null,"",null,null,null,null,null," "]
[null,"",null,null,null,null,null," "]
[null,"",null,null,null,null,null," "]
[null,"",null,null,null,null,null," "]
[null,"",null,null,null,null,null," "]
[null,"",null,null,null,null,null," "]
[null,"",null,null,null,null,null," "]
[null,"",null,null,null,null,null," "]
[null,"",null,null,null,null,null," "]
[null,"",null,null,null,null,null," "]
[null,"",null,null,null,null,null," "]
[null,"",null,null,null,null,null," "]
[null,"",null,null,null,null,null," "]
[null,"",null,null,null,null,null," "]
[null,"",null,null,null,null,null," "]
[null,"",null,null,null,null,null," "]
[null,"",null,null,null,null,null," "]
[null,"",null,null,null,null,null," "]
[null,"",null,null,null,null,null," "]
[null,"",null,null,null,null,null," "]
[null,"",null,null,null,null,null," "]
[null,"",null,null,null,null,null," "]
[null,"",null,null,null,null,null," "]
[null,"",null,null,null,null,null," "]
[null,"",null,null,null,null,null," "]
[null,"",null,null,null,null,null," "]
[null,"",null,null,null,null,null," "]
[null,"",null,null,null,null,null," "]
[null,"",null,null,null,null,null," "]
[null,"",null,null,null,null,null," "]
[null,"",null,null,null,null,null," "]
[null,"",null,null,null,null,null," "]
[null,"",null,null,null,null,null," "]
[null,{"$f":"IF(C324=\"\",\"\",B323+1)","v":""},null,null,null,null,null,{"$f":"CONCATENATE(C324,\" \",D324)","v":" "}]
[null,"",null,null,null,null,null," "]
[null,"",null,null,null,null,null," "]
[null,"",null,null,null,null,null," "]
[null,"",null,null,null,null,null," "]
[null,"",null,null,null,null,null," "]
[null,"",null,null,null,null,null," "]
[null,"",null,null,null,null,null," "]
[null,"",null,null,null,null,null," "]
[null,"",null,null,null,null,null," "]
[null,"",null,null,null,null,null," "]
[null,"",null,null,null,null,null," "]
[null,"",null,null,null,null,null," "]
[null,"",null,null,null,null,null," "]
[null,"",null,null,null,null,null," "]
[null,"",null,null,null,null,null," "]
[null,"",null,null,null,null,null," "]
[null,"",null,null,null,null,null," "]
[null,"",null,null,null,null,null," "]
[null,"",null,null,null,null,null," "]
[null,"",null,null,null,null,null," "]
[null,"",null,null,null,null,null," "]
[null,"",null,null,null,null,null," "]
[null,"",null,null,null,null,null," "]
[null,"",null,null,null,null,null," "]
[null,"",null,null,null,null,null," "]
[null,"",null,null,null,null,null," "]
[null,"",null,null,null,null,null," "]
[null,"",null,null,null,null,null," "]
[null,"",null,null,null,null,null," "]
[null,"",null,null,null,null,null," "]
[null,"",null,null,null,null,null," "]
[null,"",null,null,null,null,null," "]
[null,"",null,null,null,null,null," "]
[null,"",null,null,null,null,null," "]
[null,"",null,null,null,null,null," "]
[null,"",null,null,null,null,null," "]
[null,"",null,null,null,null,null," "]
[null,"",null,null,null,null,null," "]
[null,"",null,null,null,null,null," "]
[null,"",null,null,null,null,null," "]
[null,"",null,null,null,null,null," "]
[null,"",null,null,null,null,null," "]
[null,"",null,null,null,null,null," "]
[null,"",null,null,null,null,null," "]
[null,"",null,null,null,null,null," "]
[null,"",null,null,null,null,null," "]
[null,"",null,null,null,null,null," "]
[null,"",null,null,null,null,null," "]
[null,"",null,null,null,null,null," "]
[null,"",null,null,null,null,null," "]
[null,"",null,null,null,null,null," "]
[null,"",null,null,null,null,null," "]
[null,"",null,null,null,null,null," "]
[null,"",null,null,null,null,null," "]
[null,"",null,null,null,null,null," "]
[null,"",null,null,null,null,null," "]
[null,"",null,null,null,null,null," "]
[null,"",null,null,null,null,null," "]
[null,"",null,null,null,null,null," "]
[null,"",null,null,null,null,null," "]
[null,"",null,null,null,null,null," "]
[null,"",null,null,null,null,null," "]
[null,"",null,null,null,null,null," "]
[null,{"$f":"IF(C388=\"\",\"\",B387+1)","v":""},null,null,null,null,null,{"$f":"CONCATENATE(C388,\" \",D388)","v":" "}]
[null,"",null,null,null,null,null," "]
[null,"",null,null,null,null,null," "]
[null,"",null,null,null,null,null," "]
[null,"",null,null,null,null,null," "]
[null,"",null,null,null,null,null," "]
[null,"",null,null,null,null,null," "]
[null,"",null,null,null,null,null," "]
[null,"",null,null,null,null,null," "]
[null,"",null,null,null,null,null," "]
[null,"",null,null,null,null,null," "]
[null,"",null,null,null,null,null," "]
[null,"",null,null,null,null,null," "]
[null,"",null,null,null,null,null," "]
[null,"",null,null,null,null,null," "]
[null,"",null,null,null,null,null," "]
[null,"",null,null,null,null,null," "]
[null,"",null,null,null,null,null," "]
[null,"",null,null,null,null,null," "]
[null,"",null,null,null,null,null," "]
[null,"",null,null,null,null,null," "]
[null,"",null,null,null,null,null," "]
[null,"",null,null,null,null,null," "]
[null,"",null,null,null,null,null," "]
[null,"",null,null,null,null,null," "]
[null,"",null,null,null,null,null," "]
[null,"",null,null,null,null,null," "]
[null,"",null,null,null,null,null," "]
[null,"",null,null,null,null,null," "]
[null,"",null,null,null,null,null," "]
[null,"",null,null,null,null,null," "]
[null,"",null,null,null,null,null," "]
[null,"",null,null,null,null,null," "]
[null,"",null,null,null,null,null," "]
[null,"",null,null,null,null,null," "]
[null,"",null,null,null,null,null," "]
[null,"",null,null,null,null,null," "]
[null,"",null,null,null,null,null," "]
[null,"",null,null,null,null,null," "]
[null,"",null,null,null,null,null," "]
[null,"",null,null,null,null,null," "]
[null,"",null,null,null,null,null," "]
[null,"",null,null,null,null,null," "]
[null,"",null,null,null,null,null," "]
[null,"",null,null,null,null,null," "]
[null,"",null,null,null,null,null," "]
[null,"",null,null,null,null,null," "]
[null,"",null,null,null,null,null," "]
[null,"",null,null,null,null,null," "]
[null,"",null,null,null,null,null," "]
[null,"",null,null,null,null,null," "]
[null,"",null,null,null,null,null," "]
[null,"",null,null,null,null,null," "]
[null,"",null,null,null,null,null," "]
[null,"",null,null,null,null,null," "]
[null,"",null,null,null,null,null," "]
[null,"",null,null,null,null,null," "]
[null,"",null,null,null,null,null," "]
[null,"",null,null,null,null,null," "]
[null,"",null,null,null,null,null," "]
[null,"",null,null,null,null,null," "]
[null,"",null,null,null,null,null," "]
[null,"",null,null,null,null,null," "]
[null,"",null,null,null,null,null," "]
[null,{"$f":"IF(C452=\"\",\"\",B451+1)","v":""},null,null,null,null,null,{"$f":"CONCATENATE(C452,\" \",D452)","v":" "}]
[null,"",null,null,null,null,null," "]
[null,"",null,null,null,null,null," "]
[null,"",null,null,null,null,null," "]
[null,"",null,null,null,null,null," "]
[null,"",null,null,null,null,null," "]
[null,"",null,null,null,null,null," "]
[null,"",null,null,null,null,null," "]
[null,"",null,null,null,null,null," "]
[null,"",null,null,null,null,null," "]
[null,"",null,null,null,null,null," "]
[null,"",null,null,null,null,null," "]
[null,"",null,null,null,null,null," "]
[null,"",null,null,null,null,null," "]
[null,"",null,null,null,null,null," "]
[null,"",null,null,null,null,null," "]
[null,"",null,null,null,null,null," "]
[null,"",null,null,null,null,null," "]
[null,"",null,null,null,null,null," "]
[null,"",null,null,null,null,null," "]
[null,"",null,null,null,null,null," "]
[null,"",null,null,null,null,null," "]
[null,"",null,null,null,null,null," "]
[null,"",null,null,null,null,null," "]
[null,"",null,null,null,null,null," "]
[null,"",null,null,null,null,null," "]
[null,"",null,null,null,null,null," "]
[null,"",null,null,null,null,null," "]
[null,"",null,null,null,null,null," "]
[null,"",null,null,null,null,null," "]
[null,"",null,null,null,null,null," "]
[null,"",null,null,null,null,null," "]
[null,"",null,null,null,null,null," "]
[null,"",null,null,null,null,null," "]
[null,"",null,null,null,null,null," "]
[null,"",null,null,null,null,null," "]
[null,"",null,null,null,null,null," "]
[null,"",null,null,null,null,null," "]
[null,"",null,null,null,null,null," "]
[null,"",null,null,null,null,null," "]
[null,"",null,null,null,null,null," "]
[null,"",null,null,null,null,null," "]
[null,"",null,null,null,null,null," "]
[null,"",null,null,null,null,null," "]
[null,"",null,null,null,null,null," "]
[null,"",null,null,null,null,null," "]
[null,"",null,null,null,null,null," "]
[null,"",null,null,null,null,null," "]
[null,"",null,null,null,null,null," "]
[null,"",null,null,null,null,null," "]
[null,"",null,null,null,null,null," "]
[null,"",null,null,null,null,null," "]
[null,"",null,null,null,null,null," "]
[null,"",null,null,null,null,null," "]
[null,"",null,null,null,null,null," "]
[null,"",null,null,null,null,null," "]
[null,"",null,null,null,null,null," "]
[null,"",null,null,null,null,null," "]
[null,"",null,null,null,null,null," "]
[null,"",null,null,null,null,null," "]
[null,"",null,null,null,null,null," "]
[null,"",null,null,null,null,null," "]
[null,"",null,null,null,null,null," "]
[null,"",null,null,null,null,null," "]
[null,{"$f":"IF(C516=\"\",\"\",B515+1)","v":""},null,null,null,null,null,{"$f":"CONCATENATE(C516,\" \",D516)","v":" "}]
[null,"",null,null,null,null,null," "]
[null,"",null,null,null,null,null," "]
[null,"",null,null,null,null,null," "]
[null,"",null,null,null,null,null," "]
[null,"",null,null,null,null,null," "]
[null,"",null,null,null,null,null," "]
[null,"",null,null,null,null,null," "]
[null,"",null,null,null,null,null," "]
[null,"",null,null,null,null,null," "]
[null,"",null,null,null,null,null," "]
[null,"",null,null,null,null,null," "]
[null,"",null,null,null,null,null," "]
[null,"",null,null,null,null,null," "]
[null,"",null,null,null,null,null," "]
[null,"",null,null,null,null,null," "]
[null,"",null,null,null,null,null," "]
[null,"",null,null,null,null,null," "]
[null,"",null,null,null,null,null," "]
[null,"",null,null,null,null,null," "]
[null,"",null,null,null,null,null," "]
[null,"",null,null,null,null,null," "]
[null,"",null,null,null,null,null," "]
[null,"",null,null,null,null,null," "]
[null,"",null,null,null,null,null," "]
[null,"",null,null,null,null,null," "]
[null,"",null,null,null,null,null," "]
[null,"",null,null,null,null,null," "]
[null,"",null,null,null,null,null," "]
[null,"",null,null,null,null,null," "]
[null,"",null,null,null,null,null," "]
[null,"",null,null,null,null,null," "]
[null,"",null,null,null,null,null," "]
[null,"",null,null,null,null,null," "]
[null,"",null,null,null,null,null," "]
[null,"",null,null,null,null,null," "]
[null,"",null,null,null,null,null," "]
[null,"",null,null,null,null,null," "]
[null,"",null,null,null,null,null," "]
[null,"",null,null,null,null,null," "]
[null,"",null,null,null,null,null," "]
[null,"",null,null,null,null,null," "]
[null,"",null,null,null,null,null," "]
[null,"",null,null,null,null,null," "]
[null,"",null,null,null,null,null," "]
[null,"",null,null,null,null,null," "]
[null,"",null,null,null,null,null," "]
[null,"",null,null,null,null,null," "]
[null,"",null,null,null,null,null," "]
[null,"",null,null,null,null,null," "]
[null,"",null,null,null,null,null," "]
[null,"",null,null,null,null,null," "]
[null,"",null,null,null,null,null," "]
[null,"",null,null,null,null,null," "]
[null,"",null,null,null,null,null," "]
[null,"",null,null,null,null,null," "]
[null,"",null,null,null,null,null," "]
[null,"",null,null,null,null,null," "]
[null,"",null,null,null,null,null," "]
[null,"",null,null,null,null,null," "]
[null,"",null,null,null,null,null," "]
[null,"",null,null,null,null,null," "]
[null,"",null,null,null,null,null," "]
[null,"",null,null,null,null,null," "]
[null,{"$f":"IF(C580=\"\",\"\",B579+1)","v":""},null,null,null,null,null,{"$f":"CONCATENATE(C580,\" \",D580)","v":" "}]
[null,"",null,null,null,null,null," "]
[null,"",null,null,null,null,null," "]
[null,"",null,null,null,null,null," "]
[null,"",null,null,null,null,null," "]
[null,"",null,null,null,null,null," "]
[null,"",null,null,null,null,null," "]
[null,"",null,null,null,null,null," "]
[null,"",null,null,null,null,null," "]
[null,"",null,null,null,null,null," "]
[null,"",null,null,null,null,null," "]
[null,"",null,null,null,null,null," "]
[null,"",null,null,null,null,null," "]
[null,"",null,null,null,null,null," "]
[null,"",null,null,null,null,null," "]
[null,"",null,null,null,null,null," "]
[null,"",null,null,null,null,null," "]
[null,"",null,null,null,null,null," "]
[null,"",null,null,null,null,null," "]
[null,"",null,null,null,null,null," "]
[null,"",null,null,null,null,null," "]
[null,"",null,null,null,null,null," "]
[null,"",null,null,null,null,null," "]
[null,"",null,null,null,null,null," "]
[null,"",null,null,null,null,null," "]
[null,"",null,null,null,null,null," "]
[null,"",null,null,null,null,null," "]
[null,"",null,null,null,null,null," "]
[null,"",null,null,null,null,null," "]
[null,"",null,null,null,null,null," "]
[null,"",null,null,null,null,null," "]
[null,"",null,null,null,null,null," "]
[null,"",null,null,null,null,null," "]
[null,"",null,null,null,null,null," "]
[null,"",null,null,null,null,null," "]
[null,"",null,null,null,null,null," "]
[null,"",null,null,null,null,null," "]
[null,"",null,null,null,null,null," "]
[null,"",null,null,null,null,null," "]
[null,"",null,null,null,null,null," "]
[null,"",null,null,null,null,null," "]
[null,"",null,null,null,null,null," "]
[null,"",null,null,null,null,null," "]
[null,"",null,null,null,null,null," "]
[null,"",null,null,null,null,null," "]
[null,"",null,null,null,null,null," "]
[null,"",null,null,null,null,null," "]
[null,"",null,null,null,null,null," "]
[null,"",null,null,null,null,null," "]
[null,"",null,null,null,null,null," "]
[null,"",null,null,null,null,null," "]
[null,"",null,null,null,null,null," "]
[null,"",null,null,null,null,null," "]
[null,"",null,null,null,null,null," "]
[null,"",null,null,null,null,null," "]
[null,"",null,null,null,null,null," "]
[null,"",null,null,null,null,null," "]
[null,"",null,null,null,null,null," "]
[null,"",null,null,null,null,null," "]
[null,"",null,null,null,null,null," "]
[null,"",null,null,null,null,null," "]
[null,"",null,null,null,null,null," "]
[null,"",null,null,null,null,null," "]
[null,"",null,null,null,null,null," "]
[null,{"$f":"IF(C644=\"\",\"\",B643+1)","v":""},null,null,null,null,null,{"$f":"CONCATENATE(C644,\" \",D644)","v":" "}]
[null,"",null,null,null,null,null," "]
[null,"",null,null,null,null,null," "]
[null,"",null,null,null,null,null," "]
[null,"",null,null,null,null,null," "]
[null,"",null,null,null,null,null," "]
[null,"",null,null,null,null,null," "]
[null,"",null,null,null,null,null," "]
[null,"",null,null,null,null,null," "]
[null,"",null,null,null,null,null," "]
[null,"",null,null,null,null,null," "]
[null,"",null,null,null,null,null," "]
[null,"",null,null,null,null,null," "]
[null,"",null,null,null,null,null," "]
[null,"",null,null,null,null,null," "]
[null,"",null,null,null,null,null," "]
[null,"",null,null,null,null,null," "]
[null,"",null,null,null,null,null," "]
[null,"",null,null,null,null,null," "]
[null,"",null,null,null,null,null," "]
[null,"",null,null,null,null,null," "]
[null,"",null,null,null,null,null," "]
[null,"",null,null,null,null,null," "]
[null,"",null,null,null,null,null," "]
[null,"",null,null,null,null,null," "]
[null,"",null,null,null,null,null," "]
[null,"",null,null,null,null,null," "]
[null,"",null,null,null,null,null," "]
[null,"",null,null,null,null,null," "]
[null,"",null,null,null,null,null," "]
[null,"",null,null,null,null,null," "]
[null,"",null,null,null,null,null," "]
[null,"",null,null,null,null,null," "]
[null,"",null,null,null,null,null," "]
[null,"",null,null,null,null,null," "]
[null,"",null,null,null,null,null," "]
[null,"",null,null,null,null,null," "]
[null,"",null,null,null,null,null," "]
[null,"",null,null,null,null,null," "]
[null,"",null,null,null,null,null," "]
[null,"",null,null,null,null,null," "]
[null,"",null,null,null,null,null," "]
[null,"",null,null,null,null,null," "]
[null,"",null,null,null,null,null," "]
[null,"",null,null,null,null,null," "]
[null,"",null,null,null,null,null," "]
[null,"",null,null,null,null,null," "]
[null,"",null,null,null,null,null," "]
[null,"",null,null,null,null,null," "]
[null,"",null,null,null,null,null," "]
[null,"",null,null,null,null,null," "]
[null,"",null,null,null,null,null," "]
[null,"",null,null,null,null,null," "]
[null,"",null,null,null,null,null," "]
[null,"",null,null,null,null,null," "]
[null,"",null,null,null,null,null," "]
[null,"",null,null,null,null,null," "]
[null,"",null,null,null,null,null," "]
[null,"",null,null,null,null,null," "]
[null,"",null,null,null,null,null," "]
[null,"",null,null,null,null,null," "]
[null,"",null,null,null,null,null," "]
[null,"",null,null,null,null,null," "]
[null,"",null,null,null,null,null," "]
[null,{"$f":"IF(C708=\"\",\"\",B707+1)","v":""},null,null,null,null,null,{"$f":"CONCATENATE(C708,\" \",D708)","v":" "}]
[null,"",null,null,null,null,null," "]
[null,"",null,null,null,null,null," "]
[null,"",null,null,null,null,null," "]
[null,"",null,null,null,null,null," "]
[null,"",null,null,null,null,null," "]
[null,"",null,null,null,null,null," "]
[null,"",null,null,null,null,null," "]
[null,"",null,null,null,null,null," "]
[null,"",null,null,null,null,null," "]
[null,"",null,null,null,null,null," "]
[null,"",null,null,null,null,null," "]
[null,"",null,null,null,null,null," "]
[null,"",null,null,null,null,null," "]
[null,"",null,null,null,null,null," "]
[null,"",null,null,null,null,null," "]
[null,"",null,null,null,null,null," "]
[null,"",null,null,null,null,null," "]
[null,"",null,null,null,null,null," "]
[null,"",null,null,null,null,null," "]
[null,"",null,null,null,null,null," "]
[null,"",null,null,null,null,null," "]
[null,"",null,null,null,null,null," "]
[null,"",null,null,null,null,null," "]
[null,"",null,null,null,null,null," "]
[null,"",null,null,null,null,null," "]
[null,"",null,null,null,null,null," "]
[null,"",null,null,null,null,null," "]
[null,"",null,null,null,null,null," "]
[null,"",null,null,null,null,null," "]
[null,"",null,null,null,null,null," "]
[null,"",null,null,null,null,null," "]
[null,"",null,null,null,null,null," "]
[null,"",null,null,null,null,null," "]
[null,"",null,null,null,null,null," "]
[null,"",null,null,null,null,null," "]
[null,"",null,null,null,null,null," "]
[null,"",null,null,null,null,null," "]
[null,"",null,null,null,null,null," "]
[null,"",null,null,null,null,null," "]
[null,"",null,null,null,null,null," "]
[null,"",null,null,null,null,null," "]
[null,"",null,null,null,null,null," "]
[null,"",null,null,null,null,null," "]
[null,"",null,null,null,null,null," "]
[null,"",null,null,null,null,null," "]
[null,"",null,null,null,null,null," "]
[null,"",null,null,null,null,null," "]
[null,"",null,null,null,null,null," "]
[null,"",null,null,null,null,null," "]
[null,"",null,null,null,null,null," "]
[null,"",null,null,null,null,null," "]
[null,"",null,null,null,null,null," "]
[null,"",null,null,null,null,null," "]
[null,"",null,null,null,null,null," "]
[null,"",null,null,null,null,null," "]
[null,"",null,null,null,null,null," "]
[null,"",null,null,null,null,null," "]
[null,"",null,null,null,null,null," "]
[null,"",null,null,null,null,null," "]
[null,"",null,null,null,null,null," "]
[null,"",null,null,null,null,null," "]
[null,"",null,null,null,null,null," "]
[null,"",null,null,null,null,null," "]
[null,{"$f":"IF(C772=\"\",\"\",B771+1)","v":""},null,null,null,null,null,{"$f":"CONCATENATE(C772,\" \",D772)","v":" "}]
[null,"",null,null,null,null,null," "]
[null,"",null,null,null,null,null," "]
[null,"",null,null,null,null,null," "]
[null,"",null,null,null,null,null," "]
[null,"",null,null,null,null,null," "]
[null,"",null,null,null,null,null," "]
[null,"",null,null,null,null,null," "]
[null,"",null,null,null,null,null," "]
[null,"",null,null,null,null,null," "]
[null,"",null,null,null,null,null," "]
[null,"",null,null,null,null,null," "]
[null,"",null,null,null,null,null," "]
[null,"",null,null,null,null,null," "]
[null,"",null,null,null,null,null," "]
[null,"",null,null,null,null,null," "]
[null,"",null,null,null,null,null," "]
[null,"",null,null,null,null,null," "]
[null,"",null,null,null,null,null," "]
[null,"",null,null,null,null,null," "]
[null,"",null,null,null,null,null," "]
[null,"",null,null,null,null,null," "]
[null,"",null,null,null,null,null," "]
[null,"",null,null,null,null,null," "]
[null,"",null,null,null,null,null," "]
[null,"",null,null,null,null,null," "]
[null,"",null,null,null,null,null," "]
[null,"",null,null,null,null,null," "]
[null,"",null,null,null,null,null," "]
[null,"",null,null,null,null,null," "]
[null,"",null,null,null,null,null," "]
[null,"",null,null,null,null,null," "]
[null,"",null,null,null,null,null," "]
[null,"",null,null,null,null,null," "]
[null,"",null,null,null,null,null," "]
[null,"",null,null,null,null,null," "]
[null,"",null,null,null,null,null," "]
[null,"",null,null,null,null,null," "]
[null,"",null,null,null,null,null," "]
[null,"",null,null,null,null,null," "]
[null,"",null,null,null,null,null," "]
[null,"",null,null,null,null,null," "]
[null,"",null,null,null,null,null," "]
[null,"",null,null,null,null,null," "]
[null,"",null,null,null,null,null," "]
[null,"",null,null,null,null,null," "]
[null,"",null,null,null,null,null," "]
[null,"",null,null,null,null,null," "]
[null,"",null,null,null,null,null," "]
[null,"",null,null,null,null,null," "]
[null,"",null,null,null,null,null," "]
[null,"",null,null,null,null,null," "]
[null,"",null,null,null,null,null," "]
[null,"",null,null,null,null,null," "]
[null,"",null,null,null,null,null," "]
[null,"",null,null,null,null,null," "]
[null,"",null,null,null,null,null," "]
[null,"",null,null,null,null,null," "]
[null,"",null,null,null,null,null," "]
[null,"",null,null,null,null,null," "]
[null,"",null,null,null,null,null," "]
[null,"",null,null,null,null,null," "]
[null,"",null,null,null,null,null," "]
[null,"",null,null,null,null,null," "]
[null,{"$f":"IF(C836=\"\",\"\",B835+1)","v":""},null,null,null,null,null,{"$f":"CONCATENATE(C836,\" \",D836)","v":" "}]
[null,"",null,null,null,null,null," "]
[null,"",null,null,null,null,null," "]
[null,"",null,null,null,null,null," "]
[null,"",null,null,null,null,null," "]
[null,"",null,null,null,null,null," "]
[null,"",null,null,null,null,null," "]
[null,"",null,null,null,null,null," "]
[null,"",null,null,null,null,null," "]
[null,"",null,null,null,null,null," "]
[null,"",null,null,null,null,null," "]
[null,"",null,null,null,null,null," "]
[null,"",null,null,null,null,null," "]
[null,"",null,null,null,null,null," "]
[null,"",null,null,null,null,null," "]
[null,"",null,null,null,null,null," "]
[null,"",null,null,null,null,null," "]
[null,"",null,null,null,null,null," "]
[null,"",null,null,null,null,null," "]
[null,"",null,null,null,null,null," "]
[null,"",null,null,null,null,null," "]
[null,"",null,null,null,null,null," "]
[null,"",null,null,null,null,null," "]
[null,"",null,null,null,null,null," "]
[null,"",null,null,null,null,null," "]
[null,"",null,null,null,null,null," "]
[null,"",null,null,null,null,null," "]
[null,"",null,null,null,null,null," "]
[null,"",null,null,null,null,null," "]
[null,"",null,null,null,null,null," "]
[null,"",null,null,null,null,null," "]
[null,"",null,null,null,null,null," "]
[null,"",null,null,null,null,null," "]
[null,"",null,null,null,null,null," "]
[null,"",null,null,null,null,null," "]
[null,"",null,null,null,null,null," "]
[null,"",null,null,null,null,null," "]
[null,"",null,null,null,null,null," "]
[null,"",null,null,null,null,null," "]
[null,"",null,null,null,null,null," "]
[null,"",null,null,null,null,null," "]
[null,"",null,null,null,null,null," "]
[null,"",null,null,null,null,null," "]
[null,"",null,null,null,null,null," "]
[null,"",null,null,null,null,null," "]
[null,"",null,null,null,null,null," "]
[null,"",null,null,null,null,null," "]
[null,"",null,null,null,null,null," "]
[null,"",null,null,null,null,null," "]
[null,"",null,null,null,null,null," "]
[null,"",null,null,null,null,null," "]
[null,"",null,null,null,null,null," "]
[null,"",null,null,null,null,null," "]
[null,"",null,null,null,null,null," "]
[null,"",null,null,null,null,null," "]
[null,"",null,null,null,null,null," "]
[null,"",null,null,null,null,null," "]
[null,"",null,null,null,null,null," "]
[null,"",null,null,null,null,null," "]
[null,"",null,null,null,null,null," "]
[null,"",null,null,null,null,null," "]
[null,"",null,null,null,null,null," "]
[null,"",null,null,null,null,null," "]
[null,"",null,null,null,null,null," "]
[null,{"$f":"IF(C900=\"\",\"\",B899+1)","v":""},null,null,null,null,null,{"$f":"CONCATENATE(C900,\" \",D900)","v":" "}]
[null,"",null,null,null,null,null," "]
[null,"",null,null,null,null,null," "]
[null,"",null,null,null,null,null," "]
[null,"",null,null,null,null,null," "]
[null,"",null,null,null,null,null," "]
[null,"",null,null,null,null,null," "]
[null,"",null,null,null,null,null," "]
[null,"",null,null,null,null,null," "]
[null,"",null,null,null,null,null," "]
[null,"",null,null,null,null,null," "]
[null,"",null,null,null,null,null," "]
[null,"",null,null,null,null,null," "]
[null,"",null,null,null,null,null," "]
[null,"",null,null,null,null,null," "]
[null,"",null,null,null,null,null," "]
[null,"",null,null,null,null,null," "]
[null,"",null,null,null,null,null," "]
[null,"",null,null,null,null,null," "]
[null,"",null,null,null,null,null," "]
[null,"",null,null,null,null,null," "]
[null,"",null,null,null,null,null," "]
[null,"",null,null,null,null,null," "]
[null,"",null,null,null,null,null," "]
[null,"",null,null,null,null,null," "]
[null,"",null,null,null,null,null," "]
[null,"",null,null,null,null,null," "]
[null,"",null,null,null,null,null," "]
[null,"",null,null,null,null,null," "]
[null,"",null,null,null,null,null," "]
[null,"",null,null,null,null,null," "]
[null,"",null,null,null,null,null," "]
[null,"",null,null,null,null,null," "]
[null,"",null,null,null,null,null," "]
[null,"",null,null,null,null,null," "]
[null,"",null,null,null,null,null," "]
[null,"",null,null,null,null,null," "]
[null,"",null,null,null,null,null," "]
[null,"",null,null,null,null,null," "]
[null,"",null,null,null,null,null," "]
[null,"",null,null,null,null,null," "]
[null,"",null,null,null,null,null," "]
[null,"",null,null,null,null,null," "]
[null,"",null,null,null,null,null," "]
[null,"",null,null,null,null,null," "]
[null,"",null,null,null,null,null," "]
[null,"",null,null,null,null,null," "]
[null,"",null,null,null,null,null," "]
[null,"",null,null,null,null,null," "]
[null,"",null,null,null,null,null," "]
[null,"",null,null,null,null,null," "]
[null,"",null,null,null,null,null," "]
[null,"",null,null,null,null,null," "]
[null,"",null,null,null,null,null," "]
[null,"",null,null,null,null,null," "]
[null,"",null,null,null,null,null," "]
[null,"",null,null,null,null,null," "]
[null,"",null,null,null,null,null," "]
[null,"",null,null,null,null,null," "]
[null,"",null,null,null,null,null," "]
[null,"",null,null,null,null,null," "]
[null,"",null,null,null,null,null," "]
[null,"",null,null,null,null,null," "]
[null,"",null,null,null,null,null," "]
[null,{"$f":"IF(C964=\"\",\"\",B963+1)","v":""},null,null,null,null,null,{"$f":"CONCATENATE(C964,\" \",D964)","v":" "}]
[null,"",null,null,null,null,null," "]
[null,"",null,null,null,null,null," "]
[null,"",null,null,null,null,null," "]
[null,"",null,null,null,null,null," "]
[null,"",null,null,null,null,null," "]
[null,"",null,null,null,null,null," "]
[null,"",null,null,null,null,null," "]
[null,"",null,null,null,null,null," "]
[null,"",null,null,null,null,null," "]
[null,"",null,null,null,null,null," "]
[null,"",null,null,null,null,null," "]
[null,"",null,null,null,null,null," "]
[null,"",null,null,null,null,null," "]
[null,"",null,null,null,null,null," "]
[null,"",null,null,null,null,null," "]
[null,"",null,null,null,null,null," "]
[null,"",null,null,null,null,null," "]
[null,"",null,null,null,null,null," "]
[null,"",null,null,null,null,null," "]
[null,"",null,null,null,null,null," "]
[null,"",null,null,null,null,null," "]
[null,"",null,null,null,null,null," "]
[null,"",null,null,null,null,null," "]
[null,"",null,null,null,null,null," "]
[null,"",null,null,null,null,null," "]
[null,"",null,null,null,null,null," "]
[null,"",null,null,null,null,null," "]
[null,"",null,null,null,null,null," "]
[null,"",null,null,null,null,null," "]
[null,"",null,null,null,null,null," "]
[null,"",null,null,null,null,null," "]
[null,"",null,null,null,null,null," "]
[null,"",null,null,null,null,null," "]
[null,"",null,null,null,null,null," "]
[]
[]
[null,{"$f":"IF(C1001=\"\",\"\",B1000+1)","v":""},null,null,null,null,null," "]
[null,"",null,null,null,null,null," "]
[null,"",null,null,null,null,null," "]
[null,"",null,null,null,null,null," "]
[null,"",null,null,null,null,null," "]
[null,"",null,null,null,null,null," "]
[null,"",null,null,null,null,null," "]
[null,"",null,null,null,null,null," "]
[null,"",null,null,null,null,null," "]
[null,"",null,null,null,null,null," "]
[null,"",null,null,null,null,null," "]
[null,"",null,null,null,null,null," "]
[null,"",null,null,null,null,null," "]
[null,"",null,null,null,null,null," "]
[null,"",null,null,null,null,null," "]
[null,"",null,null,null,null,null," "]
[null,"",null,null,null,null,null," "]
[null,"",null,null,null,null,null," "]
[null,"",null,null,null,null,null," "]
[null,"",null,null,null,null,null," "]
[null,"",null,null,null,null,null," "]
[null,"",null,null,null,null,null," "]
[null,"",null,null,null,null,null," "]
[null,"",null,null,null,null,null," "]
[null,"",null,null,null,null,null," "]
[null,"",null,null,null,null,null," "]
[null,"",null,null,null,null,null," "]
[null,{"$f":"IF(C1028=\"\",\"\",B1027+1)","v":""},null,null,null,null,null,{"$f":"CONCATENATE(C1028,\" \",D1028)","v":" "}]
[null,"",null,null,null,null,null," "]
[null,"",null,null,null,null,null," "]
[null,"",null,null,null,null,null," "]
[null,"",null,null,null,null,null," "]
[null,"",null,null,null,null,null," "]
[null,"",null,null,null,null,null," "]
[null,"",null,null,null,null,null," "]
[null,"",null,null,null,null,null," "]
[null,"",null,null,null,null,null," "]
[null,"",null,null,null,null,null," "]
[null,"",null,null,null,null,null," "]
[null,"",null,null,null,null,null," "]
[null,"",null,null,null,null,null," "]
[null,"",null,null,null,null,null," "]
[null,"",null,null,null,null,null," "]
[null,"",null,null,null,null,null," "]
[null,"",null,null,null,null,null," "]
[null,"",null,null,null,null,null," "]
[null,"",null,null,null,null,null," "]
[null,"",null,null,null,null,null," "]
[null,"",null,null,null,null,null," "]
[null,"",null,null,null,null,null," "]
[null,"",null,null,null,null,null," "]
[null,"",null,null,null,null,null," "]
[null,"",null,null,null,null,null," "]
[null,"",null,null,null,null,null," "]
[null,"",null,null,null,null,null," "]
[null,"",null,null,null,null,null," "]
[null,"",null,null,null,null,null," "]
[null,"",null,null,null,null,null," "]
[null,"",null,null,null,null,null," "]
[null,"",null,null,null,null,null," "]
[null,"",null,null,null,null,null," "]
[null,"",null,null,null,null,null," "]
[null,"",null,null,null,null,null," "]
[null,"",null,null,null,null,null," "]
[null,"",null,null,null,null,null," "]
[null,"",null,null,null,null,null," "]
[null,"",null,null,null,null,null," "]
[null,"",null,null,null,null,null," "]
[null,"",null,null,null,null,null," "]
[null,"",null,null,null,null,null," "]
[null,"",null,null,null,null,null," "]
[null,"",null,null,null,null,null," "]
[null,"",null,null,null,null,null," "]
[null,"",null,null,null,null,null," "]
[null,"",null,null,null,null,null," "]
[null,"",null,null,null,null,null," "]
[null,"",null,null,null,null,null," "]
[null,"",null,null,null,null,null," "]
[null,"",null,null,null,null,null," "]
[null,"",null,null,null,null,null," "]
[null,"",null,null,null,null,null," "]
[null,"",null,null,null,null,null," "]
[null,"",null,null,null,null,null," "]
[null,"",null,null,null,null,null," "]
[null,"",null,null,null,null,null," "]
[null,"",null,null,null,null,null," "]
[null,"",null,null,null,null,null," "]
[null,"",null,null,null,null,null," "]
[null,"",null,null,null,null,null," "]
[null,"",null,null,null,null,null," "]
[null,"",null,null,null,null,null," "]
[null,{"$f":"IF(C1092=\"\",\"\",B1091+1)","v":""},null,null,null,null,null,{"$f":"CONCATENATE(C1092,\" \",D1092)","v":" "}]
[null,"",null,null,null,null,null," "]
[null,"",null,null,null,null,null," "]
[null,"",null,null,null,null,null," "]
[null,"",null,null,null,null,null," "]
[null,"",null,null,null,null,null," "]
[null,"",null,null,null,null,null," "]
[null,"",null,null,null,null,null," "]
[null,""]
[null,""]
[null,""]
[null,""]
[null,""]
[null,""]
[null,""]
[null,""]
[null,""]
[null,""]
[null,""]
[null,""]
[null,""]
[null,""]
[null,""]
[null,""]
[null,""]
[null,""]
[null,""]
[null,""]
[null,""]
[null,""]
[null,""]
[null,""]
[null,""]
[null,""]
[null,""]
[null,""]
[null,""]
[null,""]
[null,""]
[null,""]
[null,""]
[null,""]
[null,""]
[null,""]
[null,""]
[null,""]
[null,""]
[null,""]
[null,""]
[null,""]
[null,""]
[null,""]
[null,""]
[null,""]
[null,""]
[null,""]
[null,""]
[null,""]
[null,""]
[null,""]
[null,""]
[null,""]
[null,""]
[null,""]
[null,{"$f":"IF(C1156=\"\",\"\",B1155+1)","v":""}]
[null,""]
[null,""]
[null,""]
[null,""]
[null,""]
[null,""]
[null,""]
[null,""]
[null,""]
[null,""]
[null,""]
[null,""]
[null,""]
[null,""]
[null,""]
[null,""]
[null,""]
[null,""]
[null,""]
[null,""]
[null,""]
[null,""]
[null,""]
[null,""]
[null,""]
[null,""]
[null,""]
[null,""]
[null,""]
[null,""]
[null,""]
[null,""]
[null,""]
[null,""]
[null,""]
[null,""]
[null,""]
[null,""]
[null,""]
[null,""]
[null,""]
[null,""]
[null,""]
[null,""]
[null,""]
[null,""]
[null,""]
[null,""]
[null,""]
[null,""]
[null,""]
[null,""]
[null,""]
[null,""]
[null,""]
[null,""]
[null,""]
[null,""]
[null,""]
[null,""]
[null,""]
[null,""]
[null,""]
[null,{"$f":"IF(C1220=\"\",\"\",B1219+1)","v":""}]
[null,""]
[null,""]
[null,""]
[null,""]
[null,""]
[null,""]
[null,""]
[null,""]
[null,""]
[null,""]
[null,""]
[null,""]
[null,""]
[null,""]
[null,""]
[null,""]
[null,""]
[null,""]
[null,""]
[null,""]
[null,""]
[null,""]
[null,""]
[null,""]
[null,""]
[null,""]
[null,""]
[null,""]
[null,""]
[null,""]
[null,""]
[null,""]
[null,""]
[null,""]
[null,""]
[null,""]
[null,""]
[null,""]
[null,""]
[null,""]
[null,""]
[null,""]
[null,""]
[null,""]
[null,""]
[null,""]
[null,""]
[null,""]
[null,""]
[null,""]
[null,""]
[null,""]
[null,""]
[null,""]
[null,""]
[null,""]
[null,""]
[null,""]
[null,""]
[null,""]
[null,""]
[null,""]
[null,""]
[null,{"$f":"IF(C1284=\"\",\"\",B1283+1)","v":""}]
[null,""]
[null,""]
[null,""]
[null,""]
[null,""]
[null,""]
[null,""]
[null,""]
[null,""]
[null,""]
[null,""]
[null,""]
[null,""]
[null,""]
[null,""]
[null,""]
[null,""]
[null,""]
[null,""]
[null,""]
[null,""]
[null,""]
[null,""]
[null,""]
[null,""]
[null,""]
[null,""]
[null,""]
[null,""]
[null,""]
[null,""]
[null,""]
[null,""]
[null,""]
[null,""]
[null,""]
[null,""]
[null,""]
[null,""]
[null,""]
[null,""]
[null,""]
[null,""]
[null,""]
[null,""]
[null,""]
[null,""]
[null,""]
[null,""]
[null,""]
[null,""]
[null,""]
[null,""]
[null,""]
[null,""]
[null,""]
[null,""]
[null,""]
[null,""]
[null,""]
[null,""]
[null,""]
[null,""]
[null,{"$f":"IF(C1348=\"\",\"\",B1347+1)","v":""}]
[null,""]
[null,""]
[null,""]
[null,""]
[null,""]
[null,""]
[null,""]
[null,""]
[null,""]
[null,""]
[null,""]
[null,""]
[null,""]
[null,""]
[null,""]
[null,""]
[null,""]
[null,""]
[null,""]
[null,""]
[null,""]
[null,""]
[null,""]
[null,""]
[null,""]
[null,""]
[null,""]
[null,""]
[null,""]
[null,""]
[null,""]
[null,""]
[null,""]
[null,""]
[null,""]
[null,""]
[null,""]
[null,""]
[null,""]
[null,""]
[null,""]
[null,""]
[null,""]
[null,""]
[null,""]
[null,""]
[null,""]
[null,""]
[null,""]
[null,""]
[null,""]
[null,""]
[null,""]
[null,""]
[null,""]
[null,""]
[null,""]
[null,""]
[null,""]
[null,""]
[null,""]
[null,""]
[null,""]
[null,{"$f":"IF(C1412=\"\",\"\",B1411+1)","v":""}]
[null,""]
[null,""]
[null,""]
[null,""]
[null,""]
[null,""]
[null,""]
[null,""]
[null,""]
[null,""]
[null,""]
[null,""]
[null,""]
[null,""]
[null,""]
[null,""]
[null,""]
[null,""]
[null,""]
[null,""]
[null,""]
[null,""]
[null,""]
[null,""]
[null,""]
[null,""]
[null,""]
[null,""]
[null,""]
[null,""]
[null,""]
[null,""]
[null,""]
[null,""]
[null,""]
[null,""]
[null,""]
[null,""]
[null,""]
[null,""]
[null,""]
[null,""]
[null,""]
[null,""]
[null,""]
[null,""]
[null,""]
[null,""]
[null,""]
[null,""]
[null,""]
[null,""]
[null,""]
[null,""]
[null,""]
[null,""]
[null,""]
[null,""]
[null,""]
[null,""]
[null,""]
[null,""]
[null,""]
[null,{"$f":"IF(C1476=\"\",\"\",B1475+1)","v":""}]
[null,""]
[null,""]
[null,""]
[null,""]
[null,""]
[null,""]
[null,""]
[null,""]
[null,""]
[null,""]
[null,""]
[null,""]
[null,""]
[null,""]
[null,""]
[null,""]
[null,""]
[null,""]
[null,""]
[null,""]
[null,""]
[null,""]
[null,""]
[null,""]
[null,""]
[null,""]
[null,""]
[null,""]
[null,""]
[null,""]
[null,""]
[null,""]
[null,""]
[null,""]
[null,""]
[null,""]
[null,""]
[null,""]
[null,""]
[null,""]
[null,""]
[null,""]
[null,""]
[null,""]
[null,""]
[null,""]
[null,""]
[null,""]
[null,""]
[null,""]
[null,""]
[null,""]
[null,""]
[null,""]
[null,""]
[null,""]
[null,""]
[null,""]
[null,""]
[null,""]
[null,""]
[null,""]
[null,""]
[null,{"$f":"IF(C1540=\"\",\"\",B1539+1)","v":""}]
[null,""]
[null,""]
[null,""]
[null,""]
[null,""]
[null,""]
[null,""]
[null,""]
[null,""]
[null,""]
[null,""]
[null,""]
[null,""]
[null,""]
[null,""]
[null,""]
[null,""]
[null,""]
[null,""]
[null,""]
[null,""]
[null,""]
[null,""]
[null,""]
[null,""]
[null,""]
[null,""]
[null,""]
[null,""]
[null,""]
[null,""]
[null,""]
[null,""]
[null,""]
[null,""]
[null,""]
[null,""]
[null,""]
[null,""]
[null,""]
[null,""]
[null,""]
[null,""]
[null,""]
[null,""]
[null,""]
[null,""]
[null,""]
[null,""]
[null,""]
[null,""]
[null,""]
[null,""]
[null,""]
[null,""]
[null,""]
[null,""]
[null,""]
[null,""]
[null,""]
[null,""]
[null,""]
[null,""]
[null,{"$f":"IF(C1604=\"\",\"\",B1603+1)","v":""}]
[null,""]
[null,""]
[null,""]
[null,""]
[null,""]
[null,""]
[null,""]
[null,""]
[null,""]
[null,""]
[null,""]
[null,""]
[null,""]
[null,""]
[null,""]
[null,""]
[null,""]
[null,""]
[null,""]
[null,""]
[null,""]
[null,""]
[null,""]
[null,""]
[null,""]
[null,""]
[null,""]
[null,""]
[null,""]
[null,""]
[null,""]
[null,""]
[null,""]
[null,""]
[null,""]
[null,""]
[null,""]
[null,""]
[null,""]
[null,""]
[null,""]
[null,""]
[null,""]
[null,""]
[null,""]
[null,""]
[null,""]
[null,""]
[null,""]
[null,""]
[null,""]
[null,""]
[null,""]
[null,""]
[null,""]
[null,""]
[null,""]
[null,""]
[null,""]
[null,""]
[null,""]
[null,""]
[null,""]
[null,{"$f":"IF(C1668=\"\",\"\",B1667+1)","v":""}]
[null,""]
[null,""]
[null,""]
[null,""]
[null,""]
[null,""]
[null,""]
[null,""]
[null,""]
[null,""]
[null,""]
[null,""]
[null,""]
[null,""]
[null,""]
[null,""]
[null,""]
[null,""]
[null,""]
[null,""]
[null,""]
[null,""]
[null,""]
[null,""]
[null,""]
[null,""]
[null,""]
[null,""]
[null,""]
[null,""]
[null,""]
[null,""]
[null,""]
[null,""]
[null,""]
[null,""]
[null,""]
[null,""]
[null,""]
[null,""]
[null,""]
[null,""]
[null,""]
[null,""]
[null,""]
[null,""]
[null,""]
[null,""]
[null,""]
[null,""]
[null,""]
[null,""]
[null,""]
[null,""]
[null,""]
[null,""]
[null,""]
[null,""]
[null,""]
[null,""]
[null,""]
[null,""]
[null,""]
[null,{"$f":"IF(C1732=\"\",\"\",B1731+1)","v":""}]
[null,""]
[null,""]
[null,""]
[null,""]
[null,""]
[null,""]
[null,""]
[null,""]
[null,""]
[null,""]
[null,""]
[null,""]
[null,""]
[null,""]
[null,""]
[null,""]
[null,""]
[null,""]
[null,""]
[null,""]
[null,""]
[null,""]
[null,""]
[null,""]
[null,""]
[null,""]
[null,""]
[null,""]
[null,""]
[null,""]
[null,""]
[null,""]
[null,""]
[null,""]
[null,""]
[null,""]
[null,""]
[null,""]
[null,""]
[null,""]
[null,""]
[null,""]
[null,""]
[null,""]
[null,""]
[null,""]
[null,""]
[null,""]
[null,""]
[null,""]
[null,""]
[null,""]
[null,""]
[null,""]
[null,""]
[null,""]
[null,""]
[null,""]
[null,""]
[null,""]
[null,""]
[null,""]
[null,""]
[null,{"$f":"IF(C1796=\"\",\"\",B1795+1)","v":""}]
[null,""]
[null,""]
[null,""]
[null,""]
[null,""]
[null,""]
[null,""]
[null,""]
[null,""]
[null,""]
[null,""]
[null,""]
[null,""]
[null,""]
[null,""]
[null,""]
[null,""]
[null,""]
[null,""]
[null,""]
[null,""]
[null,""]
[null,""]
[null,""]
[null,""]
[null,""]
[null,""]
[null,""]
[null,""]
[null,""]
[null,""]
[null,""]
[null,""]
[null,""]
[null,""]
[null,""]
[null,""]
[null,""]
[null,""]
[null,""]
[null,""]
[null,""]
[null,""]
[null,""]
[null,""]
[null,""]
[null,""]
[null,""]
[null,""]
[null,""]
[null,""]
[null,""]
[null,""]
[null,""]
[null,""]
[null,""]
[null,""]
[null,""]
[null,""]
[null,""]
[null,""]
[null,""]
[null,""]
[null,{"$f":"IF(C1860=\"\",\"\",B1859+1)","v":""}]
[null,""]
[null,""]
[null,""]
[null,""]
[null,""]
[null,""]
[null,""]
[null,""]
[null,""]
[null,""]
[null,""]
[null,""]
[null,""]
[null,""]
[null,""]
[null,""]
[null,""]
[null,""]
[null,""]
[null,""]
[null,""]
[null,""]
[null,""]
[null,""]
[null,""]
[null,""]
[null,""]
[null,""]
[null,""]
[null,""]
[null,""]
[null,""]
[null,""]
[null,""]
[null,""]
[null,""]
[null,""]
[null,""]
[null,""]
[null,""]
[null,""]
[null,""]
[null,""]
[null,""]
[null,""]
[null,""]
[null,""]
[null,""]
[null,""]
[null,""]
[null,""]
[null,""]
[null,""]
[null,""]
[null,""]
[null,""]
[null,""]
[null,""]
[null,""]
[null,""]
[null,""]
[null,""]
[null,""]
[null,{"$f":"IF(C1924=\"\",\"\",B1923+1)","v":""}]
[null,""]
[null,""]
[null,""]
[null,""]
[null,""]
[null,""]
[null,""]
[null,""]
[null,""]
[null,""]
[null,""]
[null,""]
[null,""]
[null,""]
[null,""]
[null,""]
[null,""]
[null,""]
[null,""]
[null,""]
[null,""]
[null,""]
[null,""]
[null,""]
[null,""]
[null,""]
[null,""]
[null,""]
[null,""]
[null,""]
[null,""]
[null,""]
[null,""]
[null,""]
[null,""]
[null,""]
[null,""]
[null,""]
[null,""]
[null,""]
[null,""]
[null,""]
[null,""]
[null,""]
[null,""]
[null,""]
[null,""]
[null,""]
[null,""]
[null,""]
[null,""]
[null,""]
[null,""]
[null,""]
[null,""]
[null,""]
[null,""]
[null,""]
[null,""]
[null,""]
[null,""]
[null,""]
[null,""]
[null,{"$f":"IF(C1988=\"\",\"\",B1987+1)","v":""}]
[null,""]
[null,""]
[null,""]
[null,""]
[null,""]
[null,""]
[null,""]
[null,""]
[null,""]
[null,""]
[null,""]
[null,""]
[null,""]
[null,""]
[null,""]
[null,""]
[null,""]
[null,""]
[null,""]
[null,""]
[null,""]
[null,""]
[null,""]
[null,""]
[null,""]
[null,""]
[null,""]
[null,""]
[null,""]
[null,""]
[null,""]
[null,""]
[null,""]
[null,""]
[null,""]
[null,""]
[null,""]
[null,""]
[null,""]
[null,""]
[null,""]
[null,""]
[null,""]
[null,""]
[null,""]
[null,""]
[null,""]
[null,""]
[null,""]
[null,""]
[null,""]
[null,""]
[null,""]
[null,""]
[null,""]
[null,""]
[null,""]
[null,""]
[null,""]
[null,""]
[null,""]
[null,""]
[null,""]
[null,{"$f":"IF(C2052=\"\",\"\",B2051+1)","v":""}]
[null,""]
[null,""]
[null,""]
[null,""]
[null,""]
[null,""]
[null,""]
[null,""]
[null,""]
[null,""]
[null,""]
[null,""]
[null,""]
[null,""]
[null,""]
[null,""]
[null,""]
[null,""]
[null,""]
[null,""]
[null,""]
[null,""]
[null,""]
[null,""]
[null,""]
[null,""]
[null,""]
[null,""]
[null,""]
[null,""]
[null,""]
[null,""]
[null,""]
[null,""]
[null,""]
[null,""]
[null,""]
[null,""]
[null,""]
[null,""]
[null,""]
[null,""]
[null,""]
[null,""]
[null,""]
[null,""]
[null,""]
[null,""]
[null,""]
[null,""]
[null,""]
[null,""]
[null,""]
[null,""]
[null,""]
[null,""]
[null,""]
[null,""]
[null,""]
[null,""]
[null,""]
[null,""]
[null,""]
[null,{"$f":"IF(C2116=\"\",\"\",B2115+1)","v":""}]
[null,""]
[null,""]
[null,""]
[null,""]
[null,""]
[null,""]
[null,""]
[null,""]
[null,""]
[null,""]
[null,""]
[null,""]
[null,""]
[null,""]
[null,""]
[null,""]
[null,""]
[null,""]
[null,""]
[null,""]
[null,""]
[null,""]
[null,""]
[null,""]
[null,""]
[null,""]
[null,""]
[null,""]
[null,""]
[null,""]
[null,""]
[null,""]
[null,""]
[null,""]
[null,""]
[null,""]
[null,""]
[null,""]
[null,""]
[null,""]
[null,""]
[null,""]
[null,""]
[null,""]
[null,""]
[null,""]
[null,""]
[null,""]
[null,""]
[null,""]
[null,""]
[null,""]
[null,""]
[null,""]
[null,""]
[null,""]
[null,""]
[null,""]
[null,""]
[null,""]
[null,""]
[null,""]
[null,""]
[null,{"$f":"IF(C2180=\"\",\"\",B2179+1)","v":""}]
[null,""]
[null,""]
[null,""]
[null,""]
[null,""]
[null,""]
[null,""]
[null,""]
[null,""]
[null,""]
[null,""]
[null,""]
[null,""]
[null,""]
[null,""]
[null,""]
[null,""]
[null,""]
[null,""]
[null,""]
[null,""]
[null,""]
[null,""]
[null,""]
[null,""]
[null,""]
[null,""]
[null,""]
[null,""]
[null,""]
[null,""]
[null,""]
[null,""]
[null,""]
[null,""]
[null,""]
[null,""]
[null,""]
[null,""]
[null,""]
[null,""]
[null,""]
[null,""]
[null,""]
[null,""]
[null,""]
[null,""]
[null,""]
[null,""]
[null,""]
[null,""]
[null,""]
[null,""]
[null,""]
[null,""]
[null,""]
[null,""]
[null,""]
[null,""]
[null,""]
[null,""]
[null,""]
[null,""]
[null,{"$f":"IF(C2244=\"\",\"\",B2243+1)","v":""}]
[null,""]
[null,""]
[null,""]
[null,""]
[null,""]
[null,""]
[null,""]
[null,""]
[null,""]
[null,""]
[null,""]
[null,""]
[null,""]
[null,""]
[null,""]
[null,""]
[null,""]
[null,""]
[null,""]
[null,""]
[null,""]
[null,""]
[null,""]
[null,""]
[null,""]
[null,""]
[null,""]
[null,""]
[null,""]
[null,""]
[null,""]
[null,""]
[null,""]
[null,""]
[null,""]
[null,""]
[null,""]
[null,""]
[null,""]
[null,""]
[null,""]
[null,""]
[null,""]
[null,""]
[null,""]
[null,""]
[null,""]
[null,""]
[null,""]
[null,""]
[null,""]
[null,""]
[null,""]
[null,""]
[null,""]
[null,""]
[null,""]
[null,""]
[null,""]
[null,""]
[null,""]
[null,""]
[null,""]
[null,{"$f":"IF(C2308=\"\",\"\",B2307+1)","v":""}]
[null,""]
[null,""]
[null,""]
[null,""]
[null,""]
[null,""]
[null,""]
[null,""]
[null,""]
[null,""]
[null,""]
[null,""]
[null,""]
[null,""]
[null,""]
[null,""]
[null,""]
[null,""]
[null,""]
[null,""]
[null,""]
[null,""]
[null,""]
[null,""]
[null,""]
[null,""]
[null,""]
[null,""]
[null,""]
[null,""]
[null,""]
[null,""]
[null,""]
[null,""]
[null,""]
[null,""]
[null,""]
[null,""]
[null,""]
[null,""]
[null,""]
[null,""]
[null,""]
[null,""]
[null,""]
[null,""]
[null,""]
[null,""]
[null,""]
[null,""]
[null,""]
[null,""]
[null,""]
[null,""]
[null,""]
[null,""]
[null,""]
[null,""]
[null,""]
[null,""]
[null,""]
[null,""]
[null,""]
[null,{"$f":"IF(C2372=\"\",\"\",B2371+1)","v":""}]
[null,""]
[null,""]
[null,""]
[null,""]
[null,""]
[null,""]
[null,""]
[null,""]
[null,""]
[null,""]
[null,""]
[null,""]
[null,""]
[null,""]
[null,""]
[null,""]
[null,""]
[null,""]
[null,""]
[null,""]
[null,""]
[null,""]
[null,""]
[null,""]
[null,""]
[null,""]
[null,""]
[null,""]
[null,""]
[null,""]
[null,""]
[null,""]
[null,""]
[null,""]
[null,""]
[null,""]
[null,""]
[null,""]
[null,""]
[null,""]
[null,""]
[null,""]
[null,""]
[null,""]
[null,""]
[null,""]
[null,""]
[null,""]
[null,""]
[null,""]
[null,""]
[null,""]
[null,""]
[null,""]
[null,""]
[null,""]
[null,""]
[null,""]
[null,""]
[null,""]
[null,""]
[null,""]
[null,""]
[null,{"$f":"IF(C2436=\"\",\"\",B2435+1)","v":""}]
[null,""]
[null,""]
[null,""]
[null,""]
[null,""]
[null,""]
[null,""]
[null,""]
[null,""]
[null,""]
[null,""]
[null,""]
[null,""]
[null,""]
[null,""]
[null,""]
[null,""]
[null,""]
[null,""]
[null,""]
[null,""]
[null,""]
[null,""]
[null,""]
[null,""]
[null,""]
[null,""]
[null,""]
[null,""]
[null,""]
[null,""]
[null,""]
[null,""]
[null,""]
[null,""]
[null,""]
[null,""]
[null,""]
[null,""]
[null,""]
[null,""]
[null,""]
[null,""]
[null,""]
[null,""]
[null,""]
[null,""]
[null,""]
[null,""]
[null,""]
[null,""]
[null,""]
[null,""]
[null,""]
[null,""]
[null,""]
[null,""]
[null,""]
[null,""]
[null,""]
[null,""]
[null,""]
[null,""]
[null,{"$f":"IF(C2500=\"\",\"\",B2499+1)","v":""}]
[null,""]
[null,""]
[null,""]
[null,""]
[null,""]
[null,""]
[null,""]
[null,""]
[null,""]
[null,""]
[null,""]
[null,""]
[null,""]
[null,""]
[null,""]
[null,""]
[null,""]
[null,""]
[null,""]
[null,""]
[null,""]
[null,""]
[null,""]
[null,""]
[null,""]
[null,""]
[null,""]
[null,""]
[null,""]
[null,""]
[null,""]
[null,""]
[null,""]
[null,""]
[null,""]
[null,""]
[null,""]
[null,""]
[null,""]
[null,""]
[null,""]
[null,""]
[null,""]
[null,""]
[null,""]
[null,""]
[null,null,null,null,"Doppenberg","Nicky"]

{"sheet":"Maandoverzicht","index":4,"n_rows":19,"n_cols":21,"rows_kept":19,"cut":false,"hidden":false,"merged":[[9,3,10,10],[9,2,10,2],[6,2,7,10]]}
[null,null,null,null,null,null,null,null,null,null,null,null,null,null,null,null,null,null,null,1,"januari"]
[null,null,null,null,null,null,null,null,null,null,null,null,null,null,null,null,null,null,null,2,"februari"]
[null,null,null,null,null,null,null,null,null,null,null,null,null,null,null,null,null,null,null,3,"maart"]
[null,null,null,null,null,null,null,null,null,null,null,null,null,null,null,null,null,null,null,4,"april"]
[null,null,null,null,null,null,null,null,null,null,null,null,null,null,null,null,null,null,null,5,"mei"]
[null,null,null,null,null,null,null,null,null,null,null,null,null,null,null,null,null,null,null,6,"juni"]
[null,null,{"$f":"IF(Basisgeg.!C7=\"\",\"\",CONCATENATE(Boekingslijst!B1,\" \",Boekingslijst!E3))","v":""}]
[null,null,null,null,null,null,null,null,null,null,null,null,null,null,null,null,null,null,null,7,"juli"]
[null,null,null,null,null,null,null,null,null,null,null,null,null,null,null,null,null,null,null,8,"augustus"]
[null,null,{"$f":"TODAY()","v":"2023-06-30"},"BTW maandoverzicht",null,null,null,null,null,null,null,null,null,null,null,null,null,null,null,9,"september"]
[null,null,null,null,null,null,null,null,null,null,null,null,null,null,null,null,null,null,null,10,"oktober"]
[null,null,null,null,null,null,null,null,null,null,null,null,null,null,null,null,null,null,null,11,"november"]
[null,null,null,null,null,null,null,null,null,null,null,null,null,null,null,null,null,null,null,12,"december"]
[null,null,"Maand",{"$f":"MONTH(C10)","v":6},{"$f":"U17","v":"juni"}]
[]
[null,null,"Inkomsten bruto",null,{"$f":"SUM(zmndin)","v":0},null,"Uitgaven bruto",{"$f":"SUM(Zmnduit)","v":0},null,"Winst/verlies bruto",{"$f":"+E16-H16","v":0}]
[null,null,"Omzetbelasting hoog",null,{"$f":"SUM(Zmndbtwhg)","v":0},null,"BTW voorheffing",{"$f":"SUM(Zmndvhef)","v":0},null,"BTW betalen/ontvangen",{"$f":"+E17+E18-H17","v":0},null,null,null,null,null,null,null,null,{"$f":"D14","v":6},{"$f":"VLOOKUP(T17,T1:U13,2)","v":"juni"}]
[null,null,"Omzetbelasting laag",null,{"$f":"SUM(Zmndbtwlg)","v":0}]
[null,null,"Netto inkomsten",null,{"$f":"+E16-(E17+E18)","v":0},null,"Uitgaven netto",{"$f":"+H16-H17","v":0},null,"Winst/verlies netto",{"$f":"+E19-H19","v":0}]

{"sheet":"Jaaroverzicht","index":5,"n_rows":32,"n_cols":11,"rows_kept":32,"cut":false,"hidden":false,"merged":[[9,2,10,10],[6,2,7,10],[14,8,14,9],[19,5,19,6],[19,2,19,3],[19,8,19,10],[16,8,16,9],[15,8,15,9]]}
[]
[]
[]
[]
[]
[]
[null,null,{"$f":"IF(Basisgeg.!C7=\"\",\"\",CONCATENATE(Boekingslijst!B1,\" \",Boekingslijst!E3))","v":""}]
[]
[]
[null,null,"Winst- / verliesrekening"]
[]
[null,null,"Jaaroverzicht"]
[null,null,{"$f":"TODAY()","v":"2023-06-30"}]
[]
[null,null,"Inkomsten bruto",{"$f":"SUM(In)","v":0},null,"Uitgaven bruto",{"$f":"SUM(Uit)","v":0},null,"Winst/verlies bruto",null,{"$f":"+D15-G15","v":0}]
[null,null,"Omzetbelasting",{"$f":"SUM(Obel)","v":0},null,"BTW",{"$f":"SUM(Vhef)","v":0},null,"BTW betalen/ontvangen",null,{"$f":"+D16-G16","v":0}]
[null,null,"Inkomsten netto",{"$f":"SUM(Inetto)","v":0},null,"Uitgaven netto",{"$f":"SUM(Unetto)","v":0},null,"Winst/verlies netto",null,{"$f":"+D17-G17","v":0}]
[null,null,null,{"$f":"IF(D15-D16<>D17,\"FOUT\",\"\")","v":""},null,null,{"$f":"IF(G15-G16<>G17,\"FOUT\",\"\")","v":""},null,null,null,{"$f":"IF(K17<>D17-G17,\"FOUT\",\"\")","v":""}]
[]
[null,null,"Inkomsten",null,null,"Uitgaven",null,null,"Schatting IB"]
[null,null,{"$f":"IF(Basisgeg.!C13=\"\",\"\",Basisgeg.!C13)","v":""},{"$f":"IF(SUMIF(Catin,C21,In)=0,\"\",SUMIF(Catin,C21,In))","v":""},null,{"$f":"IF(Basisgeg.!C24=\"\",\"\",Basisgeg.!C24)","v":""},{"$f":"IF(SUMIF(Catin,F21,In)=0,\"\",SUMIF(Catin,F21,In))","v":""},null,"Schijf","Inkomen","IB"]
[null,null,{"$f":"IF(Basisgeg.!C14=\"\",\"\",Basisgeg.!C14)","v":""},"",null,{"$f":"IF(Basisgeg.!C25=\"\",\"\",Basisgeg.!C25)","v":""},"",null,"Schijf 1",{"$f":"IF(K17<Basisgeg.!D41,K17,Basisgeg.!D41)","v":0},{"$f":"+J22*Basisgeg.!E41","v":0}]
[null,null,{"$f":"IF(Basisgeg.!C15=\"\",\"\",Basisgeg.!C15)","v":""},"",null,{"$f":"IF(Basisgeg.!C26=\"\",\"\",Basisgeg.!C26)","v":""},"",null,"Schijf 2",{"$f":"IF(K17>=Basisgeg.!C42,K17-J22,\"\")","v":""},{"$f":"IFERROR(J23*Basisgeg.!E42,\"\")","v":""}]
[null,null,{"$f":"IF(Basisgeg.!C16=\"\",\"\",Basisgeg.!C16)","v":""},"",null,{"$f":"IF(Basisgeg.!C27=\"\",\"\",Basisgeg.!C27)","v":""},""]
[null,null,{"$f":"IF(Basisgeg.!C17=\"\",\"\",Basisgeg.!C17)","v":""},"",null,{"$f":"IF(Basisgeg.!C28=\"\",\"\",Basisgeg.!C28)","v":""},""]
[null,null,{"$f":"IF(Basisgeg.!C18=\"\",\"\",Basisgeg.!C18)","v":""},"",null,{"$f":"IF(Basisgeg.!C29=\"\",\"\",Basisgeg.!C29)","v":""},""]
[null,null,{"$f":"IF(Basisgeg.!C19=\"\",\"\",Basisgeg.!C19)","v":""},"",null,{"$f":"IF(Basisgeg.!C30=\"\",\"\",Basisgeg.!C30)","v":""},"",null,"Totaal",{"$f":"SUM(J22:J25)","v":0},{"$f":"SUM(K22:K25)","v":0}]
[null,null,{"$f":"IF(Basisgeg.!C20=\"\",\"\",Basisgeg.!C20)","v":""},"",null,{"$f":"IF(Basisgeg.!C31=\"\",\"\",Basisgeg.!C31)","v":""},""]
[null,null,{"$f":"IF(Basisgeg.!C21=\"\",\"\",Basisgeg.!C21)","v":""},"",null,{"$f":"IF(Basisgeg.!C32=\"\",\"\",Basisgeg.!C32)","v":""},""]
[null,null,{"$f":"IF(Basisgeg.!C22=\"\",\"\",Basisgeg.!C22)","v":""},"",null,{"$f":"IF(Basisgeg.!C33=\"\",\"\",Basisgeg.!C33)","v":""},""]
[null,null,"Totaal",{"$f":"SUM(D21:D30)","v":0},null,"Totaal",{"$f":"SUM(G21:G30)","v":0}]
[null,null,null,{"$f":"IF(D31>D15,\"FOUT\",\"\")","v":""},null,null,{"$f":"IF(G31>G15,\"FOUT\",\"\")","v":""}]

{"sheet":"Factuur","index":6,"n_rows":93,"n_cols":11,"rows_kept":93,"cut":false,"hidden":false,"merged":[]}
[]
[]
[]
[]
[null,null,null,null,null,null,""]
[null,null,null,null,null,null,""]
[null,null,null,null,null,null,""]
[]
[null,"Bedrijfsnaam",null,null,null,null,null,null,null,null,"Logo, bedrijfsnaam en NAW gegevens"]
[null,null,null,null,null,null,null,null,null,null,"staan in frameblokken die gewijzigd"]
[null,"Adres",null,null,null,null,null,null,null,null,"kunnen worden. Verder niets "]
[null,"Postcode Plaats",null,null,null,null,null,null,null,null,"wijzigen. Veel velden worden via macro's"]
[null,null,null,null,null,null,null,null,null,null,"ingevuld!"]
[null,"Tel."]
[null,"Website"]
[null,null,null,null,null,null,"Factuur"]
[]
[null,null,"Factuurnummer",null,null,null,"Datum"]
[]
[]
[]
[null,null,"Omschrijving",null,null,null,null,null,"Bedrag"]
[]
[]
[null,null,{"$f":"IF(C24=\"Gevoelstherapie\",\"Tiendaagse sessies\",\"\")","v":""}]
[null,null,{"$f":"IF(C24=\"Gevoelstherapie\",\"Begeleiding gedurende de verwerkings- en aanpassingsperiode\",\"\")","v":""}]
[null,null,{"$f":"IF(C24=\"Gevoelstherapie\",\"o\",\"\")","v":""},{"$f":"IF(C24=\"Gevoelstherapie\",\"Telefonisch consult op vaste dagen en naar behoefte\",\"\")","v":""}]
[null,null,{"$f":"IF(C24=\"Gevoelstherapie\",\"o\",\"\")","v":""},{"$f":"IF(C24=\"Gevoelstherapie\",\"Terugkomdagen op vaste momenten en verder naar behoefte\",\"\")","v":""}]
[null,null,{"$f":"IF(C24=\"Gevoelstherapie\",\"Het geheel ca. 30 tot 35 uur\",\"\")","v":""}]
[]
[]
[]
[]
[]
[]
[null,null,null,null,null,null,"Totaal"]
[null,null,null,null,null,null,"BTW",null,""]
[null,null,null,null,null,null,"Eindtotaal",null,{"$f":"IFERROR(I37+I36,\"\")","v":""}]
[]
[]
[]
[]
[]
[]
[]
[]
[]
[]
[]
[]
[]
[]
[null,null,null,{"$f":"CONCATENATE(\"Gaarne binnen 14 dagen overmaken op rekeningnummer \",Basisgeg.!C9)","v":"Gaarne binnen 14 dagen overmaken op rekeningnummer "}]
[null,null,null,{"$f":"CONCATENATE(\"ten name van\",\" \",Basisgeg.!C10)","v":"ten name van "}]
[]
[]
[null,null,null,{"$f":"CONCATENATE(\"Fiscaal nummer\",\" \",Basisgeg.!C11)","v":"Fiscaal nummer "}]
[]
[]
[]
[]
[]
[]
[]
[]
[]
[]
[]
[]
[]
[]
[]
[]
[]
[]
[]
[]
[]
[]
[]
[]
[]
[]
[]
[]
[]
[]
["Gevoelstherapie"]
[{"$f":"IF(A88=\"Gevoelstherapie\",\"Tiendaagse sessies\",\"\")","v":"Tiendaagse sessies"}]
[{"$f":"IF(A88=\"Gevoelstherapie\",\"Begeleiding gedurende de verwerkings- en aanpassingsperiode\",\"\")","v":"Begeleiding gedurende de verwerkings- en aanpassingsperiode"}]
[{"$f":"IF(A88=\"Gevoelstherapie\",\"o\",\"\")","v":"o"},{"$f":"IF(A88=\"Gevoelstherapie\",\"Telefonisch consult op vaste dagen en naar behoefte\",\"\")","v":"Telefonisch consult op vaste dagen en naar behoefte"}]
[{"$f":"IF(A88=\"Gevoelstherapie\",\"o\",\"\")","v":"o"},{"$f":"IF(A88=\"Gevoelstherapie\",\"Terugkomdagen op vaste momenten en verder naar behoefte\",\"\")","v":"Terugkomdagen op vaste momenten en verder naar behoefte"}]
[{"$f":"IF(A88=\"Gevoelstherapie\",\"Het geheel ca. 30 tot 35 uur\",\"\")","v":"Het geheel ca. 30 tot 35 uur"}]

{"sheet":"Afdruk boekingen","index":7,"n_rows":1018,"n_cols":15,"rows_kept":1018,"cut":false,"hidden":false,"merged":[[18,4,18,5]]}
["!!",null,{"$f":"CONCATENATE(Boekingslijst!B1,\" \",Boekingslijst!E3)","v":" "},null,null,null,"Datum aanmaak",{"$f":"TODAY()","v":"2023-06-30"}]
[]
[null,null,"Maandnummer",1,"tot en met",12]
[]
["Nr.","Datum","Omschrijving","Soort ink.","Soort uitg.","BTW %","Inkomsten","Uitgaven","Valid","Omzetbel.","Voorhef.","Ink. netto","Uitg. netto","Mnd"]
[null,null,null,null,null,null,null,null,null,null,null,null,null,{"$f":"D3","v":1},"j"]
[null,null,null,null,null,null,null,null,null,null,null,null,null,{"$f":"IF(AND($F$3>$D$3,N6<$F$3),N6+1,\"x\")","v":2},"f"]
[null,null,null,null,null,null,null,null,null,null,null,null,null,{"$f":"IF(AND($F$3>$D$3,N7<$F$3),N7+1,\"x\")","v":3},"m"]
[null,null,null,null,null,null,null,null,null,null,null,null,null,4,"a"]
[null,null,null,null,null,null,null,null,null,null,null,null,null,5,"m"]
[null,null,null,null,null,null,null,null,null,null,null,null,null,6,"j"]
[null,null,null,null,null,null,null,null,null,null,null,null,null,7,"j"]
[null,null,null,null,null,null,null,null,null,null,null,null,null,8,"a"]
[null,null,null,null,null,null,null,null,null,null,null,null,null,9,"s"]
[null,null,null,null,null,null,null,null,null,null,null,null,null,10,"o"]
[null,null,null,null,null,null,null,null,null,null,null,null,null,11,"n"]
[null,null,null,null,null,null,null,null,null,null,null,null,null,12,"d"]
[]
[null,null,null,null,"TOTALEN",null,{"$f":"SUM(G22:G1000)","v":0},{"$f":"SUM(H22:H1000)","v":0},null,{"$f":"SUM(J22:J1000)","v":0},{"$f":"SUM(K22:K1000)","v":0},{"$f":"SUM(L22:L1000)","v":0},{"$f":"SUM(M22:M1000)","v":0}]
[]
["Nr.","Datum","Omschrijving","Soort ink.","Soort uitg.","BTW %","Inkomsten","Uitgaven","Valid","Omzetbel.","Voorhef.","Ink. netto","Uitg. netto","Mnd"]
[]
[]
[]
[]
[]
[]
[]
[]
[]
[]
[]
[]
[]
[]
[]
[]
[]
[]
[]
[]
[]
[]
[]
[]
[]
[]
[]
[]
[]
[]
[]
[]
[]
[]
[]
[]
[]
[]
[]
[]
[]
[]
[]
[]
[]
[]
[]
[]
[]
[]
[]
[]
[]
[]
[]
[]
[]
[]
[]
[]
[]
[]
[]
[]
[]
[]
[]
[]
[]
[]
[]
[]
[]
[]
[]
[]
[]
[]
[]
[]
[]
[]
[]
[]
[]
[]
[]
[]
[]
[]
[]
[]
[]
[]
[]
[]
[]
[]
[]
[]
[]
[]
[]
[]
[]
[]
[]
[]
[]
[]
[]
[]
[]
[]
[]
[]
[]
[]
[]
[]
[]
[]
[]
[]
[]
[]
[]
[]
[]
[]
[]
[]
[]
[]
[]
[]
[]
[]
[]
[]
[]
[]
[]
[]
[]
[]
[]
[]
[]
[]
[]
[]
[]
[]
[]
[]
[]
[]
[]
[]
[]
[]
[]
[]
[]
[]
[]
[]
[]
[]
[]
[]
[]
[]
[]
[]
[]
[]
[]
[]
[]
[]
[]
[]
[]
[]
[]
[]
[]
[]
[]
[]
[]
[]
[]
[]
[]
[]
[]
[]
[]
[]
[]
[]
[]
[]
[]
[]
[]
[]
[]
[]
[]
[]
[]
[]
[]
[]
[]
[]
[]
[]
[]
[]
[]
[]
[]
[]
[]
[]
[]
[]
[]
[]
[]
[]
[]
[]
[]
[]
[]
[]
[]
[]
[]
[]
[]
[]
[]
[]
[]
[]
[]
[]
[]
[]
[]
[]
[]
[]
[]
[]
[]
[]
[]
[]
[]
[]
[]
[]
[]
[]
[]
[]
[]
[]
[]
[]
[]
[]
[]
[]
[]
[]
[]
[]
[]
[]
[]
[]
[]
[]
[]
[]
[]
[]
[]
[]
[]
[]
[]
[]
[]
[]
[]
[]
[]
[]
[]
[]
[]
[]
[]
[]
[]
[]
[]
[]
[]
[]
[]
[]
[]
[]
[]
[]
[]
[]
[]
[]
[]
[]
[]
[]
[]
[]
[]
[]
[]
[]
[]
[]
[]
[]
[]
[]
[]
[]
[]
[]
[]
[]
[]
[]
[]
[]
[]
[]
[]
[]
[]
[]
[]
[]
[]
[]
[]
[]
[]
[]
[]
[]
[]
[]
[]
[]
[]
[]
[]
[]
[]
[]
[]
[]
[]
[]
[]
[]
[]
[]
[]
[]
[]
[]
[]
[]
[]
[]
[]
[]
[]
[]
[]
[]
[]
[]
[]
[]
[]
[]
[]
[]
[]
[]
[]
[]
[]
[]
[]
[]
[]
[]
[]
[]
[]
[]
[]
[]
[]
[]
[]
[]
[]
[]
[]
[]
[]
[]
[]
[]
[]
[]
[]
[]
[]
[]
[]
[]
[]
[]
[]
[]
[]
[]
[]
[]
[]
[]
[]
[]
[]
[]
[]
[]
[]
[]
[]
[]
[]
[]
[]
[]
[]
[]
[]
[]
[]
[]
[]
[]
[]
[]
[]
[]
[]
[]
[]
[]
[]
[]
[]
[]
[]
[]
[]
[]
[]
[]
[]
[]
[]
[]
[]
[]
[]
[]
[]
[]
[]
[]
[]
[]
[]
[]
[]
[]
[]
[]
[]
[]
[]
[]
[]
[]
[]
[]
[]
[]
[]
[]
[]
[]
[]
[]
[]
[]
[]
[]
[]
[]
[]
[]
[]
[]
[]
[]
[]
[]
[]
[]
[]
[]
[]
[]
[]
[]
[]
[]
[]
[]
[]
[]
[]
[]
[]
[]
[]
[]
[]
[]
[]
[]
[]
[]
[]
[]
[]
[]
[]
[]
[]
[]
[]
[]
[]
[]
[]
[]
[]
[]
[]
[]
[]
[]
[]
[]
[]
[]
[]
[]
[]
[]
[]
[]
[]
[]
[]
[]
[]
[]
[]
[]
[]
[]
[]
[]
[]
[]
[]
[]
[]
[]
[]
[]
[]
[]
[]
[]
[]
[]
[]
[]
[]
[]
[]
[]
[]
[]
[]
[]
[]
[]
[]
[]
[]
[]
[]
[]
[]
[]
[]
[]
[]
[]
[]
[]
[]
[]
[]
[]
[]
[]
[]
[]
[]
[]
[]
[]
[]
[]
[]
[]
[]
[]
[]
[]
[]
[]
[]
[]
[]
[]
[]
[]
[]
[]
[]
[]
[]
[]
[]
[]
[]
[]
[]
[]
[]
[]
[]
[]
[]
[]
[]
[]
[]
[]
[]
[]
[]
[]
[]
[]
[]
[]
[]
[]
[]
[]
[]
[]
[]
[]
[]
[]
[]
[]
[]
[]
[]
[]
[]
[]
[]
[]
[]
[]
[]
[]
[]
[]
[]
[]
[]
[]
[]
[]
[]
[]
[]
[]
[]
[]
[]
[]
[]
[]
[]
[]
[]
[]
[]
[]
[]
[]
[]
[]
[]
[]
[]
[]
[]
[]
[]
[]
[]
[]
[]
[]
[]
[]
[]
[]
[]
[]
[]
[]
[]
[]
[]
[]
[]
[]
[]
[]
[]
[]
[]
[]
[]
[]
[]
[]
[]
[]
[]
[]
[]
[]
[]
[]
[]
[]
[]
[]
[]
[]
[]
[]
[]
[]
[]
[]
[]
[]
[]
[]
[]
[]
[]
[]
[]
[]
[]
[]
[]
[]
[]
[]
[]
[]
[]
[]
[]
[]
[]
[]
[]
[]
[]
[]
[]
[]
[]
[]
[]
[]
[]
[]
[]
[]
[]
[]
[]
[]
[]
[]
[]
[]
[]
[]
[]
[]
[]
[]
[]
[]
[]
[]
[]
[]
[]
[]
[]
[]
[]
[]
[]
[]
[]
[]
[]
[]
[]
[]
[]
[]
[]
[]
[]
[]
[]
[]
[]
[]
[]
[]
[]
[]
[]
[]
[]
[]
[]
[]
[]
[]
[]
[]
[]
[]
[]
[]
[]
[]
[]
[]
[]
[]
[]
[]
[]
[]
[]
[]
[]
[]
[]
[]
[]
[]
[]
[]
[]
[]
[]
[]
[]
[]
[]
[]
[]
[]
[]
[]
[]
[]
[]
[]
[]
[]
[]
[]
[]
[]
[]
[]
[]
[]
[]
[]
[]
[]
[]
[]
[]
[]
[]
[]
[]
["",null,null,null,null,null,null,null,"","","","","",""]
["",null,null,null,null,null,null,null,"","","","","",""]
["",null,null,null,null,null,null,null,"","","","","",""]
["",null,null,null,null,null,null,null,"","","","","",""]
["",null,null,null,null,null,null,null,"","","","","",""]
["",null,null,null,null,null,null,null,"","","","","",""]
["",null,null,null,null,null,null,null,"","","","","",""]
["",null,null,null,null,null,null,null,"","","","","",""]
["",null,null,null,null,null,null,null,"","","","","",""]
["",null,null,null,null,null,null,null,"","","","","",""]
["",null,null,null,null,null,null,null,"","","","","",""]
["",null,null,null,null,null,null,null,"","","","","",""]
["",null,null,null,null,null,null,null,"","","","","",""]
["",null,null,null,null,null,null,null,"","","","","",""]
["",null,null,null,null,null,null,null,"","","","","",""]
["",null,null,null,null,null,null,null,"","","","","",""]
["",null,null,null,null,null,null,null,"","","","","",""]
["",null,null,null,null,null,null,null,"","","","","",""]

{"sheet":"Factuurlijst","index":8,"n_rows":13,"n_cols":11,"rows_kept":13,"cut":false,"hidden":false,"merged":[]}
["Volgnr","Factuurnr","Datum","Omschrijving","Bedrag","btw","Totaal","Naam","Adres","Pc plaats","Categorie"]
[{"$f":"+A3+1","v":1},{"$f":"IF(A2=\"\",\"\",IF(C2=\"\",\"\",Boekingslijst!$E$3*100000+MONTH(C2)*1000+A2))","v":{"$error":"#VALUE!"}},"2023-06-30",null,null,"","","","",""]
[{"$f":"+A4+1","v":0},{"$f":"IF(A3=\"\",\"\",IF(C3=\"\",\"\",Boekingslijst!$E$3*100000+MONTH(C3)*1000+A3))","v":""},null,"DEZE RIJEN NIET VERWIJDEREN"]
[-1,null,null,"DEZE RIJEN NIET VERWIJDEREN"]
[]
[]
[]
[]
[]
[]
[null,"In dit werkblad voorzichtig wijzigen. Het wissen van een factuur kan door de hele regel te verwijderen (NIET WISSEN, MAAR VERWIJDEREN - rij selecteren, rechtermuisknop, verwijderen). "]
[]
[null,"De facturen worden in volgorde van boeken weergegeven met de meest recente bovenaan. De geelgemarkeerde regels NIET wissen of verwijderen. "]

{"sheet":"Buffer","index":9,"n_rows":6,"n_cols":9,"rows_kept":6,"cut":false,"hidden":false,"merged":[]}
[{"$error":"#VALUE!"},"2023-06-30",null,null,"","","","",""]
[]
[]
[]
[]
[{"$f":"B1","v":"2023-06-30"},{"$f":"CONCATENATE(A1,\" \",G1)","v":{"$error":"#VALUE!"}},{"$f":"J1","v":0},null,{"$f":"+E1/D1","v":{"$error":"#VALUE!"}},{"$f":"F1","v":""}]